Workbook

Sheet Kamper
A1: Bedriftskamper 20/21
C2: =COUNTIF(Kamper!$E$19,"S")+COUNTIF(Kamper!$AC$37,"S")+COUNTIF(Kamper!$E$55,"S")+COUNTIF(Kamper!$E$73,"S")+COUNTIF(Kamper!$E$91,"S")+COUNTIF(Kamper!$E$109,"S")+COUNTIF(Kamper!E127,"S")+COUNTIF(Kamper!E145,"S")+COUNTIF(Kamper!E163,"S")+COUNTIF(Kamper!E181,"S")+COUNTIF(Kamper!E199,"S")+COUNTIF(Kamper!E217,"S")+COUNTIF(Kamper!E235,"S")+COUNTIF(Kamper!E253,"S")+COUNTIF(Kamper!E271,"S")+COUNTIF(Kamper!E289,"S")+COUNTIF(Kamper!E307,"S")+COUNTIF(Kamper!K325,"S") -> 9
A3: Runde 1
A4: Kamp 1 | M4: Kamp 2 | Y4: Kamp 3 | AK4: Kamp 4 | AW4: Kamp 5
A5: Hjemmelag: | B5: Normo slipestasjon | G5: Bortelag: | H5: Glamox | M5: Hjemmelag: | N5: Molde Kommune | S5: Bortelag: | T5: Rørlegger 1 | Y5: Hjemmelag: | Z5: TietoEVRY | AE5: Bortelag: | AF5: Danielsen å I | AK5: Hjemmelag: | AL5: Panorama Turkeys | AQ5: Bortelag: | AR5: Istad Strikers | AW5: Hjemmelag: | AX5: Ytre Bowlinglag | BC5: Bortelag: | BD5: Team Fuglset
A7: Navn på spiller | B7: Omgang 1 | C7: Omgang 2 | D7: Omgang 3 | E7: Sum | G7: Navn på spiller | H7: Omgang 1 | I7: Omgang 2 | J7: Omgang 3 | K7: Sum | M7: Navn på spiller | N7: Omgang 1 | O7: Omgang 2 | P7: Omgang 3 | Q7: Sum | S7: Navn på spiller | T7: Omgang 1 | U7: Omgang 2 | V7: Omgang 3 | W7: Sum | Y7: Navn på spiller | Z7: Omgang 1 | AA7: Omgang 2 | AB7: Omgang 3 | AC7: Sum | AE7: Navn på spiller | AF7: Omgang 1 | AG7: Omgang 2 | AH7: Omgang 3 | AI7: Sum | AK7: Navn på spiller | AL7: Omgang 1 | AM7: Omgang 2 | AN7: Omgang 3 | AO7: Sum | AQ7: Navn på spiller | AR7: Omgang 1 | AS7: Omgang 2 | AT7: Omgang 3 | AU7: Sum | AW7: Navn på spiller | AX7: Omgang 1 | AY7: Omgang 2 | AZ7: Omgang 3 | BA7: Sum | BC7: Navn på spiller | BD7: Omgang 1 | BE7: Omgang 2 | BF7: Omgang 3 | BG7: Sum
A8: =IF(B5="Normo Slipestasjon",'Tellere og summer'!$A$3,IF(B5="Glamox",'Tellere og summer'!$A$13,IF(B5="Molde Kommune",'Tellere og summer'!$A$23,IF(B5="Rørlegger 1",'Tellere og summer'!$A$33,IF(B5="TietoEVRY",'Tellere og summer'!$A$43,IF(B5="Danielsen å i",'Tellere og summer'!$A$53,IF(B5="Panorama Turkeys",'Tellere og summer'!$A$63,IF(B5="Team Fuglset",'Tellere og summer'!$A$73,IF(B5="Istad Strikers",'Tellere og summer'!$A$83,IF(B5="Ytre Bowlinglag",'Tellere og summer'!$A$93,"NA")))))))))) -> Asbjørn Toft | B8: 158 | C8: 154 | D8: 188 | E8: =SUM(B8:D8) -> 500 | G8: =IF(H5="Normo Slipestasjon",'Tellere og summer'!$A$3,IF(H5="Glamox",'Tellere og summer'!$A$13,IF(H5="Molde Kommune",'Tellere og summer'!$A$23,IF(H5="Rørlegger 1",'Tellere og summer'!$A$33,IF(H5="TietoEVRY",'Tellere og summer'!$A$43,IF(H5="Danielsen å i",'Tellere og summer'!$A$53,IF(H5="Panorama Turkeys",'Tellere og summer'!$A$63,IF(H5="Team Fuglset",'Tellere og summer'!$A$73,IF(H5="Istad Strikers",'Tellere og summer'!$A$83,IF(H5="Ytre Bowlinglag",'Tellere og summer'!$A$93,"NA")))))))))) -> Paul Boyle | H8: 156 | I8: 220 | J8: 168 | K8: =SUM(H8:J8) -> 544 | M8: =IF(N5="Normo Slipestasjon",'Tellere og summer'!$A$3,IF(N5="Glamox",'Tellere og summer'!$A$13,IF(N5="Molde Kommune",'Tellere og summer'!$A$23,IF(N5="Rørlegger 1",'Tellere og summer'!$A$33,IF(N5="TietoEVRY",'Tellere og summer'!$A$43,IF(N5="Danielsen å i",'Tellere og summer'!$A$53,IF(N5="Panorama Turkeys",'Tellere og summer'!$A$63,IF(N5="Team Fuglset",'Tellere og summer'!$A$73,IF(N5="Istad Strikers",'Tellere og summer'!$A$83,IF(N5="Ytre Bowlinglag",'Tellere og summer'!$A$93,"NA")))))))))) -> Gerd Norunn Nygård | N8: 123 | O8: 123 | P8: 145 | Q8: =SUM(N8:P8) -> 391 | S8: =IF(T5="Normo Slipestasjon",'Tellere og summer'!$A$3,IF(T5="Glamox",'Tellere og summer'!$A$13,IF(T5="Molde Kommune",'Tellere og summer'!$A$23,IF(T5="Rørlegger 1",'Tellere og summer'!$A$33,IF(T5="TietoEVRY",'Tellere og summer'!$A$43,IF(T5="Danielsen å i",'Tellere og summer'!$A$53,IF(T5="Panorama Turkeys",'Tellere og summer'!$A$63,IF(T5="Team Fuglset",'Tellere og summer'!$A$73,IF(T5="Istad Strikers",'Tellere og summer'!$A$83,IF(T5="Ytre Bowlinglag",'Tellere og summer'!$A$93,"NA")))))))))) -> Arnfinn Lange | T8: 156 | U8: 132 | V8: 127 | W8: =SUM(T8:V8) -> 415 | Y8: =IF(Z5="Normo Slipestasjon",'Tellere og summer'!$A$3,IF(Z5="Glamox",'Tellere og summer'!$A$13,IF(Z5="Molde Kommune",'Tellere og summer'!$A$23,IF(Z5="Rørlegger 1",'Tellere og summer'!$A$33,IF(Z5="TietoEVRY",'Tellere og summer'!$A$43,IF(Z5="Danielsen å i",'Tellere og summer'!$A$53,IF(Z5="Panorama Turkeys",'Tellere og summer'!$A$63,IF(Z5="Team Fuglset",'Tellere og summer'!$A$73,IF(Z5="Istad Strikers",'Tellere og summer'!$A$83,IF(Z5="Ytre Bowlinglag",'Tellere og summer'!$A$93,"NA")))))))))) -> Svein Erik Jenset | AB8: 134 | AC8: =SUM(Z8:AB8) -> 134 | AE8: =IF(AF5="Normo Slipestasjon",'Tellere og summer'!$A$3,IF(AF5="Glamox",'Tellere og summer'!$A$13,IF(AF5="Molde Kommune",'Tellere og summer'!$A$23,IF(AF5="Rørlegger 1",'Tellere og summer'!$A$33,IF(AF5="TietoEVRY",'Tellere og summer'!$A$43,IF(AF5="Danielsen å i",'Tellere og summer'!$A$53,IF(AF5="Panorama Turkeys",'Tellere og summer'!$A$63,IF(AF5="Team Fuglset",'Tellere og summer'!$A$73,IF(AF5="Istad Strikers",'Tellere og summer'!$A$83,IF(AF5="Ytre Bowlinglag",'Tellere og summer'!$A$93,"NA")))))))))) -> Kjell Thorsrudhagen | AF8: 188 | AG8: 146 | AI8: =SUM(AF8:AH8) -> 334 | AK8: =IF(AL5="Normo Slipestasjon",'Tellere og summer'!$A$3,IF(AL5="Glamox",'Tellere og summer'!$A$13,IF(AL5="Molde Kommune",'Tellere og summer'!$A$23,IF(AL5="Rørlegger 1",'Tellere og summer'!$A$33,IF(AL5="TietoEVRY",'Tellere og summer'!$A$43,IF(AL5="Danielsen å i",'Tellere og summer'!$A$53,IF(AL5="Panorama Turkeys",'Tellere og summer'!$A$63,IF(AL5="Team Fuglset",'Tellere og summer'!$A$73,IF(AL5="Istad Strikers",'Tellere og summer'!$A$83,IF(AL5="Ytre Bowlinglag",'Tellere og summer'!$A$93,"NA")))))))))) -> Martin Aarø | AL8: 122 | AM8: 148 | AN8: 149 | AO8: =SUM(AL8:AN8) -> 419 | AQ8: =IF(AR5="Normo Slipestasjon",'Tellere og summer'!$A$3,IF(AR5="Glamox",'Tellere og summer'!$A$13,IF(AR5="Molde Kommune",'Tellere og summer'!$A$23,IF(AR5="Rørlegger 1",'Tellere og summer'!$A$33,IF(AR5="TietoEVRY",'Tellere og summer'!$A$43,IF(AR5="Danielsen å i",'Tellere og summer'!$A$53,IF(AR5="Panorama Turkeys",'Tellere og summer'!$A$63,IF(AR5="Team Fuglset",'Tellere og summer'!$A$73,IF(AR5="Istad Strikers",'Tellere og summer'!$A$83,IF(AR5="Ytre Bowlinglag",'Tellere og summer'!$A$93,"NA")))))))))) -> Arne Ytterhaug | AR8: 119 | AS8: 124 | AT8: 123 | AU8: =SUM(AR8:AT8) -> 366 | AW8: =IF(AX5="Normo Slipestasjon",'Tellere og summer'!$A$3,IF(AX5="Glamox",'Tellere og summer'!$A$13,IF(AX5="Molde Kommune",'Tellere og summer'!$A$23,IF(AX5="Rørlegger 1",'Tellere og summer'!$A$33,IF(AX5="TietoEVRY",'Tellere og summer'!$A$43,IF(AX5="Danielsen å i",'Tellere og summer'!$A$53,IF(AX5="Panorama Turkeys",'Tellere og summer'!$A$63,IF(AX5="Team Fuglset",'Tellere og summer'!$A$73,IF(AX5="Istad Strikers",'Tellere og summer'!$A$83,IF(AX5="Ytre Bowlinglag",'Tellere og summer'!$A$93,"NA")))))))))) -> Amund Vaagen | BA8: =SUM(AX8:AZ8) -> 0 | BC8: =IF(BD5="Normo Slipestasjon",'Tellere og summer'!$A$3,IF(BD5="Glamox",'Tellere og summer'!$A$13,IF(BD5="Molde Kommune",'Tellere og summer'!$A$23,IF(BD5="Rørlegger 1",'Tellere og summer'!$A$33,IF(BD5="TietoEVRY",'Tellere og summer'!$A$43,IF(BD5="Danielsen å i",'Tellere og summer'!$A$53,IF(BD5="Panorama Turkeys",'Tellere og summer'!$A$63,IF(BD5="Team Fuglset",'Tellere og summer'!$A$73,IF(BD5="Istad Strikers",'Tellere og summer'!$A$83,IF(BD5="Ytre Bowlinglag",'Tellere og summer'!$A$93,"NA")))))))))) -> Sten-Morten Kjørsvik | BG8: =SUM(BD8:BF8) -> 0
A9: =IF(B5="Normo Slipestasjon",'Tellere og summer'!$A$4,IF(B5="Glamox",'Tellere og summer'!$A$14,IF(B5="Molde Kommune",'Tellere og summer'!$A$24,IF(B5="Rørlegger 1",'Tellere og summer'!$A$34,IF(B5="TietoEVRY",'Tellere og summer'!$A$44,IF(B5="Danielsen å i",'Tellere og summer'!$A$54,IF(B5="Panorama Turkeys",'Tellere og summer'!$A$64,IF(B5="Team Fuglset",'Tellere og summer'!$A$74,IF(B5="Istad Strikers",'Tellere og summer'!$A$84,IF(B5="Ytre Bowlinglag",'Tellere og summer'!$A$94,"NA")))))))))) -> Tormod Kleppe | B9: 84 | D9: 122 | E9: =SUM(B9:D9) -> 206 | G9: =IF(H5="Normo Slipestasjon",'Tellere og summer'!$A$4,IF(H5="Glamox",'Tellere og summer'!$A$14,IF(H5="Molde Kommune",'Tellere og summer'!$A$24,IF(H5="Rørlegger 1",'Tellere og summer'!$A$34,IF(H5="TietoEVRY",'Tellere og summer'!$A$44,IF(H5="Danielsen å i",'Tellere og summer'!$A$54,IF(H5="Panorama Turkeys",'Tellere og summer'!$A$64,IF(H5="Team Fuglset",'Tellere og summer'!$A$74,IF(H5="Istad Strikers",'Tellere og summer'!$A$84,IF(H5="Ytre Bowlinglag",'Tellere og summer'!$A$94,"NA")))))))))) -> Rikard Nerland | H9: 236 | I9: 227 | J9: 213 | K9: =SUM(H9:J9) -> 676 | M9: =IF(N5="Normo Slipestasjon",'Tellere og summer'!$A$4,IF(N5="Glamox",'Tellere og summer'!$A$14,IF(N5="Molde Kommune",'Tellere og summer'!$A$24,IF(N5="Rørlegger 1",'Tellere og summer'!$A$34,IF(N5="TietoEVRY",'Tellere og summer'!$A$44,IF(N5="Danielsen å i",'Tellere og summer'!$A$54,IF(N5="Panorama Turkeys",'Tellere og summer'!$A$64,IF(N5="Team Fuglset",'Tellere og summer'!$A$74,IF(N5="Istad Strikers",'Tellere og summer'!$A$84,IF(N5="Ytre Bowlinglag",'Tellere og summer'!$A$94,"NA")))))))))) -> Ole Østigård | Q9: =SUM(N9:P9) -> 0 | S9: =IF(T5="Normo Slipestasjon",'Tellere og summer'!$A$4,IF(T5="Glamox",'Tellere og summer'!$A$14,IF(T5="Molde Kommune",'Tellere og summer'!$A$24,IF(T5="Rørlegger 1",'Tellere og summer'!$A$34,IF(T5="TietoEVRY",'Tellere og summer'!$A$44,IF(T5="Danielsen å i",'Tellere og summer'!$A$54,IF(T5="Panorama Turkeys",'Tellere og summer'!$A$64,IF(T5="Team Fuglset",'Tellere og summer'!$A$74,IF(T5="Istad Strikers",'Tellere og summer'!$A$84,IF(T5="Ytre Bowlinglag",'Tellere og summer'!$A$94,"NA")))))))))) -> Billy Williams | W9: =SUM(T9:V9) -> 0 | Y9: =IF(Z5="Normo Slipestasjon",'Tellere og summer'!$A$4,IF(Z5="Glamox",'Tellere og summer'!$A$14,IF(Z5="Molde Kommune",'Tellere og summer'!$A$24,IF(Z5="Rørlegger 1",'Tellere og summer'!$A$34,IF(Z5="TietoEVRY",'Tellere og summer'!$A$44,IF(Z5="Danielsen å i",'Tellere og summer'!$A$54,IF(Z5="Panorama Turkeys",'Tellere og summer'!$A$64,IF(Z5="Team Fuglset",'Tellere og summer'!$A$74,IF(Z5="Istad Strikers",'Tellere og summer'!$A$84,IF(Z5="Ytre Bowlinglag",'Tellere og summer'!$A$94,"NA")))))))))) -> Øystein Lervik | AC9: =SUM(Z9:AB9) -> 0 | AE9: =IF(AF5="Normo Slipestasjon",'Tellere og summer'!$A$4,IF(AF5="Glamox",'Tellere og summer'!$A$14,IF(AF5="Molde Kommune",'Tellere og summer'!$A$24,IF(AF5="Rørlegger 1",'Tellere og summer'!$A$34,IF(AF5="TietoEVRY",'Tellere og summer'!$A$44,IF(AF5="Danielsen å i",'Tellere og summer'!$A$54,IF(AF5="Panorama Turkeys",'Tellere og summer'!$A$64,IF(AF5="Team Fuglset",'Tellere og summer'!$A$74,IF(AF5="Istad Strikers",'Tellere og summer'!$A$84,IF(AF5="Ytre Bowlinglag",'Tellere og summer'!$A$94,"NA")))))))))) -> Alhild Danielsen | AF9: 175 | AH9: 161 | AI9: =SUM(AF9:AH9) -> 336 | AK9: =IF(AL5="Normo Slipestasjon",'Tellere og summer'!$A$4,IF(AL5="Glamox",'Tellere og summer'!$A$14,IF(AL5="Molde Kommune",'Tellere og summer'!$A$24,IF(AL5="Rørlegger 1",'Tellere og summer'!$A$34,IF(AL5="TietoEVRY",'Tellere og summer'!$A$44,IF(AL5="Danielsen å i",'Tellere og summer'!$A$54,IF(AL5="Panorama Turkeys",'Tellere og summer'!$A$64,IF(AL5="Team Fuglset",'Tellere og summer'!$A$74,IF(AL5="Istad Strikers",'Tellere og summer'!$A$84,IF(AL5="Ytre Bowlinglag",'Tellere og summer'!$A$94,"NA")))))))))) -> Jamie Sagstuen | AO9: =SUM(AL9:AN9) -> 0 | AQ9: =IF(AR5="Normo Slipestasjon",'Tellere og summer'!$A$4,IF(AR5="Glamox",'Tellere og summer'!$A$14,IF(AR5="Molde Kommune",'Tellere og summer'!$A$24,IF(AR5="Rørlegger 1",'Tellere og summer'!$A$34,IF(AR5="TietoEVRY",'Tellere og summer'!$A$44,IF(AR5="Danielsen å i",'Tellere og summer'!$A$54,IF(AR5="Panorama Turkeys",'Tellere og summer'!$A$64,IF(AR5="Team Fuglset",'Tellere og summer'!$A$74,IF(AR5="Istad Strikers",'Tellere og summer'!$A$84,IF(AR5="Ytre Bowlinglag",'Tellere og summer'!$A$94,"NA")))))))))) -> Magne Farstadvoll | AR9: 161 | AS9: 124 | AT9: 122 | AU9: =SUM(AR9:AT9) -> 407 | AW9: =IF(AX5="Normo Slipestasjon",'Tellere og summer'!$A$4,IF(AX5="Glamox",'Tellere og summer'!$A$14,IF(AX5="Molde Kommune",'Tellere og summer'!$A$24,IF(AX5="Rørlegger 1",'Tellere og summer'!$A$34,IF(AX5="TietoEVRY",'Tellere og summer'!$A$44,IF(AX5="Danielsen å i",'Tellere og summer'!$A$54,IF(AX5="Panorama Turkeys",'Tellere og summer'!$A$64,IF(AX5="Team Fuglset",'Tellere og summer'!$A$74,IF(AX5="Istad Strikers",'Tellere og summer'!$A$84,IF(AX5="Ytre Bowlinglag",'Tellere og summer'!$A$94,"NA")))))))))) -> Halvor Vaagen | AX9: 130 | AY9: 160 | AZ9: 118 | BA9: =SUM(AX9:AZ9) -> 408 | BC9: =IF(BD5="Normo Slipestasjon",'Tellere og summer'!$A$4,IF(BD5="Glamox",'Tellere og summer'!$A$14,IF(BD5="Molde Kommune",'Tellere og summer'!$A$24,IF(BD5="Rørlegger 1",'Tellere og summer'!$A$34,IF(BD5="TietoEVRY",'Tellere og summer'!$A$44,IF(BD5="Danielsen å i",'Tellere og summer'!$A$54,IF(BD5="Panorama Turkeys",'Tellere og summer'!$A$64,IF(BD5="Team Fuglset",'Tellere og summer'!$A$74,IF(BD5="Istad Strikers",'Tellere og summer'!$A$84,IF(BD5="Ytre Bowlinglag",'Tellere og summer'!$A$94,"NA")))))))))) -> Lars Brian Taylor | BG9: =SUM(BD9:BF9) -> 0
A10: =IF(B5="Normo Slipestasjon",'Tellere og summer'!$A$5,IF(B5="Glamox",'Tellere og summer'!$A$15,IF(B5="Molde Kommune",'Tellere og summer'!$A$25,IF(B5="Rørlegger 1",'Tellere og summer'!$A$35,IF(B5="TietoEVRY",'Tellere og summer'!$A$45,IF(B5="Danielsen å i",'Tellere og summer'!$A$55,IF(B5="Panorama Turkeys",'Tellere og summer'!$A$65,IF(B5="Team Fuglset",'Tellere og summer'!$A$75,IF(B5="Istad Strikers",'Tellere og summer'!$A$85,IF(B5="Ytre Bowlinglag",'Tellere og summer'!$A$95,"NA")))))))))) -> Tor Åge Langås | B10: 114 | C10: 183 | D10: 144 | E10: =SUM(B10:D10) -> 441 | G10: =IF(H5="Normo Slipestasjon",'Tellere og summer'!$A$5,IF(H5="Glamox",'Tellere og summer'!$A$15,IF(H5="Molde Kommune",'Tellere og summer'!$A$25,IF(H5="Rørlegger 1",'Tellere og summer'!$A$35,IF(H5="TietoEVRY",'Tellere og summer'!$A$45,IF(H5="Danielsen å i",'Tellere og summer'!$A$55,IF(H5="Panorama Turkeys",'Tellere og summer'!$A$65,IF(H5="Team Fuglset",'Tellere og summer'!$A$75,IF(H5="Istad Strikers",'Tellere og summer'!$A$85,IF(H5="Ytre Bowlinglag",'Tellere og summer'!$A$95,"NA")))))))))) -> Christian Pascal | H10: 179 | I10: 170 | J10: 208 | K10: =SUM(H10:J10) -> 557 | M10: =IF(N5="Normo Slipestasjon",'Tellere og summer'!$A$5,IF(N5="Glamox",'Tellere og summer'!$A$15,IF(N5="Molde Kommune",'Tellere og summer'!$A$25,IF(N5="Rørlegger 1",'Tellere og summer'!$A$35,IF(N5="TietoEVRY",'Tellere og summer'!$A$45,IF(N5="Danielsen å i",'Tellere og summer'!$A$55,IF(N5="Panorama Turkeys",'Tellere og summer'!$A$65,IF(N5="Team Fuglset",'Tellere og summer'!$A$75,IF(N5="Istad Strikers",'Tellere og summer'!$A$85,IF(N5="Ytre Bowlinglag",'Tellere og summer'!$A$95,"NA")))))))))) -> Tone Nygård Nilsen | N10: 146 | O10: 129 | P10: 175 | Q10: =SUM(N10:P10) -> 450 | S10: =IF(T5="Normo Slipestasjon",'Tellere og summer'!$A$5,IF(T5="Glamox",'Tellere og summer'!$A$15,IF(T5="Molde Kommune",'Tellere og summer'!$A$25,IF(T5="Rørlegger 1",'Tellere og summer'!$A$35,IF(T5="TietoEVRY",'Tellere og summer'!$A$45,IF(T5="Danielsen å i",'Tellere og summer'!$A$55,IF(T5="Panorama Turkeys",'Tellere og summer'!$A$65,IF(T5="Team Fuglset",'Tellere og summer'!$A$75,IF(T5="Istad Strikers",'Tellere og summer'!$A$85,IF(T5="Ytre Bowlinglag",'Tellere og summer'!$A$95,"NA")))))))))) -> Arild Gujord | T10: 102 | U10: 142 | V10: 213 | W10: =SUM(T10:V10) -> 457 | Y10: =IF(Z5="Normo Slipestasjon",'Tellere og summer'!$A$5,IF(Z5="Glamox",'Tellere og summer'!$A$15,IF(Z5="Molde Kommune",'Tellere og summer'!$A$25,IF(Z5="Rørlegger 1",'Tellere og summer'!$A$35,IF(Z5="TietoEVRY",'Tellere og summer'!$A$45,IF(Z5="Danielsen å i",'Tellere og summer'!$A$55,IF(Z5="Panorama Turkeys",'Tellere og summer'!$A$65,IF(Z5="Team Fuglset",'Tellere og summer'!$A$75,IF(Z5="Istad Strikers",'Tellere og summer'!$A$85,IF(Z5="Ytre Bowlinglag",'Tellere og summer'!$A$95,"NA")))))))))) -> Vidar Lervik | AC10: =SUM(Z10:AB10) -> 0 | AE10: =IF(AF5="Normo Slipestasjon",'Tellere og summer'!$A$5,IF(AF5="Glamox",'Tellere og summer'!$A$15,IF(AF5="Molde Kommune",'Tellere og summer'!$A$25,IF(AF5="Rørlegger 1",'Tellere og summer'!$A$35,IF(AF5="TietoEVRY",'Tellere og summer'!$A$45,IF(AF5="Danielsen å i",'Tellere og summer'!$A$55,IF(AF5="Panorama Turkeys",'Tellere og summer'!$A$65,IF(AF5="Team Fuglset",'Tellere og summer'!$A$75,IF(AF5="Istad Strikers",'Tellere og summer'!$A$85,IF(AF5="Ytre Bowlinglag",'Tellere og summer'!$A$95,"NA")))))))))) -> Grethe Danielsen | AG10: 180 | AH10: 240 | AI10: =SUM(AF10:AH10) -> 420 | AK10: =IF(AL5="Normo Slipestasjon",'Tellere og summer'!$A$5,IF(AL5="Glamox",'Tellere og summer'!$A$15,IF(AL5="Molde Kommune",'Tellere og summer'!$A$25,IF(AL5="Rørlegger 1",'Tellere og summer'!$A$35,IF(AL5="TietoEVRY",'Tellere og summer'!$A$45,IF(AL5="Danielsen å i",'Tellere og summer'!$A$55,IF(AL5="Panorama Turkeys",'Tellere og summer'!$A$65,IF(AL5="Team Fuglset",'Tellere og summer'!$A$75,IF(AL5="Istad Strikers",'Tellere og summer'!$A$85,IF(AL5="Ytre Bowlinglag",'Tellere og summer'!$A$95,"NA")))))))))) -> Martin Gikling & Evy | AO10: =SUM(AL10:AN10) -> 0 | AQ10: =IF(AR5="Normo Slipestasjon",'Tellere og summer'!$A$5,IF(AR5="Glamox",'Tellere og summer'!$A$15,IF(AR5="Molde Kommune",'Tellere og summer'!$A$25,IF(AR5="Rørlegger 1",'Tellere og summer'!$A$35,IF(AR5="TietoEVRY",'Tellere og summer'!$A$45,IF(AR5="Danielsen å i",'Tellere og summer'!$A$55,IF(AR5="Panorama Turkeys",'Tellere og summer'!$A$65,IF(AR5="Team Fuglset",'Tellere og summer'!$A$75,IF(AR5="Istad Strikers",'Tellere og summer'!$A$85,IF(AR5="Ytre Bowlinglag",'Tellere og summer'!$A$95,"NA")))))))))) -> Jan Kjetil Holberg Sandnes | AU10: =SUM(AR10:AT10) -> 0 | AW10: =IF(AX5="Normo Slipestasjon",'Tellere og summer'!$A$5,IF(AX5="Glamox",'Tellere og summer'!$A$15,IF(AX5="Molde Kommune",'Tellere og summer'!$A$25,IF(AX5="Rørlegger 1",'Tellere og summer'!$A$35,IF(AX5="TietoEVRY",'Tellere og summer'!$A$45,IF(AX5="Danielsen å i",'Tellere og summer'!$A$55,IF(AX5="Panorama Turkeys",'Tellere og summer'!$A$65,IF(AX5="Team Fuglset",'Tellere og summer'!$A$75,IF(AX5="Istad Strikers",'Tellere og summer'!$A$85,IF(AX5="Ytre Bowlinglag",'Tellere og summer'!$A$95,"NA")))))))))) -> Jarle Endreplass | AX10: 176 | AY10: 189 | AZ10: 149 | BA10: =SUM(AX10:AZ10) -> 514 | BC10: =IF(BD5="Normo Slipestasjon",'Tellere og summer'!$A$5,IF(BD5="Glamox",'Tellere og summer'!$A$15,IF(BD5="Molde Kommune",'Tellere og summer'!$A$25,IF(BD5="Rørlegger 1",'Tellere og summer'!$A$35,IF(BD5="TietoEVRY",'Tellere og summer'!$A$45,IF(BD5="Danielsen å i",'Tellere og summer'!$A$55,IF(BD5="Panorama Turkeys",'Tellere og summer'!$A$65,IF(BD5="Team Fuglset",'Tellere og summer'!$A$75,IF(BD5="Istad Strikers",'Tellere og summer'!$A$85,IF(BD5="Ytre Bowlinglag",'Tellere og summer'!$A$95,"NA")))))))))) -> Ole Morten Aarø | BD10: 154 | BE10: 146 | BF10: 153 | BG10: =SUM(BD10:BF10) -> 453
A11: =IF(B5="Normo Slipestasjon",'Tellere og summer'!$A$6,IF(B5="Glamox",'Tellere og summer'!$A$16,IF(B5="Molde Kommune",'Tellere og summer'!$A$26,IF(B5="Rørlegger 1",'Tellere og summer'!$A$36,IF(B5="TietoEVRY",'Tellere og summer'!$A$46,IF(B5="Danielsen å i",'Tellere og summer'!$A$56,IF(B5="Panorama Turkeys",'Tellere og summer'!$A$66,IF(B5="Team Fuglset",'Tellere og summer'!$A$76,IF(B5="Istad Strikers",'Tellere og summer'!$A$86,IF(B5="Ytre Bowlinglag",'Tellere og summer'!$A$96,"NA")))))))))) -> Thor Bolsønes | C11: 143 | E11: =SUM(B11:D11) -> 143 | G11: =IF(H5="Normo Slipestasjon",'Tellere og summer'!$A$6,IF(H5="Glamox",'Tellere og summer'!$A$16,IF(H5="Molde Kommune",'Tellere og summer'!$A$26,IF(H5="Rørlegger 1",'Tellere og summer'!$A$36,IF(H5="TietoEVRY",'Tellere og summer'!$A$46,IF(H5="Danielsen å i",'Tellere og summer'!$A$56,IF(H5="Panorama Turkeys",'Tellere og summer'!$A$66,IF(H5="Team Fuglset",'Tellere og summer'!$A$76,IF(H5="Istad Strikers",'Tellere og summer'!$A$86,IF(H5="Ytre Bowlinglag",'Tellere og summer'!$A$96,"NA")))))))))) -> Odd Øyvind Fjørtoft | K11: =SUM(H11:J11) -> 0 | M11: =IF(N5="Normo Slipestasjon",'Tellere og summer'!$A$6,IF(N5="Glamox",'Tellere og summer'!$A$16,IF(N5="Molde Kommune",'Tellere og summer'!$A$26,IF(N5="Rørlegger 1",'Tellere og summer'!$A$36,IF(N5="TietoEVRY",'Tellere og summer'!$A$46,IF(N5="Danielsen å i",'Tellere og summer'!$A$56,IF(N5="Panorama Turkeys",'Tellere og summer'!$A$66,IF(N5="Team Fuglset",'Tellere og summer'!$A$76,IF(N5="Istad Strikers",'Tellere og summer'!$A$86,IF(N5="Ytre Bowlinglag",'Tellere og summer'!$A$96,"NA")))))))))) -> Arild Bryhn | N11: 156 | O11: 157 | P11: 144 | Q11: =SUM(N11:P11) -> 457 | S11: =IF(T5="Normo Slipestasjon",'Tellere og summer'!$A$6,IF(T5="Glamox",'Tellere og summer'!$A$16,IF(T5="Molde Kommune",'Tellere og summer'!$A$26,IF(T5="Rørlegger 1",'Tellere og summer'!$A$36,IF(T5="TietoEVRY",'Tellere og summer'!$A$46,IF(T5="Danielsen å i",'Tellere og summer'!$A$56,IF(T5="Panorama Turkeys",'Tellere og summer'!$A$66,IF(T5="Team Fuglset",'Tellere og summer'!$A$76,IF(T5="Istad Strikers",'Tellere og summer'!$A$86,IF(T5="Ytre Bowlinglag",'Tellere og summer'!$A$96,"NA")))))))))) -> Kristian Røstberg | T11: 98 | U11: 122 | V11: 111 | W11: =SUM(T11:V11) -> 331 | Y11: =IF(Z5="Normo Slipestasjon",'Tellere og summer'!$A$6,IF(Z5="Glamox",'Tellere og summer'!$A$16,IF(Z5="Molde Kommune",'Tellere og summer'!$A$26,IF(Z5="Rørlegger 1",'Tellere og summer'!$A$36,IF(Z5="TietoEVRY",'Tellere og summer'!$A$46,IF(Z5="Danielsen å i",'Tellere og summer'!$A$56,IF(Z5="Panorama Turkeys",'Tellere og summer'!$A$66,IF(Z5="Team Fuglset",'Tellere og summer'!$A$76,IF(Z5="Istad Strikers",'Tellere og summer'!$A$86,IF(Z5="Ytre Bowlinglag",'Tellere og summer'!$A$96,"NA")))))))))) -> Svein Johan Hauge | AC11: =SUM(Z11:AB11) -> 0 | AE11: =IF(AF5="Normo Slipestasjon",'Tellere og summer'!$A$6,IF(AF5="Glamox",'Tellere og summer'!$A$16,IF(AF5="Molde Kommune",'Tellere og summer'!$A$26,IF(AF5="Rørlegger 1",'Tellere og summer'!$A$36,IF(AF5="TietoEVRY",'Tellere og summer'!$A$46,IF(AF5="Danielsen å i",'Tellere og summer'!$A$56,IF(AF5="Panorama Turkeys",'Tellere og summer'!$A$66,IF(AF5="Team Fuglset",'Tellere og summer'!$A$76,IF(AF5="Istad Strikers",'Tellere og summer'!$A$86,IF(AF5="Ytre Bowlinglag",'Tellere og summer'!$A$96,"NA")))))))))) -> Irene T. Danielsen | AF11: 189 | AG11: 206 | AH11: 175 | AI11: =SUM(AF11:AH11) -> 570 | AK11: =IF(AL5="Normo Slipestasjon",'Tellere og summer'!$A$6,IF(AL5="Glamox",'Tellere og summer'!$A$16,IF(AL5="Molde Kommune",'Tellere og summer'!$A$26,IF(AL5="Rørlegger 1",'Tellere og summer'!$A$36,IF(AL5="TietoEVRY",'Tellere og summer'!$A$46,IF(AL5="Danielsen å i",'Tellere og summer'!$A$56,IF(AL5="Panorama Turkeys",'Tellere og summer'!$A$66,IF(AL5="Team Fuglset",'Tellere og summer'!$A$76,IF(AL5="Istad Strikers",'Tellere og summer'!$A$86,IF(AL5="Ytre Bowlinglag",'Tellere og summer'!$A$96,"NA")))))))))) -> Jacob Lyche | AL11: 119 | AM11: 154 | AN11: 126 | AO11: =SUM(AL11:AN11) -> 399 | AQ11: =IF(AR5="Normo Slipestasjon",'Tellere og summer'!$A$6,IF(AR5="Glamox",'Tellere og summer'!$A$16,IF(AR5="Molde Kommune",'Tellere og summer'!$A$26,IF(AR5="Rørlegger 1",'Tellere og summer'!$A$36,IF(AR5="TietoEVRY",'Tellere og summer'!$A$46,IF(AR5="Danielsen å i",'Tellere og summer'!$A$56,IF(AR5="Panorama Turkeys",'Tellere og summer'!$A$66,IF(AR5="Team Fuglset",'Tellere og summer'!$A$76,IF(AR5="Istad Strikers",'Tellere og summer'!$A$86,IF(AR5="Ytre Bowlinglag",'Tellere og summer'!$A$96,"NA")))))))))) -> Sindre Aure | AU11: =SUM(AR11:AT11) -> 0 | AW11: =IF(AX5="Normo Slipestasjon",'Tellere og summer'!$A$6,IF(AX5="Glamox",'Tellere og summer'!$A$16,IF(AX5="Molde Kommune",'Tellere og summer'!$A$26,IF(AX5="Rørlegger 1",'Tellere og summer'!$A$36,IF(AX5="TietoEVRY",'Tellere og summer'!$A$46,IF(AX5="Danielsen å i",'Tellere og summer'!$A$56,IF(AX5="Panorama Turkeys",'Tellere og summer'!$A$66,IF(AX5="Team Fuglset",'Tellere og summer'!$A$76,IF(AX5="Istad Strikers",'Tellere og summer'!$A$86,IF(AX5="Ytre Bowlinglag",'Tellere og summer'!$A$96,"NA")))))))))) -> Geir Gjelsten | BA11: =SUM(AX11:AZ11) -> 0 | BC11: =IF(BD5="Normo Slipestasjon",'Tellere og summer'!$A$6,IF(BD5="Glamox",'Tellere og summer'!$A$16,IF(BD5="Molde Kommune",'Tellere og summer'!$A$26,IF(BD5="Rørlegger 1",'Tellere og summer'!$A$36,IF(BD5="TietoEVRY",'Tellere og summer'!$A$46,IF(BD5="Danielsen å i",'Tellere og summer'!$A$56,IF(BD5="Panorama Turkeys",'Tellere og summer'!$A$66,IF(BD5="Team Fuglset",'Tellere og summer'!$A$76,IF(BD5="Istad Strikers",'Tellere og summer'!$A$86,IF(BD5="Ytre Bowlinglag",'Tellere og summer'!$A$96,"NA")))))))))) -> Svein Gussiås | BG11: =SUM(BD11:BF11) -> 0
A12: =IF(B5="Normo Slipestasjon",'Tellere og summer'!$A$7,IF(B5="Glamox",'Tellere og summer'!$A$17,IF(B5="Molde Kommune",'Tellere og summer'!$A$27,IF(B5="Rørlegger 1",'Tellere og summer'!$A$37,IF(B5="TietoEVRY",'Tellere og summer'!$A$47,IF(B5="Danielsen å i",'Tellere og summer'!$A$57,IF(B5="Panorama Turkeys",'Tellere og summer'!$A$67,IF(B5="Team Fuglset",'Tellere og summer'!$A$77,IF(B5="Istad Strikers",'Tellere og summer'!$A$87,IF(B5="Ytre Bowlinglag",'Tellere og summer'!$A$97,"NA")))))))))) -> 0 | E12: =SUM(B12:D12) -> 0 | G12: =IF(H5="Normo Slipestasjon",'Tellere og summer'!$A$7,IF(H5="Glamox",'Tellere og summer'!$A$17,IF(H5="Molde Kommune",'Tellere og summer'!$A$27,IF(H5="Rørlegger 1",'Tellere og summer'!$A$37,IF(H5="TietoEVRY",'Tellere og summer'!$A$47,IF(H5="Danielsen å i",'Tellere og summer'!$A$57,IF(H5="Panorama Turkeys",'Tellere og summer'!$A$67,IF(H5="Team Fuglset",'Tellere og summer'!$A$77,IF(H5="Istad Strikers",'Tellere og summer'!$A$87,IF(H5="Ytre Bowlinglag",'Tellere og summer'!$A$97,"NA")))))))))) -> Erik Hoel | K12: =SUM(H12:J12) -> 0 | M12: =IF(N5="Normo Slipestasjon",'Tellere og summer'!$A$7,IF(N5="Glamox",'Tellere og summer'!$A$17,IF(N5="Molde Kommune",'Tellere og summer'!$A$27,IF(N5="Rørlegger 1",'Tellere og summer'!$A$37,IF(N5="TietoEVRY",'Tellere og summer'!$A$47,IF(N5="Danielsen å i",'Tellere og summer'!$A$57,IF(N5="Panorama Turkeys",'Tellere og summer'!$A$67,IF(N5="Team Fuglset",'Tellere og summer'!$A$77,IF(N5="Istad Strikers",'Tellere og summer'!$A$87,IF(N5="Ytre Bowlinglag",'Tellere og summer'!$A$97,"NA")))))))))) -> Mette Jane Holand | Q12: =SUM(N12:P12) -> 0 | S12: =IF(T5="Normo Slipestasjon",'Tellere og summer'!$A$7,IF(T5="Glamox",'Tellere og summer'!$A$17,IF(T5="Molde Kommune",'Tellere og summer'!$A$27,IF(T5="Rørlegger 1",'Tellere og summer'!$A$37,IF(T5="TietoEVRY",'Tellere og summer'!$A$47,IF(T5="Danielsen å i",'Tellere og summer'!$A$57,IF(T5="Panorama Turkeys",'Tellere og summer'!$A$67,IF(T5="Team Fuglset",'Tellere og summer'!$A$77,IF(T5="Istad Strikers",'Tellere og summer'!$A$87,IF(T5="Ytre Bowlinglag",'Tellere og summer'!$A$97,"NA")))))))))) -> Pål Aslaksen | W12: =SUM(T12:V12) -> 0 | Y12: =IF(Z5="Normo Slipestasjon",'Tellere og summer'!$A$7,IF(Z5="Glamox",'Tellere og summer'!$A$17,IF(Z5="Molde Kommune",'Tellere og summer'!$A$27,IF(Z5="Rørlegger 1",'Tellere og summer'!$A$37,IF(Z5="TietoEVRY",'Tellere og summer'!$A$47,IF(Z5="Danielsen å i",'Tellere og summer'!$A$57,IF(Z5="Panorama Turkeys",'Tellere og summer'!$A$67,IF(Z5="Team Fuglset",'Tellere og summer'!$A$77,IF(Z5="Istad Strikers",'Tellere og summer'!$A$87,IF(Z5="Ytre Bowlinglag",'Tellere og summer'!$A$97,"NA")))))))))) -> Arnfinn Løntjern | AC12: =SUM(Z12:AB12) -> 0 | AE12: =IF(AF5="Normo Slipestasjon",'Tellere og summer'!$A$7,IF(AF5="Glamox",'Tellere og summer'!$A$17,IF(AF5="Molde Kommune",'Tellere og summer'!$A$27,IF(AF5="Rørlegger 1",'Tellere og summer'!$A$37,IF(AF5="TietoEVRY",'Tellere og summer'!$A$47,IF(AF5="Danielsen å i",'Tellere og summer'!$A$57,IF(AF5="Panorama Turkeys",'Tellere og summer'!$A$67,IF(AF5="Team Fuglset",'Tellere og summer'!$A$77,IF(AF5="Istad Strikers",'Tellere og summer'!$A$87,IF(AF5="Ytre Bowlinglag",'Tellere og summer'!$A$97,"NA")))))))))) -> 0 | AI12: =SUM(AF12:AH12) -> 0 | AK12: =IF(AL5="Normo Slipestasjon",'Tellere og summer'!$A$7,IF(AL5="Glamox",'Tellere og summer'!$A$17,IF(AL5="Molde Kommune",'Tellere og summer'!$A$27,IF(AL5="Rørlegger 1",'Tellere og summer'!$A$37,IF(AL5="TietoEVRY",'Tellere og summer'!$A$47,IF(AL5="Danielsen å i",'Tellere og summer'!$A$57,IF(AL5="Panorama Turkeys",'Tellere og summer'!$A$67,IF(AL5="Team Fuglset",'Tellere og summer'!$A$77,IF(AL5="Istad Strikers",'Tellere og summer'!$A$87,IF(AL5="Ytre Bowlinglag",'Tellere og summer'!$A$97,"NA")))))))))) -> Niklas Sevland | AL12: 112 | AM12: 105 | AN12: 95 | AO12: =SUM(AL12:AN12) -> 312 | AQ12: =IF(AR5="Normo Slipestasjon",'Tellere og summer'!$A$7,IF(AR5="Glamox",'Tellere og summer'!$A$17,IF(AR5="Molde Kommune",'Tellere og summer'!$A$27,IF(AR5="Rørlegger 1",'Tellere og summer'!$A$37,IF(AR5="TietoEVRY",'Tellere og summer'!$A$47,IF(AR5="Danielsen å i",'Tellere og summer'!$A$57,IF(AR5="Panorama Turkeys",'Tellere og summer'!$A$67,IF(AR5="Team Fuglset",'Tellere og summer'!$A$77,IF(AR5="Istad Strikers",'Tellere og summer'!$A$87,IF(AR5="Ytre Bowlinglag",'Tellere og summer'!$A$97,"NA")))))))))) -> Frode Lothe | AR12: 166 | AS12: 120 | AT12: 116 | AU12: =SUM(AR12:AT12) -> 402 | AW12: =IF(AX5="Normo Slipestasjon",'Tellere og summer'!$A$7,IF(AX5="Glamox",'Tellere og summer'!$A$17,IF(AX5="Molde Kommune",'Tellere og summer'!$A$27,IF(AX5="Rørlegger 1",'Tellere og summer'!$A$37,IF(AX5="TietoEVRY",'Tellere og summer'!$A$47,IF(AX5="Danielsen å i",'Tellere og summer'!$A$57,IF(AX5="Panorama Turkeys",'Tellere og summer'!$A$67,IF(AX5="Team Fuglset",'Tellere og summer'!$A$77,IF(AX5="Istad Strikers",'Tellere og summer'!$A$87,IF(AX5="Ytre Bowlinglag",'Tellere og summer'!$A$97,"NA")))))))))) -> Steinar Småge | AX12: 144 | AY12: 136 | AZ12: 103 | BA12: =SUM(AX12:AZ12) -> 383 | BC12: =IF(BD5="Normo Slipestasjon",'Tellere og summer'!$A$7,IF(BD5="Glamox",'Tellere og summer'!$A$17,IF(BD5="Molde Kommune",'Tellere og summer'!$A$27,IF(BD5="Rørlegger 1",'Tellere og summer'!$A$37,IF(BD5="TietoEVRY",'Tellere og summer'!$A$47,IF(BD5="Danielsen å i",'Tellere og summer'!$A$57,IF(BD5="Panorama Turkeys",'Tellere og summer'!$A$67,IF(BD5="Team Fuglset",'Tellere og summer'!$A$77,IF(BD5="Istad Strikers",'Tellere og summer'!$A$87,IF(BD5="Ytre Bowlinglag",'Tellere og summer'!$A$97,"NA")))))))))) -> Preben Solem | BD12: 117 | BE12: 109 | BF12: 103 | BG12: =SUM(BD12:BF12) -> 329
A13: =IF(B5="Normo Slipestasjon",'Tellere og summer'!$A$8,IF(B5="Glamox",'Tellere og summer'!$A$18,IF(B5="Molde Kommune",'Tellere og summer'!$A$28,IF(B5="Rørlegger 1",'Tellere og summer'!$A$38,IF(B5="TietoEVRY",'Tellere og summer'!$A$48,IF(B5="Danielsen å i",'Tellere og summer'!$A$58,IF(B5="Panorama Turkeys",'Tellere og summer'!$A$68,IF(B5="Team Fuglset",'Tellere og summer'!$A$78,IF(B5="Istad Strikers",'Tellere og summer'!$A$88,IF(B5="Ytre Bowlinglag",'Tellere og summer'!$A$98,"NA")))))))))) -> 0 | E13: =SUM(B13:D13) -> 0 | G13: =IF(H5="Normo Slipestasjon",'Tellere og summer'!$A$8,IF(H5="Glamox",'Tellere og summer'!$A$18,IF(H5="Molde Kommune",'Tellere og summer'!$A$28,IF(H5="Rørlegger 1",'Tellere og summer'!$A$38,IF(H5="TietoEVRY",'Tellere og summer'!$A$48,IF(H5="Danielsen å i",'Tellere og summer'!$A$58,IF(H5="Panorama Turkeys",'Tellere og summer'!$A$68,IF(H5="Team Fuglset",'Tellere og summer'!$A$78,IF(H5="Istad Strikers",'Tellere og summer'!$A$88,IF(H5="Ytre Bowlinglag",'Tellere og summer'!$A$98,"NA")))))))))) -> 0 | K13: =SUM(H13:J13) -> 0 | M13: =IF(N5="Normo Slipestasjon",'Tellere og summer'!$A$8,IF(N5="Glamox",'Tellere og summer'!$A$18,IF(N5="Molde Kommune",'Tellere og summer'!$A$28,IF(N5="Rørlegger 1",'Tellere og summer'!$A$38,IF(N5="TietoEVRY",'Tellere og summer'!$A$48,IF(N5="Danielsen å i",'Tellere og summer'!$A$58,IF(N5="Panorama Turkeys",'Tellere og summer'!$A$68,IF(N5="Team Fuglset",'Tellere og summer'!$A$78,IF(N5="Istad Strikers",'Tellere og summer'!$A$88,IF(N5="Ytre Bowlinglag",'Tellere og summer'!$A$98,"NA")))))))))) -> 0 | Q13: =SUM(N13:P13) -> 0 | S13: =IF(T5="Normo Slipestasjon",'Tellere og summer'!$A$8,IF(T5="Glamox",'Tellere og summer'!$A$18,IF(T5="Molde Kommune",'Tellere og summer'!$A$28,IF(T5="Rørlegger 1",'Tellere og summer'!$A$38,IF(T5="TietoEVRY",'Tellere og summer'!$A$48,IF(T5="Danielsen å i",'Tellere og summer'!$A$58,IF(T5="Panorama Turkeys",'Tellere og summer'!$A$68,IF(T5="Team Fuglset",'Tellere og summer'!$A$78,IF(T5="Istad Strikers",'Tellere og summer'!$A$88,IF(T5="Ytre Bowlinglag",'Tellere og summer'!$A$98,"NA")))))))))) -> Stian Teistholmen | W13: =SUM(T13:V13) -> 0 | Y13: =IF(Z5="Normo Slipestasjon",'Tellere og summer'!$A$8,IF(Z5="Glamox",'Tellere og summer'!$A$18,IF(Z5="Molde Kommune",'Tellere og summer'!$A$28,IF(Z5="Rørlegger 1",'Tellere og summer'!$A$38,IF(Z5="TietoEVRY",'Tellere og summer'!$A$48,IF(Z5="Danielsen å i",'Tellere og summer'!$A$58,IF(Z5="Panorama Turkeys",'Tellere og summer'!$A$68,IF(Z5="Team Fuglset",'Tellere og summer'!$A$78,IF(Z5="Istad Strikers",'Tellere og summer'!$A$88,IF(Z5="Ytre Bowlinglag",'Tellere og summer'!$A$98,"NA")))))))))) -> Kjetil Oterholm | AC13: =SUM(Z13:AB13) -> 0 | AE13: =IF(AF5="Normo Slipestasjon",'Tellere og summer'!$A$8,IF(AF5="Glamox",'Tellere og summer'!$A$18,IF(AF5="Molde Kommune",'Tellere og summer'!$A$28,IF(AF5="Rørlegger 1",'Tellere og summer'!$A$38,IF(AF5="TietoEVRY",'Tellere og summer'!$A$48,IF(AF5="Danielsen å i",'Tellere og summer'!$A$58,IF(AF5="Panorama Turkeys",'Tellere og summer'!$A$68,IF(AF5="Team Fuglset",'Tellere og summer'!$A$78,IF(AF5="Istad Strikers",'Tellere og summer'!$A$88,IF(AF5="Ytre Bowlinglag",'Tellere og summer'!$A$98,"NA")))))))))) -> 0 | AI13: =SUM(AF13:AH13) -> 0 | AK13: =IF(AL5="Normo Slipestasjon",'Tellere og summer'!$A$8,IF(AL5="Glamox",'Tellere og summer'!$A$18,IF(AL5="Molde Kommune",'Tellere og summer'!$A$28,IF(AL5="Rørlegger 1",'Tellere og summer'!$A$38,IF(AL5="TietoEVRY",'Tellere og summer'!$A$48,IF(AL5="Danielsen å i",'Tellere og summer'!$A$58,IF(AL5="Panorama Turkeys",'Tellere og summer'!$A$68,IF(AL5="Team Fuglset",'Tellere og summer'!$A$78,IF(AL5="Istad Strikers",'Tellere og summer'!$A$88,IF(AL5="Ytre Bowlinglag",'Tellere og summer'!$A$98,"NA")))))))))) -> Morten Strøm | AO13: =SUM(AL13:AN13) -> 0 | AQ13: =IF(AR5="Normo Slipestasjon",'Tellere og summer'!$A$8,IF(AR5="Glamox",'Tellere og summer'!$A$18,IF(AR5="Molde Kommune",'Tellere og summer'!$A$28,IF(AR5="Rørlegger 1",'Tellere og summer'!$A$38,IF(AR5="TietoEVRY",'Tellere og summer'!$A$48,IF(AR5="Danielsen å i",'Tellere og summer'!$A$58,IF(AR5="Panorama Turkeys",'Tellere og summer'!$A$68,IF(AR5="Team Fuglset",'Tellere og summer'!$A$78,IF(AR5="Istad Strikers",'Tellere og summer'!$A$88,IF(AR5="Ytre Bowlinglag",'Tellere og summer'!$A$98,"NA")))))))))) -> Tonje og Joakim Risnes | AU13: =SUM(AR13:AT13) -> 0 | AW13: =IF(AX5="Normo Slipestasjon",'Tellere og summer'!$A$8,IF(AX5="Glamox",'Tellere og summer'!$A$18,IF(AX5="Molde Kommune",'Tellere og summer'!$A$28,IF(AX5="Rørlegger 1",'Tellere og summer'!$A$38,IF(AX5="TietoEVRY",'Tellere og summer'!$A$48,IF(AX5="Danielsen å i",'Tellere og summer'!$A$58,IF(AX5="Panorama Turkeys",'Tellere og summer'!$A$68,IF(AX5="Team Fuglset",'Tellere og summer'!$A$78,IF(AX5="Istad Strikers",'Tellere og summer'!$A$88,IF(AX5="Ytre Bowlinglag",'Tellere og summer'!$A$98,"NA")))))))))) -> 0 | BA13: =SUM(AX13:AZ13) -> 0 | BC13: =IF(BD5="Normo Slipestasjon",'Tellere og summer'!$A$8,IF(BD5="Glamox",'Tellere og summer'!$A$18,IF(BD5="Molde Kommune",'Tellere og summer'!$A$28,IF(BD5="Rørlegger 1",'Tellere og summer'!$A$38,IF(BD5="TietoEVRY",'Tellere og summer'!$A$48,IF(BD5="Danielsen å i",'Tellere og summer'!$A$58,IF(BD5="Panorama Turkeys",'Tellere og summer'!$A$68,IF(BD5="Team Fuglset",'Tellere og summer'!$A$78,IF(BD5="Istad Strikers",'Tellere og summer'!$A$88,IF(BD5="Ytre Bowlinglag",'Tellere og summer'!$A$98,"NA")))))))))) -> Bjørn Einar Myklebust | BD13: 170 | BE13: 134 | BF13: 204 | BG13: =SUM(BD13:BF13) -> 508
A14: =IF(B5="Normo Slipestasjon",'Tellere og summer'!$A$9,IF(B5="Glamox",'Tellere og summer'!$A$19,IF(B5="Molde Kommune",'Tellere og summer'!$A$29,IF(B5="Rørlegger 1",'Tellere og summer'!$A$39,IF(B5="TietoEVRY",'Tellere og summer'!$A$49,IF(B5="Danielsen å i",'Tellere og summer'!$A$59,IF(B5="Panorama Turkeys",'Tellere og summer'!$A$69,IF(B5="Team Fuglset",'Tellere og summer'!$A$79,IF(B5="Istad Strikers",'Tellere og summer'!$A$89,IF(B5="Ytre Bowlinglag",'Tellere og summer'!$A$99,"NA")))))))))) -> 0 | E14: =SUM(B14:D14) -> 0 | G14: =IF(H5="Normo Slipestasjon",'Tellere og summer'!$A$9,IF(H5="Glamox",'Tellere og summer'!$A$19,IF(H5="Molde Kommune",'Tellere og summer'!$A$29,IF(H5="Rørlegger 1",'Tellere og summer'!$A$39,IF(H5="TietoEVRY",'Tellere og summer'!$A$49,IF(H5="Danielsen å i",'Tellere og summer'!$A$59,IF(H5="Panorama Turkeys",'Tellere og summer'!$A$69,IF(H5="Team Fuglset",'Tellere og summer'!$A$79,IF(H5="Istad Strikers",'Tellere og summer'!$A$89,IF(H5="Ytre Bowlinglag",'Tellere og summer'!$A$99,"NA")))))))))) -> 0 | K14: =SUM(H14:J14) -> 0 | M14: =IF(N5="Normo Slipestasjon",'Tellere og summer'!$A$9,IF(N5="Glamox",'Tellere og summer'!$A$19,IF(N5="Molde Kommune",'Tellere og summer'!$A$29,IF(N5="Rørlegger 1",'Tellere og summer'!$A$39,IF(N5="TietoEVRY",'Tellere og summer'!$A$49,IF(N5="Danielsen å i",'Tellere og summer'!$A$59,IF(N5="Panorama Turkeys",'Tellere og summer'!$A$69,IF(N5="Team Fuglset",'Tellere og summer'!$A$79,IF(N5="Istad Strikers",'Tellere og summer'!$A$89,IF(N5="Ytre Bowlinglag",'Tellere og summer'!$A$99,"NA")))))))))) -> 0 | Q14: =SUM(N14:P14) -> 0 | S14: =IF(T5="Normo Slipestasjon",'Tellere og summer'!$A$9,IF(T5="Glamox",'Tellere og summer'!$A$19,IF(T5="Molde Kommune",'Tellere og summer'!$A$29,IF(T5="Rørlegger 1",'Tellere og summer'!$A$39,IF(T5="TietoEVRY",'Tellere og summer'!$A$49,IF(T5="Danielsen å i",'Tellere og summer'!$A$59,IF(T5="Panorama Turkeys",'Tellere og summer'!$A$69,IF(T5="Team Fuglset",'Tellere og summer'!$A$79,IF(T5="Istad Strikers",'Tellere og summer'!$A$89,IF(T5="Ytre Bowlinglag",'Tellere og summer'!$A$99,"NA")))))))))) -> For mange spillere | W14: =SUM(T14:V14) -> 0 | Y14: =IF(Z5="Normo Slipestasjon",'Tellere og summer'!$A$9,IF(Z5="Glamox",'Tellere og summer'!$A$19,IF(Z5="Molde Kommune",'Tellere og summer'!$A$29,IF(Z5="Rørlegger 1",'Tellere og summer'!$A$39,IF(Z5="TietoEVRY",'Tellere og summer'!$A$49,IF(Z5="Danielsen å i",'Tellere og summer'!$A$59,IF(Z5="Panorama Turkeys",'Tellere og summer'!$A$69,IF(Z5="Team Fuglset",'Tellere og summer'!$A$79,IF(Z5="Istad Strikers",'Tellere og summer'!$A$89,IF(Z5="Ytre Bowlinglag",'Tellere og summer'!$A$99,"NA")))))))))) -> Mohammed Abdalgoder | AC14: =SUM(Z14:AB14) -> 0 | AE14: =IF(AF5="Normo Slipestasjon",'Tellere og summer'!$A$9,IF(AF5="Glamox",'Tellere og summer'!$A$19,IF(AF5="Molde Kommune",'Tellere og summer'!$A$29,IF(AF5="Rørlegger 1",'Tellere og summer'!$A$39,IF(AF5="TietoEVRY",'Tellere og summer'!$A$49,IF(AF5="Danielsen å i",'Tellere og summer'!$A$59,IF(AF5="Panorama Turkeys",'Tellere og summer'!$A$69,IF(AF5="Team Fuglset",'Tellere og summer'!$A$79,IF(AF5="Istad Strikers",'Tellere og summer'!$A$89,IF(AF5="Ytre Bowlinglag",'Tellere og summer'!$A$99,"NA")))))))))) -> 0 | AI14: =SUM(AF14:AH14) -> 0 | AK14: =IF(AL5="Normo Slipestasjon",'Tellere og summer'!$A$9,IF(AL5="Glamox",'Tellere og summer'!$A$19,IF(AL5="Molde Kommune",'Tellere og summer'!$A$29,IF(AL5="Rørlegger 1",'Tellere og summer'!$A$39,IF(AL5="TietoEVRY",'Tellere og summer'!$A$49,IF(AL5="Danielsen å i",'Tellere og summer'!$A$59,IF(AL5="Panorama Turkeys",'Tellere og summer'!$A$69,IF(AL5="Team Fuglset",'Tellere og summer'!$A$79,IF(AL5="Istad Strikers",'Tellere og summer'!$A$89,IF(AL5="Ytre Bowlinglag",'Tellere og summer'!$A$99,"NA")))))))))) -> Simen K. Roaldsøy | AO14: =SUM(AL14:AN14) -> 0 | AQ14: =IF(AR5="Normo Slipestasjon",'Tellere og summer'!$A$9,IF(AR5="Glamox",'Tellere og summer'!$A$19,IF(AR5="Molde Kommune",'Tellere og summer'!$A$29,IF(AR5="Rørlegger 1",'Tellere og summer'!$A$39,IF(AR5="TietoEVRY",'Tellere og summer'!$A$49,IF(AR5="Danielsen å i",'Tellere og summer'!$A$59,IF(AR5="Panorama Turkeys",'Tellere og summer'!$A$69,IF(AR5="Team Fuglset",'Tellere og summer'!$A$79,IF(AR5="Istad Strikers",'Tellere og summer'!$A$89,IF(AR5="Ytre Bowlinglag",'Tellere og summer'!$A$99,"NA")))))))))) -> Cato Holen og Mats Larsen | AU14: =SUM(AR14:AT14) -> 0 | AW14: =IF(AX5="Normo Slipestasjon",'Tellere og summer'!$A$9,IF(AX5="Glamox",'Tellere og summer'!$A$19,IF(AX5="Molde Kommune",'Tellere og summer'!$A$29,IF(AX5="Rørlegger 1",'Tellere og summer'!$A$39,IF(AX5="TietoEVRY",'Tellere og summer'!$A$49,IF(AX5="Danielsen å i",'Tellere og summer'!$A$59,IF(AX5="Panorama Turkeys",'Tellere og summer'!$A$69,IF(AX5="Team Fuglset",'Tellere og summer'!$A$79,IF(AX5="Istad Strikers",'Tellere og summer'!$A$89,IF(AX5="Ytre Bowlinglag",'Tellere og summer'!$A$99,"NA")))))))))) -> 0 | BA14: =SUM(AX14:AZ14) -> 0 | BC14: =IF(BD5="Normo Slipestasjon",'Tellere og summer'!$A$9,IF(BD5="Glamox",'Tellere og summer'!$A$19,IF(BD5="Molde Kommune",'Tellere og summer'!$A$29,IF(BD5="Rørlegger 1",'Tellere og summer'!$A$39,IF(BD5="TietoEVRY",'Tellere og summer'!$A$49,IF(BD5="Danielsen å i",'Tellere og summer'!$A$59,IF(BD5="Panorama Turkeys",'Tellere og summer'!$A$69,IF(BD5="Team Fuglset",'Tellere og summer'!$A$79,IF(BD5="Istad Strikers",'Tellere og summer'!$A$89,IF(BD5="Ytre Bowlinglag",'Tellere og summer'!$A$99,"NA")))))))))) -> 0 | BG14: =SUM(BD14:BF14) -> 0
A15: HCP | B15: =HCP!B2 -> 114 | C15: =HCP!B2 -> 114 | D15: =HCP!B2 -> 114 | E15: =SUM(B15:D15) -> 342 | G15: HCP | H15: 0 | I15: 0 | J15: 0 | K15: =SUM(H15:J15) -> 0 | M15: HCP | N15: =HCP!$B$6 -> 96 | O15: =HCP!$B$6 -> 96 | P15: =HCP!$B$6 -> 96 | Q15: =SUM(N15:P15) -> 288 | S15: HCP | T15: =HCP!$B$8 -> 93 | U15: =HCP!B8 -> 93 | V15: =HCP!B8 -> 93 | W15: =SUM(T15:V15) -> 279 | Y15: HCP | Z15: =HCP!$B$10 -> 96 | AA15: =HCP!B10 -> 96 | AB15: =HCP!B10 -> 96 | AC15: =SUM(Z15:AB15) -> 288 | AE15: HCP | AF15: =HCP!$B$12 -> 18 | AG15: =HCP!$B$12 -> 18 | AH15: =HCP!$B$12 -> 18 | AI15: =SUM(AF15:AH15) -> 54 | AK15: HCP | AL15: =HCP!$B$14 -> 60 | AM15: =HCP!$B$14 -> 60 | AN15: =HCP!$B$14 -> 60 | AO15: =SUM(AL15:AN15) -> 180 | AQ15: HCP | AR15: =HCP!$B$18 -> 120 | AS15: =HCP!$B$18 -> 120 | AT15: =HCP!$B$18 -> 120 | AU15: =SUM(AR15:AT15) -> 360 | AW15: HCP | AX15: =HCP!$B$20 -> 66 | AY15: =HCP!$B$20 -> 66 | AZ15: =HCP!$B$20 -> 66 | BA15: =SUM(AX15:AZ15) -> 198 | BC15: HCP | BD15: =HCP!$B$16 -> 54 | BE15: =HCP!$B$16 -> 54 | BF15: =HCP!$B$16 -> 54 | BG15: =SUM(BD15:BF15) -> 162
A16: Sum | B16: =SUM(B8:B15) -> 470 | C16: =SUM(C8:C15) -> 594 | D16: =SUM(D8:D15) -> 568 | E16: =SUM(B16:D16) -> 1632 | H16: =SUM(H8:H15) -> 571 | I16: =SUM(I8:I15) -> 617 | J16: =SUM(J8:J15) -> 589 | K16: =SUM(H16:J16) -> 1777 | N16: =SUM(N8:N15) -> 521 | O16: =SUM(O8:O15) -> 505 | P16: =SUM(P8:P15) -> 560 | Q16: =SUM(N16:P16) -> 1586 | T16: =SUM(T8:T15) -> 449 | U16: =SUM(U8:U15) -> 489 | V16: =SUM(V8:V15) -> 544 | W16: =SUM(T16:V16) -> 1482 | Z16: =SUM(Z8:Z15) -> 96 | AA16: =SUM(AA8:AA15) -> 96 | AB16: =SUM(AB8:AB15) -> 230 | AC16: =SUM(Z16:AB16) -> 422 | AF16: =SUM(AF8:AF15) -> 570 | AG16: =SUM(AG8:AG15) -> 550 | AH16: =SUM(AH8:AH15) -> 594 | AI16: =SUM(AF16:AH16) -> 1714 | AL16: =SUM(AL8:AL15) -> 413 | AM16: =SUM(AM8:AM15) -> 467 | AN16: =SUM(AN8:AN15) -> 430 | AO16: =SUM(AL16:AN16) -> 1310 | AR16: =SUM(AR8:AR15) -> 566 | AS16: =SUM(AS8:AS15) -> 488 | AT16: =SUM(AT8:AT15) -> 481 | AU16: =SUM(AR16:AT16) -> 1535 | AX16: =SUM(AX8:AX15) -> 516 | AY16: =SUM(AY8:AY15) -> 551 | AZ16: =SUM(AZ8:AZ15) -> 436 | BA16: =SUM(AX16:AZ16) -> 1503 | BD16: =SUM(BD8:BD15) -> 495 | BE16: =SUM(BE8:BE15) -> 443 | BF16: =SUM(BF8:BF15) -> 514 | BG16: =SUM(BD16:BF16) -> 1452
A17: Poeng | B17: =IF(E16-E15=0,"0",IF(B16>H16,1,IF(B16=H16,"0,5",0))) -> 0 | C17: =IF(E16-E15=0,"0",IF(C16>I16,1,IF(C16=I16,"0,5",0))) -> 0 | D17: =IF(E16-E15=0,"0",IF(D16>J16,1,IF(D16=J16,"0,5",0))) -> 0 | E17: =IF(E16-E15=0,"0",IF(E16>K16,1,IF(E16=K16,"0,5",0))) -> 0 | H17: =IF(K16-K15=0,"0",IF(H16>B16,1,IF(H16=B16,"0,5",0))) -> 1 | I17: =IF(K16-K15=0,"0",IF(I16>C16,1,IF(I16=C16,"0,5",0))) -> 1 | J17: =IF(K16-K15=0,"0",IF(J16>D16,1,IF(J16=D16,"0,5",0))) -> 1 | K17: =IF(K16-K15=0,"0",IF(K16>E16,1,IF(K16=E16,"0,5",0))) -> 1 | N17: =IF(Q16-Q15=0,"0",IF(N16>T16,1,IF(N16=T16,"0,5",0))) -> 1 | O17: =IF(Q16-Q15=0,"0",IF(O16>U16,1,IF(O16=U16,"0,5",0))) -> 1 | P17: =IF(Q16-Q15=0,"0",IF(P16>V16,1,IF(P16=V16,"0,5",0))) -> 1 | Q17: =IF(Q16-Q15=0,"0",IF(Q16>W16,1,IF(Q16=W16,"0,5",0))) -> 1 | T17: =IF(W16-W15=0,"0",IF(T16>N16,1,IF(T16=N16,"0,5",0))) -> 0 | U17: =IF(W16-W15=0,"0",IF(U16>O16,1,IF(U16=O16,"0,5",0))) -> 0 | V17: =IF(W16-W15=0,"0",IF(V16>P16,1,IF(V16=P16,"0,5",0))) -> 0 | W17: =IF(W16-W15=0,"0",IF(W16>Q16,1,IF(W16=Q16,"0,5",0))) -> 0 | Z17: =IF(AC16-AC15=0,"0",IF(Z16>AF16,1,IF(Z16=AF16,"0,5",0))) -> 0 | AA17: =IF(AC16-AC15=0,"0",IF(AA16>AG16,1,IF(AA16=AG16,"0,5",0))) -> 0 | AB17: =IF(AC16-AC15=0,"0",IF(AB16>AH16,1,IF(AB16=AH16,"0,5",0))) -> 0 | AC17: =IF(AC16-AC15=0,"0",IF(AC16>AI16,1,IF(AC16=AI16,"0,5",0))) -> 0 | AF17: =IF(AI16-AI15=0,"0",IF(AF16>Z16,1,IF(AF16=Z16,"0,5",0))) -> 1 | AG17: =IF(AI16-AI15=0,"0",IF(AG16>AA16,1,IF(AG16=AA16,"0,5",0))) -> 1 | AH17: =IF(AI16-AI15=0,"0",IF(AH16>AB16,1,IF(AH16=AB16,"0,5",0))) -> 1 | AI17: =IF(AI16-AI15=0,"0",IF(AI16>AC16,1,IF(AI16=AC16,"0,5",0))) -> 1 | AL17: =IF(AO16-AO15=0,"0",IF(AL16>AR16,1,IF(AL16=AR16,"0,5",0))) -> 0 | AM17: =IF(AO16-AO15=0,"0",IF(AM16>AS16,1,IF(AM16=AS16,"0,5",0))) -> 0 | AN17: =IF(AO16-AO15=0,"0",IF(AN16>AT16,1,IF(AN16=AT16,"0,5",0))) -> 0 | AO17: =IF(AO16-AO15=0,"0",IF(AO16>AU16,1,IF(AO16=AU16,"0,5",0))) -> 0 | AR17: =IF(AU16-AU15=0,"0",IF(AR16>AL16,1,IF(AR16=AL16,"0,5",0))) -> 1 | AS17: =IF(AU16-AU15=0,"0",IF(AS16>AM16,1,IF(AS16=AM16,"0,5",0))) -> 1 | AT17: =IF(AU16-AU15=0,"0",IF(AT16>AN16,1,IF(AT16=AN16,"0,5",0))) -> 1 | AU17: =IF(AU16-AU15=0,"0",IF(AU16>AO16,1,IF(AU16=AO16,"0,5",0))) -> 1 | AX17: =IF(BA16-BA15=0,"0",IF(AX16>BD16,1,IF(AX16=BD16,"0,5",0))) -> 1 | AY17: =IF(BA16-BA15=0,"0",IF(AY16>BE16,1,IF(AY16=BE16,"0,5",0))) -> 1 | AZ17: =IF(BA16-BA15=0,"0",IF(AZ16>BF16,1,IF(AZ16=BF16,"0,5",0))) -> 0 | BA17: =IF(BA16-BA15=0,"0",IF(BA16>BG16,1,IF(BA16=BG16,"0,5",0))) -> 1 | BD17: =IF(BG16-BG15=0,"0",IF(BD16>AX16,1,IF(BD16=AX16,"0,5",0))) -> 0 | BE17: =IF(BG16-BG15=0,"0",IF(BE16>AY16,1,IF(BE16=AY16,"0,5",0))) -> 0 | BF17: =IF(BG16-BG15=0,"0",IF(BF16>AZ16,1,IF(BF16=AZ16,"0,5",0))) -> 1 | BG17: =IF(BG16-BG15=0,"0",IF(BG16>BA16,1,IF(BG16=BA16,"0,5",0))) -> 0
D18: Poeng: | E18: =SUM(B17:E17) -> 0 | J18: Poeng: | K18: =SUM(H17:K17) -> 4 | P18: Poeng: | Q18: =SUM(N17:Q17) -> 4 | V18: Poeng: | W18: =SUM(T17:W17) -> 0 | AB18: Poeng: | AC18: =SUM(Z17:AC17) -> 0 | AH18: Poeng: | AI18: =SUM(AF17:AI17) -> 4 | AN18: Poeng: | AO18: =SUM(AL17:AO17) -> 0 | AT18: Poeng: | AU18: =SUM(AR17:AU17) -> 4 | AZ18: Poeng: | BA18: =SUM(AX17:BA17) -> 3 | BF18: Poeng: | BG18: =SUM(BD17:BG17) -> 1
D19: Status | E19: =IF(E16-E15=0,"IS",IF(E18>K18,"S",IF(E18<K18,"T",IF(E18=K18,"U","0")))) -> T | J19: Status | K19: =IF(K16-K15=0,"IS",IF(K18>E18,"S",IF(K18<E18,"T",IF(K18=E18,"U","0")))) -> S | P19: Status | Q19: =IF(Q16-Q15=0,"IS",IF(Q18>W18,"S",IF(Q18<W18,"T",IF(Q18=W18,"U","0")))) -> S | V19: Status | W19: =IF(W16-W15=0,"IS",IF(W18>Q18,"S",IF(W18<Q18,"T",IF(W18=Q18,"U","0")))) -> T | AB19: Status | AC19: =IF(AC16-AC15=0,"IS",IF(AC18>AI18,"S",IF(AC18<AI18,"T",IF(AC18=AI18,"U","0")))) -> T | AH19: Status | AI19: =IF(AI16-AI15=0,"IS",IF(AI18>AC18,"S",IF(AI18<AC18,"T",IF(AI18=AC18,"U","0")))) -> S | AN19: Status | AO19: =IF(AO16-AO15=0,"IS",IF(AO18>AU18,"S",IF(AO18<AU18,"T",IF(AO18=AU18,"U","0")))) -> T | AT19: Status | AU19: =IF(AU16-AU15=0,"IS",IF(AU18>AO18,"S",IF(AU18<AO18,"T",IF(AU18=AO18,"U","0")))) -> S | AZ19: Status | BA19: =IF(BA16-BA15=0,"IS",IF(BA18>BG18,"S",IF(BA18<BG18,"T",IF(BA18=BG18,"U","0")))) -> S | BF19: Status | BG19: =IF(BG16-BG15=0,"IS",IF(BG18>BA18,"S",IF(BG18<BA18,"T",IF(BG18=BA18,"U","0")))) -> T
A21: Runde 2
A22: Kamp 6 | M22: Kamp 7 | Y22: Kamp 8 | AK22: Kamp 9 | AW22: Kamp 10
A23: Hjemmelag: | B23: Danielsen å i | G23: Bortelag: | H23: Ytre Bowlinglag | M23: Hjemmelag: | N23: Glamox | S23: Bortelag: | T23: Molde Kommune | Y23: Hjemmelag: | Z23: Normo Slipestasjon | AE23: Bortelag: | AF23: TietoEVRY | AK23: Hjemmelag: | AL23: Rørlegger 1 | AQ23: Bortelag: | AR23: Istad Strikers | AW23: Hjemmelag: | AX23: Panorama turkeys | BC23: Bortelag: | BD23: Team Fuglset
A25: Navn på spiller | B25: Omgang 1 | C25: Omgang 2 | D25: Omgang 3 | E25: Sum | G25: Navn på spiller | H25: Omgang 1 | I25: Omgang 2 | J25: Omgang 3 | K25: Sum | M25: Navn på spiller | N25: Omgang 1 | O25: Omgang 2 | P25: Omgang 3 | Q25: Sum | S25: Navn på spiller | T25: Omgang 1 | U25: Omgang 2 | V25: Omgang 3 | W25: Sum | Y25: Navn på spiller | Z25: Omgang 1 | AA25: Omgang 2 | AB25: Omgang 3 | AC25: Sum | AE25: Navn på spiller | AF25: Omgang 1 | AG25: Omgang 2 | AH25: Omgang 3 | AI25: Sum | AK25: Navn på spiller | AL25: Omgang 1 | AM25: Omgang 2 | AN25: Omgang 3 | AO25: Sum | AQ25: Navn på spiller | AR25: Omgang 1 | AS25: Omgang 2 | AT25: Omgang 3 | AU25: Sum | AW25: Navn på spiller | AX25: Omgang 1 | AY25: Omgang 2 | AZ25: Omgang 3 | BA25: Sum | BC25: Navn på spiller | BD25: Omgang 1 | BE25: Omgang 2 | BF25: Omgang 3 | BG25: Sum
A26: =IF(B23="Normo Slipestasjon",'Tellere og summer'!$A$3,IF(B23="Glamox",'Tellere og summer'!$A$13,IF(B23="Molde Kommune",'Tellere og summer'!$A$23,IF(B23="Rørlegger 1",'Tellere og summer'!$A$33,IF(B23="TietoEVRY",'Tellere og summer'!$A$43,IF(B23="Danielsen å i",'Tellere og summer'!$A$53,IF(B23="Panorama Turkeys",'Tellere og summer'!$A$63,IF(B23="Team Fuglset",'Tellere og summer'!$A$73,IF(B23="Istad Strikers",'Tellere og summer'!$A$83,IF(B23="Ytre Bowlinglag",'Tellere og summer'!$A$93,"NA")))))))))) -> Kjell Thorsrudhagen | B26: 149 | D26: 155 | E26: =SUM(B26:D26) -> 304 | G26: =IF(H23="Normo Slipestasjon",'Tellere og summer'!$A$3,IF(H23="Glamox",'Tellere og summer'!$A$13,IF(H23="Molde Kommune",'Tellere og summer'!$A$23,IF(H23="Rørlegger 1",'Tellere og summer'!$A$33,IF(H23="TietoEVRY",'Tellere og summer'!$A$43,IF(H23="Danielsen å i",'Tellere og summer'!$A$53,IF(H23="Panorama Turkeys",'Tellere og summer'!$A$63,IF(H23="Team Fuglset",'Tellere og summer'!$A$73,IF(H23="Istad Strikers",'Tellere og summer'!$A$83,IF(H23="Ytre Bowlinglag",'Tellere og summer'!$A$93,"NA")))))))))) -> Amund Vaagen | H26: 179 | I26: 169 | J26: 192 | K26: =SUM(H26:J26) -> 540 | M26: =IF(N23="Normo Slipestasjon",'Tellere og summer'!$A$3,IF(N23="Glamox",'Tellere og summer'!$A$13,IF(N23="Molde Kommune",'Tellere og summer'!$A$23,IF(N23="Rørlegger 1",'Tellere og summer'!$A$33,IF(N23="TietoEVRY",'Tellere og summer'!$A$43,IF(N23="Danielsen å i",'Tellere og summer'!$A$53,IF(N23="Panorama Turkeys",'Tellere og summer'!$A$63,IF(N23="Team Fuglset",'Tellere og summer'!$A$73,IF(N23="Istad Strikers",'Tellere og summer'!$A$83,IF(N23="Ytre Bowlinglag",'Tellere og summer'!$A$93,"NA")))))))))) -> Paul Boyle | N26: 164 | O26: 151 | P26: 168 | Q26: =SUM(N26:P26) -> 483 | S26: =IF(T23="Normo Slipestasjon",'Tellere og summer'!$A$3,IF(T23="Glamox",'Tellere og summer'!$A$13,IF(T23="Molde Kommune",'Tellere og summer'!$A$23,IF(T23="Rørlegger 1",'Tellere og summer'!$A$33,IF(T23="TietoEVRY",'Tellere og summer'!$A$43,IF(T23="Danielsen å i",'Tellere og summer'!$A$53,IF(T23="Panorama Turkeys",'Tellere og summer'!$A$63,IF(T23="Team Fuglset",'Tellere og summer'!$A$73,IF(T23="Istad Strikers",'Tellere og summer'!$A$83,IF(T23="Ytre Bowlinglag",'Tellere og summer'!$A$93,"NA")))))))))) -> Gerd Norunn Nygård | V26: 109 | W26: =SUM(T26:V26) -> 109 | Y26: =IF(Z23="Normo Slipestasjon",'Tellere og summer'!$A$3,IF(Z23="Glamox",'Tellere og summer'!$A$13,IF(Z23="Molde Kommune",'Tellere og summer'!$A$23,IF(Z23="Rørlegger 1",'Tellere og summer'!$A$33,IF(Z23="TietoEVRY",'Tellere og summer'!$A$43,IF(Z23="Danielsen å i",'Tellere og summer'!$A$53,IF(Z23="Panorama Turkeys",'Tellere og summer'!$A$63,IF(Z23="Team Fuglset",'Tellere og summer'!$A$73,IF(Z23="Istad Strikers",'Tellere og summer'!$A$83,IF(Z23="Ytre Bowlinglag",'Tellere og summer'!$A$93,"NA")))))))))) -> Asbjørn Toft | Z26: 164 | AA26: 147 | AB26: 121 | AC26: =SUM(Z26:AB26) -> 432 | AE26: =IF(AF23="Normo Slipestasjon",'Tellere og summer'!$A$3,IF(AF23="Glamox",'Tellere og summer'!$A$13,IF(AF23="Molde Kommune",'Tellere og summer'!$A$23,IF(AF23="Rørlegger 1",'Tellere og summer'!$A$33,IF(AF23="TietoEVRY",'Tellere og summer'!$A$43,IF(AF23="Danielsen å i",'Tellere og summer'!$A$53,IF(AF23="Panorama Turkeys",'Tellere og summer'!$A$63,IF(AF23="Team Fuglset",'Tellere og summer'!$A$73,IF(AF23="Istad Strikers",'Tellere og summer'!$A$83,IF(AF23="Ytre Bowlinglag",'Tellere og summer'!$A$93,"NA")))))))))) -> Svein Erik Jenset | AI26: =SUM(AF26:AH26) -> 0 | AK26: =IF(AL23="Normo Slipestasjon",'Tellere og summer'!$A$3,IF(AL23="Glamox",'Tellere og summer'!$A$13,IF(AL23="Molde Kommune",'Tellere og summer'!$A$23,IF(AL23="Rørlegger 1",'Tellere og summer'!$A$33,IF(AL23="TietoEVRY",'Tellere og summer'!$A$43,IF(AL23="Danielsen å i",'Tellere og summer'!$A$53,IF(AL23="Panorama Turkeys",'Tellere og summer'!$A$63,IF(AL23="Team Fuglset",'Tellere og summer'!$A$73,IF(AL23="Istad Strikers",'Tellere og summer'!$A$83,IF(AL23="Ytre Bowlinglag",'Tellere og summer'!$A$93,"NA")))))))))) -> Arnfinn Lange | AL26: 104 | AM26: 129 | AN26: 139 | AO26: =SUM(AL26:AN26) -> 372 | AQ26: =IF(AR23="Normo Slipestasjon",'Tellere og summer'!$A$3,IF(AR23="Glamox",'Tellere og summer'!$A$13,IF(AR23="Molde Kommune",'Tellere og summer'!$A$23,IF(AR23="Rørlegger 1",'Tellere og summer'!$A$33,IF(AR23="TietoEVRY",'Tellere og summer'!$A$43,IF(AR23="Danielsen å i",'Tellere og summer'!$A$53,IF(AR23="Panorama Turkeys",'Tellere og summer'!$A$63,IF(AR23="Team Fuglset",'Tellere og summer'!$A$73,IF(AR23="Istad Strikers",'Tellere og summer'!$A$83,IF(AR23="Ytre Bowlinglag",'Tellere og summer'!$A$93,"NA")))))))))) -> Arne Ytterhaug | AR26: 129 | AS26: 131 | AT26: 223 | AU26: =SUM(AR26:AT26) -> 483 | AW26: =IF(AX23="Normo Slipestasjon",'Tellere og summer'!$A$3,IF(AX23="Glamox",'Tellere og summer'!$A$13,IF(AX23="Molde Kommune",'Tellere og summer'!$A$23,IF(AX23="Rørlegger 1",'Tellere og summer'!$A$33,IF(AX23="TietoEVRY",'Tellere og summer'!$A$43,IF(AX23="Danielsen å i",'Tellere og summer'!$A$53,IF(AX23="Panorama Turkeys",'Tellere og summer'!$A$63,IF(AX23="Team Fuglset",'Tellere og summer'!$A$73,IF(AX23="Istad Strikers",'Tellere og summer'!$A$83,IF(AX23="Ytre Bowlinglag",'Tellere og summer'!$A$93,"NA")))))))))) -> Martin Aarø | AX26: 181 | AY26: 190 | AZ26: 235 | BA26: =SUM(AX26:AZ26) -> 606 | BC26: =IF(BD23="Normo Slipestasjon",'Tellere og summer'!$A$3,IF(BD23="Glamox",'Tellere og summer'!$A$13,IF(BD23="Molde Kommune",'Tellere og summer'!$A$23,IF(BD23="Rørlegger 1",'Tellere og summer'!$A$33,IF(BD23="TietoEVRY",'Tellere og summer'!$A$43,IF(BD23="Danielsen å i",'Tellere og summer'!$A$53,IF(BD23="Panorama Turkeys",'Tellere og summer'!$A$63,IF(BD23="Team Fuglset",'Tellere og summer'!$A$73,IF(BD23="Istad Strikers",'Tellere og summer'!$A$83,IF(BD23="Ytre Bowlinglag",'Tellere og summer'!$A$93,"NA")))))))))) -> Sten-Morten Kjørsvik | BD26: 158 | BE26: 123 | BF26: 155 | BG26: =SUM(BD26:BF26) -> 436
A27: =IF(B23="Normo Slipestasjon",'Tellere og summer'!$A$4,IF(B23="Glamox",'Tellere og summer'!$A$14,IF(B23="Molde Kommune",'Tellere og summer'!$A$24,IF(B23="Rørlegger 1",'Tellere og summer'!$A$34,IF(B23="TietoEVRY",'Tellere og summer'!$A$44,IF(B23="Danielsen å i",'Tellere og summer'!$A$54,IF(B23="Panorama Turkeys",'Tellere og summer'!$A$64,IF(B23="Team Fuglset",'Tellere og summer'!$A$74,IF(B23="Istad Strikers",'Tellere og summer'!$A$84,IF(B23="Ytre Bowlinglag",'Tellere og summer'!$A$94,"NA")))))))))) -> Alhild Danielsen | C27: 181 | D27: 145 | E27: =SUM(B27:D27) -> 326 | G27: =IF(H23="Normo Slipestasjon",'Tellere og summer'!$A$4,IF(H23="Glamox",'Tellere og summer'!$A$14,IF(H23="Molde Kommune",'Tellere og summer'!$A$24,IF(H23="Rørlegger 1",'Tellere og summer'!$A$34,IF(H23="TietoEVRY",'Tellere og summer'!$A$44,IF(H23="Danielsen å i",'Tellere og summer'!$A$54,IF(H23="Panorama Turkeys",'Tellere og summer'!$A$64,IF(H23="Team Fuglset",'Tellere og summer'!$A$74,IF(H23="Istad Strikers",'Tellere og summer'!$A$84,IF(H23="Ytre Bowlinglag",'Tellere og summer'!$A$94,"NA")))))))))) -> Halvor Vaagen | H27: 175 | I27: 157 | J27: 137 | K27: =SUM(H27:J27) -> 469 | M27: =IF(N23="Normo Slipestasjon",'Tellere og summer'!$A$4,IF(N23="Glamox",'Tellere og summer'!$A$14,IF(N23="Molde Kommune",'Tellere og summer'!$A$24,IF(N23="Rørlegger 1",'Tellere og summer'!$A$34,IF(N23="TietoEVRY",'Tellere og summer'!$A$44,IF(N23="Danielsen å i",'Tellere og summer'!$A$54,IF(N23="Panorama Turkeys",'Tellere og summer'!$A$64,IF(N23="Team Fuglset",'Tellere og summer'!$A$74,IF(N23="Istad Strikers",'Tellere og summer'!$A$84,IF(N23="Ytre Bowlinglag",'Tellere og summer'!$A$94,"NA")))))))))) -> Rikard Nerland | N27: 147 | O27: 193 | P27: 166 | Q27: =SUM(N27:P27) -> 506 | S27: =IF(T23="Normo Slipestasjon",'Tellere og summer'!$A$4,IF(T23="Glamox",'Tellere og summer'!$A$14,IF(T23="Molde Kommune",'Tellere og summer'!$A$24,IF(T23="Rørlegger 1",'Tellere og summer'!$A$34,IF(T23="TietoEVRY",'Tellere og summer'!$A$44,IF(T23="Danielsen å i",'Tellere og summer'!$A$54,IF(T23="Panorama Turkeys",'Tellere og summer'!$A$64,IF(T23="Team Fuglset",'Tellere og summer'!$A$74,IF(T23="Istad Strikers",'Tellere og summer'!$A$84,IF(T23="Ytre Bowlinglag",'Tellere og summer'!$A$94,"NA")))))))))) -> Ole Østigård | T27: 134 | U27: 176 | V27: 140 | W27: =SUM(T27:V27) -> 450 | Y27: =IF(Z23="Normo Slipestasjon",'Tellere og summer'!$A$4,IF(Z23="Glamox",'Tellere og summer'!$A$14,IF(Z23="Molde Kommune",'Tellere og summer'!$A$24,IF(Z23="Rørlegger 1",'Tellere og summer'!$A$34,IF(Z23="TietoEVRY",'Tellere og summer'!$A$44,IF(Z23="Danielsen å i",'Tellere og summer'!$A$54,IF(Z23="Panorama Turkeys",'Tellere og summer'!$A$64,IF(Z23="Team Fuglset",'Tellere og summer'!$A$74,IF(Z23="Istad Strikers",'Tellere og summer'!$A$84,IF(Z23="Ytre Bowlinglag",'Tellere og summer'!$A$94,"NA")))))))))) -> Tormod Kleppe | Z27: 107 | AA27: 69 | AB27: 111 | AC27: =SUM(Z27:AB27) -> 287 | AE27: =IF(AF23="Normo Slipestasjon",'Tellere og summer'!$A$4,IF(AF23="Glamox",'Tellere og summer'!$A$14,IF(AF23="Molde Kommune",'Tellere og summer'!$A$24,IF(AF23="Rørlegger 1",'Tellere og summer'!$A$34,IF(AF23="TietoEVRY",'Tellere og summer'!$A$44,IF(AF23="Danielsen å i",'Tellere og summer'!$A$54,IF(AF23="Panorama Turkeys",'Tellere og summer'!$A$64,IF(AF23="Team Fuglset",'Tellere og summer'!$A$74,IF(AF23="Istad Strikers",'Tellere og summer'!$A$84,IF(AF23="Ytre Bowlinglag",'Tellere og summer'!$A$94,"NA")))))))))) -> Øystein Lervik | AI27: =SUM(AF27:AH27) -> 0 | AK27: =IF(AL23="Normo Slipestasjon",'Tellere og summer'!$A$4,IF(AL23="Glamox",'Tellere og summer'!$A$14,IF(AL23="Molde Kommune",'Tellere og summer'!$A$24,IF(AL23="Rørlegger 1",'Tellere og summer'!$A$34,IF(AL23="TietoEVRY",'Tellere og summer'!$A$44,IF(AL23="Danielsen å i",'Tellere og summer'!$A$54,IF(AL23="Panorama Turkeys",'Tellere og summer'!$A$64,IF(AL23="Team Fuglset",'Tellere og summer'!$A$74,IF(AL23="Istad Strikers",'Tellere og summer'!$A$84,IF(AL23="Ytre Bowlinglag",'Tellere og summer'!$A$94,"NA")))))))))) -> Billy Williams | AL27: 138 | AM27: 105 | AN27: 137 | AO27: =SUM(AL27:AN27) -> 380 | AQ27: =IF(AR23="Normo Slipestasjon",'Tellere og summer'!$A$4,IF(AR23="Glamox",'Tellere og summer'!$A$14,IF(AR23="Molde Kommune",'Tellere og summer'!$A$24,IF(AR23="Rørlegger 1",'Tellere og summer'!$A$34,IF(AR23="TietoEVRY",'Tellere og summer'!$A$44,IF(AR23="Danielsen å i",'Tellere og summer'!$A$54,IF(AR23="Panorama Turkeys",'Tellere og summer'!$A$64,IF(AR23="Team Fuglset",'Tellere og summer'!$A$74,IF(AR23="Istad Strikers",'Tellere og summer'!$A$84,IF(AR23="Ytre Bowlinglag",'Tellere og summer'!$A$94,"NA")))))))))) -> Magne Farstadvoll | AU27: =SUM(AR27:AT27) -> 0 | AW27: =IF(AX23="Normo Slipestasjon",'Tellere og summer'!$A$4,IF(AX23="Glamox",'Tellere og summer'!$A$14,IF(AX23="Molde Kommune",'Tellere og summer'!$A$24,IF(AX23="Rørlegger 1",'Tellere og summer'!$A$34,IF(AX23="TietoEVRY",'Tellere og summer'!$A$44,IF(AX23="Danielsen å i",'Tellere og summer'!$A$54,IF(AX23="Panorama Turkeys",'Tellere og summer'!$A$64,IF(AX23="Team Fuglset",'Tellere og summer'!$A$74,IF(AX23="Istad Strikers",'Tellere og summer'!$A$84,IF(AX23="Ytre Bowlinglag",'Tellere og summer'!$A$94,"NA")))))))))) -> Jamie Sagstuen | BA27: =SUM(AX27:AZ27) -> 0 | BC27: =IF(BD23="Normo Slipestasjon",'Tellere og summer'!$A$4,IF(BD23="Glamox",'Tellere og summer'!$A$14,IF(BD23="Molde Kommune",'Tellere og summer'!$A$24,IF(BD23="Rørlegger 1",'Tellere og summer'!$A$34,IF(BD23="TietoEVRY",'Tellere og summer'!$A$44,IF(BD23="Danielsen å i",'Tellere og summer'!$A$54,IF(BD23="Panorama Turkeys",'Tellere og summer'!$A$64,IF(BD23="Team Fuglset",'Tellere og summer'!$A$74,IF(BD23="Istad Strikers",'Tellere og summer'!$A$84,IF(BD23="Ytre Bowlinglag",'Tellere og summer'!$A$94,"NA")))))))))) -> Lars Brian Taylor | BG27: =SUM(BD27:BF27) -> 0
A28: =IF(B23="Normo Slipestasjon",'Tellere og summer'!$A$5,IF(B23="Glamox",'Tellere og summer'!$A$15,IF(B23="Molde Kommune",'Tellere og summer'!$A$25,IF(B23="Rørlegger 1",'Tellere og summer'!$A$35,IF(B23="TietoEVRY",'Tellere og summer'!$A$45,IF(B23="Danielsen å i",'Tellere og summer'!$A$55,IF(B23="Panorama Turkeys",'Tellere og summer'!$A$65,IF(B23="Team Fuglset",'Tellere og summer'!$A$75,IF(B23="Istad Strikers",'Tellere og summer'!$A$85,IF(B23="Ytre Bowlinglag",'Tellere og summer'!$A$95,"NA")))))))))) -> Grethe Danielsen | B28: 225 | C28: 180 | D28: 186 | E28: =SUM(B28:D28) -> 591 | G28: =IF(H23="Normo Slipestasjon",'Tellere og summer'!$A$5,IF(H23="Glamox",'Tellere og summer'!$A$15,IF(H23="Molde Kommune",'Tellere og summer'!$A$25,IF(H23="Rørlegger 1",'Tellere og summer'!$A$35,IF(H23="TietoEVRY",'Tellere og summer'!$A$45,IF(H23="Danielsen å i",'Tellere og summer'!$A$55,IF(H23="Panorama Turkeys",'Tellere og summer'!$A$65,IF(H23="Team Fuglset",'Tellere og summer'!$A$75,IF(H23="Istad Strikers",'Tellere og summer'!$A$85,IF(H23="Ytre Bowlinglag",'Tellere og summer'!$A$95,"NA")))))))))) -> Jarle Endreplass | K28: =SUM(H28:J28) -> 0 | M28: =IF(N23="Normo Slipestasjon",'Tellere og summer'!$A$5,IF(N23="Glamox",'Tellere og summer'!$A$15,IF(N23="Molde Kommune",'Tellere og summer'!$A$25,IF(N23="Rørlegger 1",'Tellere og summer'!$A$35,IF(N23="TietoEVRY",'Tellere og summer'!$A$45,IF(N23="Danielsen å i",'Tellere og summer'!$A$55,IF(N23="Panorama Turkeys",'Tellere og summer'!$A$65,IF(N23="Team Fuglset",'Tellere og summer'!$A$75,IF(N23="Istad Strikers",'Tellere og summer'!$A$85,IF(N23="Ytre Bowlinglag",'Tellere og summer'!$A$95,"NA")))))))))) -> Christian Pascal | N28: 176 | O28: 175 | P28: 104 | Q28: =SUM(N28:P28) -> 455 | S28: =IF(T23="Normo Slipestasjon",'Tellere og summer'!$A$5,IF(T23="Glamox",'Tellere og summer'!$A$15,IF(T23="Molde Kommune",'Tellere og summer'!$A$25,IF(T23="Rørlegger 1",'Tellere og summer'!$A$35,IF(T23="TietoEVRY",'Tellere og summer'!$A$45,IF(T23="Danielsen å i",'Tellere og summer'!$A$55,IF(T23="Panorama Turkeys",'Tellere og summer'!$A$65,IF(T23="Team Fuglset",'Tellere og summer'!$A$75,IF(T23="Istad Strikers",'Tellere og summer'!$A$85,IF(T23="Ytre Bowlinglag",'Tellere og summer'!$A$95,"NA")))))))))) -> Tone Nygård Nilsen | T28: 128 | U28: 114 | W28: =SUM(T28:V28) -> 242 | Y28: =IF(Z23="Normo Slipestasjon",'Tellere og summer'!$A$5,IF(Z23="Glamox",'Tellere og summer'!$A$15,IF(Z23="Molde Kommune",'Tellere og summer'!$A$25,IF(Z23="Rørlegger 1",'Tellere og summer'!$A$35,IF(Z23="TietoEVRY",'Tellere og summer'!$A$45,IF(Z23="Danielsen å i",'Tellere og summer'!$A$55,IF(Z23="Panorama Turkeys",'Tellere og summer'!$A$65,IF(Z23="Team Fuglset",'Tellere og summer'!$A$75,IF(Z23="Istad Strikers",'Tellere og summer'!$A$85,IF(Z23="Ytre Bowlinglag",'Tellere og summer'!$A$95,"NA")))))))))) -> Tor Åge Langås | AC28: =SUM(Z28:AB28) -> 0 | AE28: =IF(AF23="Normo Slipestasjon",'Tellere og summer'!$A$5,IF(AF23="Glamox",'Tellere og summer'!$A$15,IF(AF23="Molde Kommune",'Tellere og summer'!$A$25,IF(AF23="Rørlegger 1",'Tellere og summer'!$A$35,IF(AF23="TietoEVRY",'Tellere og summer'!$A$45,IF(AF23="Danielsen å i",'Tellere og summer'!$A$55,IF(AF23="Panorama Turkeys",'Tellere og summer'!$A$65,IF(AF23="Team Fuglset",'Tellere og summer'!$A$75,IF(AF23="Istad Strikers",'Tellere og summer'!$A$85,IF(AF23="Ytre Bowlinglag",'Tellere og summer'!$A$95,"NA")))))))))) -> Vidar Lervik | AI28: =SUM(AF28:AH28) -> 0 | AK28: =IF(AL23="Normo Slipestasjon",'Tellere og summer'!$A$5,IF(AL23="Glamox",'Tellere og summer'!$A$15,IF(AL23="Molde Kommune",'Tellere og summer'!$A$25,IF(AL23="Rørlegger 1",'Tellere og summer'!$A$35,IF(AL23="TietoEVRY",'Tellere og summer'!$A$45,IF(AL23="Danielsen å i",'Tellere og summer'!$A$55,IF(AL23="Panorama Turkeys",'Tellere og summer'!$A$65,IF(AL23="Team Fuglset",'Tellere og summer'!$A$75,IF(AL23="Istad Strikers",'Tellere og summer'!$A$85,IF(AL23="Ytre Bowlinglag",'Tellere og summer'!$A$95,"NA")))))))))) -> Arild Gujord | AL28: 169 | AM28: 139 | AN28: 148 | AO28: =SUM(AL28:AN28) -> 456 | AQ28: =IF(AR23="Normo Slipestasjon",'Tellere og summer'!$A$5,IF(AR23="Glamox",'Tellere og summer'!$A$15,IF(AR23="Molde Kommune",'Tellere og summer'!$A$25,IF(AR23="Rørlegger 1",'Tellere og summer'!$A$35,IF(AR23="TietoEVRY",'Tellere og summer'!$A$45,IF(AR23="Danielsen å i",'Tellere og summer'!$A$55,IF(AR23="Panorama Turkeys",'Tellere og summer'!$A$65,IF(AR23="Team Fuglset",'Tellere og summer'!$A$75,IF(AR23="Istad Strikers",'Tellere og summer'!$A$85,IF(AR23="Ytre Bowlinglag",'Tellere og summer'!$A$95,"NA")))))))))) -> Jan Kjetil Holberg Sandnes | AU28: =SUM(AR28:AT28) -> 0 | AW28: =IF(AX23="Normo Slipestasjon",'Tellere og summer'!$A$5,IF(AX23="Glamox",'Tellere og summer'!$A$15,IF(AX23="Molde Kommune",'Tellere og summer'!$A$25,IF(AX23="Rørlegger 1",'Tellere og summer'!$A$35,IF(AX23="TietoEVRY",'Tellere og summer'!$A$45,IF(AX23="Danielsen å i",'Tellere og summer'!$A$55,IF(AX23="Panorama Turkeys",'Tellere og summer'!$A$65,IF(AX23="Team Fuglset",'Tellere og summer'!$A$75,IF(AX23="Istad Strikers",'Tellere og summer'!$A$85,IF(AX23="Ytre Bowlinglag",'Tellere og summer'!$A$95,"NA")))))))))) -> Martin Gikling & Evy | BA28: =SUM(AX28:AZ28) -> 0 | BC28: =IF(BD23="Normo Slipestasjon",'Tellere og summer'!$A$5,IF(BD23="Glamox",'Tellere og summer'!$A$15,IF(BD23="Molde Kommune",'Tellere og summer'!$A$25,IF(BD23="Rørlegger 1",'Tellere og summer'!$A$35,IF(BD23="TietoEVRY",'Tellere og summer'!$A$45,IF(BD23="Danielsen å i",'Tellere og summer'!$A$55,IF(BD23="Panorama Turkeys",'Tellere og summer'!$A$65,IF(BD23="Team Fuglset",'Tellere og summer'!$A$75,IF(BD23="Istad Strikers",'Tellere og summer'!$A$85,IF(BD23="Ytre Bowlinglag",'Tellere og summer'!$A$95,"NA")))))))))) -> Ole Morten Aarø | BG28: =SUM(BD28:BF28) -> 0
A29: =IF(B23="Normo Slipestasjon",'Tellere og summer'!$A$6,IF(B23="Glamox",'Tellere og summer'!$A$16,IF(B23="Molde Kommune",'Tellere og summer'!$A$26,IF(B23="Rørlegger 1",'Tellere og summer'!$A$36,IF(B23="TietoEVRY",'Tellere og summer'!$A$46,IF(B23="Danielsen å i",'Tellere og summer'!$A$56,IF(B23="Panorama Turkeys",'Tellere og summer'!$A$66,IF(B23="Team Fuglset",'Tellere og summer'!$A$76,IF(B23="Istad Strikers",'Tellere og summer'!$A$86,IF(B23="Ytre Bowlinglag",'Tellere og summer'!$A$96,"NA")))))))))) -> Irene T. Danielsen | B29: 211 | C29: 151 | E29: =SUM(B29:D29) -> 362 | G29: =IF(H23="Normo Slipestasjon",'Tellere og summer'!$A$6,IF(H23="Glamox",'Tellere og summer'!$A$16,IF(H23="Molde Kommune",'Tellere og summer'!$A$26,IF(H23="Rørlegger 1",'Tellere og summer'!$A$36,IF(H23="TietoEVRY",'Tellere og summer'!$A$46,IF(H23="Danielsen å i",'Tellere og summer'!$A$56,IF(H23="Panorama Turkeys",'Tellere og summer'!$A$66,IF(H23="Team Fuglset",'Tellere og summer'!$A$76,IF(H23="Istad Strikers",'Tellere og summer'!$A$86,IF(H23="Ytre Bowlinglag",'Tellere og summer'!$A$96,"NA")))))))))) -> Geir Gjelsten | H29: 179 | I29: 122 | J29: 140 | K29: =SUM(H29:J29) -> 441 | M29: =IF(N23="Normo Slipestasjon",'Tellere og summer'!$A$6,IF(N23="Glamox",'Tellere og summer'!$A$16,IF(N23="Molde Kommune",'Tellere og summer'!$A$26,IF(N23="Rørlegger 1",'Tellere og summer'!$A$36,IF(N23="TietoEVRY",'Tellere og summer'!$A$46,IF(N23="Danielsen å i",'Tellere og summer'!$A$56,IF(N23="Panorama Turkeys",'Tellere og summer'!$A$66,IF(N23="Team Fuglset",'Tellere og summer'!$A$76,IF(N23="Istad Strikers",'Tellere og summer'!$A$86,IF(N23="Ytre Bowlinglag",'Tellere og summer'!$A$96,"NA")))))))))) -> Odd Øyvind Fjørtoft | Q29: =SUM(N29:P29) -> 0 | S29: =IF(T23="Normo Slipestasjon",'Tellere og summer'!$A$6,IF(T23="Glamox",'Tellere og summer'!$A$16,IF(T23="Molde Kommune",'Tellere og summer'!$A$26,IF(T23="Rørlegger 1",'Tellere og summer'!$A$36,IF(T23="TietoEVRY",'Tellere og summer'!$A$46,IF(T23="Danielsen å i",'Tellere og summer'!$A$56,IF(T23="Panorama Turkeys",'Tellere og summer'!$A$66,IF(T23="Team Fuglset",'Tellere og summer'!$A$76,IF(T23="Istad Strikers",'Tellere og summer'!$A$86,IF(T23="Ytre Bowlinglag",'Tellere og summer'!$A$96,"NA")))))))))) -> Arild Bryhn | T29: 172 | U29: 192 | V29: 186 | W29: =SUM(T29:V29) -> 550 | Y29: =IF(Z23="Normo Slipestasjon",'Tellere og summer'!$A$6,IF(Z23="Glamox",'Tellere og summer'!$A$16,IF(Z23="Molde Kommune",'Tellere og summer'!$A$26,IF(Z23="Rørlegger 1",'Tellere og summer'!$A$36,IF(Z23="TietoEVRY",'Tellere og summer'!$A$46,IF(Z23="Danielsen å i",'Tellere og summer'!$A$56,IF(Z23="Panorama Turkeys",'Tellere og summer'!$A$66,IF(Z23="Team Fuglset",'Tellere og summer'!$A$76,IF(Z23="Istad Strikers",'Tellere og summer'!$A$86,IF(Z23="Ytre Bowlinglag",'Tellere og summer'!$A$96,"NA")))))))))) -> Thor Bolsønes | Z29: 111 | AA29: 169 | AB29: 140 | AC29: =SUM(Z29:AB29) -> 420 | AE29: =IF(AF23="Normo Slipestasjon",'Tellere og summer'!$A$6,IF(AF23="Glamox",'Tellere og summer'!$A$16,IF(AF23="Molde Kommune",'Tellere og summer'!$A$26,IF(AF23="Rørlegger 1",'Tellere og summer'!$A$36,IF(AF23="TietoEVRY",'Tellere og summer'!$A$46,IF(AF23="Danielsen å i",'Tellere og summer'!$A$56,IF(AF23="Panorama Turkeys",'Tellere og summer'!$A$66,IF(AF23="Team Fuglset",'Tellere og summer'!$A$76,IF(AF23="Istad Strikers",'Tellere og summer'!$A$86,IF(AF23="Ytre Bowlinglag",'Tellere og summer'!$A$96,"NA")))))))))) -> Svein Johan Hauge | AI29: =SUM(AF29:AH29) -> 0 | AK29: =IF(AL23="Normo Slipestasjon",'Tellere og summer'!$A$6,IF(AL23="Glamox",'Tellere og summer'!$A$16,IF(AL23="Molde Kommune",'Tellere og summer'!$A$26,IF(AL23="Rørlegger 1",'Tellere og summer'!$A$36,IF(AL23="TietoEVRY",'Tellere og summer'!$A$46,IF(AL23="Danielsen å i",'Tellere og summer'!$A$56,IF(AL23="Panorama Turkeys",'Tellere og summer'!$A$66,IF(AL23="Team Fuglset",'Tellere og summer'!$A$76,IF(AL23="Istad Strikers",'Tellere og summer'!$A$86,IF(AL23="Ytre Bowlinglag",'Tellere og summer'!$A$96,"NA")))))))))) -> Kristian Røstberg | AO29: =SUM(AL29:AN29) -> 0 | AQ29: =IF(AR23="Normo Slipestasjon",'Tellere og summer'!$A$6,IF(AR23="Glamox",'Tellere og summer'!$A$16,IF(AR23="Molde Kommune",'Tellere og summer'!$A$26,IF(AR23="Rørlegger 1",'Tellere og summer'!$A$36,IF(AR23="TietoEVRY",'Tellere og summer'!$A$46,IF(AR23="Danielsen å i",'Tellere og summer'!$A$56,IF(AR23="Panorama Turkeys",'Tellere og summer'!$A$66,IF(AR23="Team Fuglset",'Tellere og summer'!$A$76,IF(AR23="Istad Strikers",'Tellere og summer'!$A$86,IF(AR23="Ytre Bowlinglag",'Tellere og summer'!$A$96,"NA")))))))))) -> Sindre Aure | AU29: =SUM(AR29:AT29) -> 0 | AW29: =IF(AX23="Normo Slipestasjon",'Tellere og summer'!$A$6,IF(AX23="Glamox",'Tellere og summer'!$A$16,IF(AX23="Molde Kommune",'Tellere og summer'!$A$26,IF(AX23="Rørlegger 1",'Tellere og summer'!$A$36,IF(AX23="TietoEVRY",'Tellere og summer'!$A$46,IF(AX23="Danielsen å i",'Tellere og summer'!$A$56,IF(AX23="Panorama Turkeys",'Tellere og summer'!$A$66,IF(AX23="Team Fuglset",'Tellere og summer'!$A$76,IF(AX23="Istad Strikers",'Tellere og summer'!$A$86,IF(AX23="Ytre Bowlinglag",'Tellere og summer'!$A$96,"NA")))))))))) -> Jacob Lyche | AX29: 117 | AY29: 114 | AZ29: 100 | BA29: =SUM(AX29:AZ29) -> 331 | BC29: =IF(BD23="Normo Slipestasjon",'Tellere og summer'!$A$6,IF(BD23="Glamox",'Tellere og summer'!$A$16,IF(BD23="Molde Kommune",'Tellere og summer'!$A$26,IF(BD23="Rørlegger 1",'Tellere og summer'!$A$36,IF(BD23="TietoEVRY",'Tellere og summer'!$A$46,IF(BD23="Danielsen å i",'Tellere og summer'!$A$56,IF(BD23="Panorama Turkeys",'Tellere og summer'!$A$66,IF(BD23="Team Fuglset",'Tellere og summer'!$A$76,IF(BD23="Istad Strikers",'Tellere og summer'!$A$86,IF(BD23="Ytre Bowlinglag",'Tellere og summer'!$A$96,"NA")))))))))) -> Svein Gussiås | BD29: 151 | BE29: 127 | BF29: 116 | BG29: =SUM(BD29:BF29) -> 394
A30: =IF(B23="Normo Slipestasjon",'Tellere og summer'!$A$7,IF(B23="Glamox",'Tellere og summer'!$A$17,IF(B23="Molde Kommune",'Tellere og summer'!$A$27,IF(B23="Rørlegger 1",'Tellere og summer'!$A$37,IF(B23="TietoEVRY",'Tellere og summer'!$A$47,IF(B23="Danielsen å i",'Tellere og summer'!$A$57,IF(B23="Panorama Turkeys",'Tellere og summer'!$A$67,IF(B23="Team Fuglset",'Tellere og summer'!$A$77,IF(B23="Istad Strikers",'Tellere og summer'!$A$87,IF(B23="Ytre Bowlinglag",'Tellere og summer'!$A$97,"NA")))))))))) -> 0 | E30: =SUM(B30:D30) -> 0 | G30: =IF(H23="Normo Slipestasjon",'Tellere og summer'!$A$7,IF(H23="Glamox",'Tellere og summer'!$A$17,IF(H23="Molde Kommune",'Tellere og summer'!$A$27,IF(H23="Rørlegger 1",'Tellere og summer'!$A$37,IF(H23="TietoEVRY",'Tellere og summer'!$A$47,IF(H23="Danielsen å i",'Tellere og summer'!$A$57,IF(H23="Panorama Turkeys",'Tellere og summer'!$A$67,IF(H23="Team Fuglset",'Tellere og summer'!$A$77,IF(H23="Istad Strikers",'Tellere og summer'!$A$87,IF(H23="Ytre Bowlinglag",'Tellere og summer'!$A$97,"NA")))))))))) -> Steinar Småge | K30: =SUM(H30:J30) -> 0 | M30: =IF(N23="Normo Slipestasjon",'Tellere og summer'!$A$7,IF(N23="Glamox",'Tellere og summer'!$A$17,IF(N23="Molde Kommune",'Tellere og summer'!$A$27,IF(N23="Rørlegger 1",'Tellere og summer'!$A$37,IF(N23="TietoEVRY",'Tellere og summer'!$A$47,IF(N23="Danielsen å i",'Tellere og summer'!$A$57,IF(N23="Panorama Turkeys",'Tellere og summer'!$A$67,IF(N23="Team Fuglset",'Tellere og summer'!$A$77,IF(N23="Istad Strikers",'Tellere og summer'!$A$87,IF(N23="Ytre Bowlinglag",'Tellere og summer'!$A$97,"NA")))))))))) -> Erik Hoel | Q30: =SUM(N30:P30) -> 0 | S30: =IF(T23="Normo Slipestasjon",'Tellere og summer'!$A$7,IF(T23="Glamox",'Tellere og summer'!$A$17,IF(T23="Molde Kommune",'Tellere og summer'!$A$27,IF(T23="Rørlegger 1",'Tellere og summer'!$A$37,IF(T23="TietoEVRY",'Tellere og summer'!$A$47,IF(T23="Danielsen å i",'Tellere og summer'!$A$57,IF(T23="Panorama Turkeys",'Tellere og summer'!$A$67,IF(T23="Team Fuglset",'Tellere og summer'!$A$77,IF(T23="Istad Strikers",'Tellere og summer'!$A$87,IF(T23="Ytre Bowlinglag",'Tellere og summer'!$A$97,"NA")))))))))) -> Mette Jane Holand | W30: =SUM(T30:V30) -> 0 | Y30: =IF(Z23="Normo Slipestasjon",'Tellere og summer'!$A$7,IF(Z23="Glamox",'Tellere og summer'!$A$17,IF(Z23="Molde Kommune",'Tellere og summer'!$A$27,IF(Z23="Rørlegger 1",'Tellere og summer'!$A$37,IF(Z23="TietoEVRY",'Tellere og summer'!$A$47,IF(Z23="Danielsen å i",'Tellere og summer'!$A$57,IF(Z23="Panorama Turkeys",'Tellere og summer'!$A$67,IF(Z23="Team Fuglset",'Tellere og summer'!$A$77,IF(Z23="Istad Strikers",'Tellere og summer'!$A$87,IF(Z23="Ytre Bowlinglag",'Tellere og summer'!$A$97,"NA")))))))))) -> 0 | AC30: =SUM(Z30:AB30) -> 0 | AE30: =IF(AF23="Normo Slipestasjon",'Tellere og summer'!$A$7,IF(AF23="Glamox",'Tellere og summer'!$A$17,IF(AF23="Molde Kommune",'Tellere og summer'!$A$27,IF(AF23="Rørlegger 1",'Tellere og summer'!$A$37,IF(AF23="TietoEVRY",'Tellere og summer'!$A$47,IF(AF23="Danielsen å i",'Tellere og summer'!$A$57,IF(AF23="Panorama Turkeys",'Tellere og summer'!$A$67,IF(AF23="Team Fuglset",'Tellere og summer'!$A$77,IF(AF23="Istad Strikers",'Tellere og summer'!$A$87,IF(AF23="Ytre Bowlinglag",'Tellere og summer'!$A$97,"NA")))))))))) -> Arnfinn Løntjern | AI30: =SUM(AF30:AH30) -> 0 | AK30: =IF(AL23="Normo Slipestasjon",'Tellere og summer'!$A$7,IF(AL23="Glamox",'Tellere og summer'!$A$17,IF(AL23="Molde Kommune",'Tellere og summer'!$A$27,IF(AL23="Rørlegger 1",'Tellere og summer'!$A$37,IF(AL23="TietoEVRY",'Tellere og summer'!$A$47,IF(AL23="Danielsen å i",'Tellere og summer'!$A$57,IF(AL23="Panorama Turkeys",'Tellere og summer'!$A$67,IF(AL23="Team Fuglset",'Tellere og summer'!$A$77,IF(AL23="Istad Strikers",'Tellere og summer'!$A$87,IF(AL23="Ytre Bowlinglag",'Tellere og summer'!$A$97,"NA")))))))))) -> Pål Aslaksen | AO30: =SUM(AL30:AN30) -> 0 | AQ30: =IF(AR23="Normo Slipestasjon",'Tellere og summer'!$A$7,IF(AR23="Glamox",'Tellere og summer'!$A$17,IF(AR23="Molde Kommune",'Tellere og summer'!$A$27,IF(AR23="Rørlegger 1",'Tellere og summer'!$A$37,IF(AR23="TietoEVRY",'Tellere og summer'!$A$47,IF(AR23="Danielsen å i",'Tellere og summer'!$A$57,IF(AR23="Panorama Turkeys",'Tellere og summer'!$A$67,IF(AR23="Team Fuglset",'Tellere og summer'!$A$77,IF(AR23="Istad Strikers",'Tellere og summer'!$A$87,IF(AR23="Ytre Bowlinglag",'Tellere og summer'!$A$97,"NA")))))))))) -> Frode Lothe | AR30: 124 | AS30: 147 | AT30: 171 | AU30: =SUM(AR30:AT30) -> 442 | AW30: =IF(AX23="Normo Slipestasjon",'Tellere og summer'!$A$7,IF(AX23="Glamox",'Tellere og summer'!$A$17,IF(AX23="Molde Kommune",'Tellere og summer'!$A$27,IF(AX23="Rørlegger 1",'Tellere og summer'!$A$37,IF(AX23="TietoEVRY",'Tellere og summer'!$A$47,IF(AX23="Danielsen å i",'Tellere og summer'!$A$57,IF(AX23="Panorama Turkeys",'Tellere og summer'!$A$67,IF(AX23="Team Fuglset",'Tellere og summer'!$A$77,IF(AX23="Istad Strikers",'Tellere og summer'!$A$87,IF(AX23="Ytre Bowlinglag",'Tellere og summer'!$A$97,"NA")))))))))) -> Niklas Sevland | AX30: 130 | AY30: 91 | AZ30: 90 | BA30: =SUM(AX30:AZ30) -> 311 | BC30: =IF(BD23="Normo Slipestasjon",'Tellere og summer'!$A$7,IF(BD23="Glamox",'Tellere og summer'!$A$17,IF(BD23="Molde Kommune",'Tellere og summer'!$A$27,IF(BD23="Rørlegger 1",'Tellere og summer'!$A$37,IF(BD23="TietoEVRY",'Tellere og summer'!$A$47,IF(BD23="Danielsen å i",'Tellere og summer'!$A$57,IF(BD23="Panorama Turkeys",'Tellere og summer'!$A$67,IF(BD23="Team Fuglset",'Tellere og summer'!$A$77,IF(BD23="Istad Strikers",'Tellere og summer'!$A$87,IF(BD23="Ytre Bowlinglag",'Tellere og summer'!$A$97,"NA")))))))))) -> Preben Solem | BD30: 131 | BE30: 111 | BF30: 160 | BG30: =SUM(BD30:BF30) -> 402
A31: =IF(B23="Normo Slipestasjon",'Tellere og summer'!$A$8,IF(B23="Glamox",'Tellere og summer'!$A$18,IF(B23="Molde Kommune",'Tellere og summer'!$A$28,IF(B23="Rørlegger 1",'Tellere og summer'!$A$38,IF(B23="TietoEVRY",'Tellere og summer'!$A$48,IF(B23="Danielsen å i",'Tellere og summer'!$A$58,IF(B23="Panorama Turkeys",'Tellere og summer'!$A$68,IF(B23="Team Fuglset",'Tellere og summer'!$A$78,IF(B23="Istad Strikers",'Tellere og summer'!$A$88,IF(B23="Ytre Bowlinglag",'Tellere og summer'!$A$98,"NA")))))))))) -> 0 | E31: =SUM(B31:D31) -> 0 | G31: =IF(H23="Normo Slipestasjon",'Tellere og summer'!$A$8,IF(H23="Glamox",'Tellere og summer'!$A$18,IF(H23="Molde Kommune",'Tellere og summer'!$A$28,IF(H23="Rørlegger 1",'Tellere og summer'!$A$38,IF(H23="TietoEVRY",'Tellere og summer'!$A$48,IF(H23="Danielsen å i",'Tellere og summer'!$A$58,IF(H23="Panorama Turkeys",'Tellere og summer'!$A$68,IF(H23="Team Fuglset",'Tellere og summer'!$A$78,IF(H23="Istad Strikers",'Tellere og summer'!$A$88,IF(H23="Ytre Bowlinglag",'Tellere og summer'!$A$98,"NA")))))))))) -> 0 | K31: =SUM(H31:J31) -> 0 | M31: =IF(N23="Normo Slipestasjon",'Tellere og summer'!$A$8,IF(N23="Glamox",'Tellere og summer'!$A$18,IF(N23="Molde Kommune",'Tellere og summer'!$A$28,IF(N23="Rørlegger 1",'Tellere og summer'!$A$38,IF(N23="TietoEVRY",'Tellere og summer'!$A$48,IF(N23="Danielsen å i",'Tellere og summer'!$A$58,IF(N23="Panorama Turkeys",'Tellere og summer'!$A$68,IF(N23="Team Fuglset",'Tellere og summer'!$A$78,IF(N23="Istad Strikers",'Tellere og summer'!$A$88,IF(N23="Ytre Bowlinglag",'Tellere og summer'!$A$98,"NA")))))))))) -> 0 | Q31: =SUM(N31:P31) -> 0 | S31: =IF(T23="Normo Slipestasjon",'Tellere og summer'!$A$8,IF(T23="Glamox",'Tellere og summer'!$A$18,IF(T23="Molde Kommune",'Tellere og summer'!$A$28,IF(T23="Rørlegger 1",'Tellere og summer'!$A$38,IF(T23="TietoEVRY",'Tellere og summer'!$A$48,IF(T23="Danielsen å i",'Tellere og summer'!$A$58,IF(T23="Panorama Turkeys",'Tellere og summer'!$A$68,IF(T23="Team Fuglset",'Tellere og summer'!$A$78,IF(T23="Istad Strikers",'Tellere og summer'!$A$88,IF(T23="Ytre Bowlinglag",'Tellere og summer'!$A$98,"NA")))))))))) -> 0 | W31: =SUM(T31:V31) -> 0 | Y31: =IF(Z23="Normo Slipestasjon",'Tellere og summer'!$A$8,IF(Z23="Glamox",'Tellere og summer'!$A$18,IF(Z23="Molde Kommune",'Tellere og summer'!$A$28,IF(Z23="Rørlegger 1",'Tellere og summer'!$A$38,IF(Z23="TietoEVRY",'Tellere og summer'!$A$48,IF(Z23="Danielsen å i",'Tellere og summer'!$A$58,IF(Z23="Panorama Turkeys",'Tellere og summer'!$A$68,IF(Z23="Team Fuglset",'Tellere og summer'!$A$78,IF(Z23="Istad Strikers",'Tellere og summer'!$A$88,IF(Z23="Ytre Bowlinglag",'Tellere og summer'!$A$98,"NA")))))))))) -> 0 | AC31: =SUM(Z31:AB31) -> 0 | AE31: =IF(AF23="Normo Slipestasjon",'Tellere og summer'!$A$8,IF(AF23="Glamox",'Tellere og summer'!$A$18,IF(AF23="Molde Kommune",'Tellere og summer'!$A$28,IF(AF23="Rørlegger 1",'Tellere og summer'!$A$38,IF(AF23="TietoEVRY",'Tellere og summer'!$A$48,IF(AF23="Danielsen å i",'Tellere og summer'!$A$58,IF(AF23="Panorama Turkeys",'Tellere og summer'!$A$68,IF(AF23="Team Fuglset",'Tellere og summer'!$A$78,IF(AF23="Istad Strikers",'Tellere og summer'!$A$88,IF(AF23="Ytre Bowlinglag",'Tellere og summer'!$A$98,"NA")))))))))) -> Kjetil Oterholm | AI31: =SUM(AF31:AH31) -> 0 | AK31: =IF(AL23="Normo Slipestasjon",'Tellere og summer'!$A$8,IF(AL23="Glamox",'Tellere og summer'!$A$18,IF(AL23="Molde Kommune",'Tellere og summer'!$A$28,IF(AL23="Rørlegger 1",'Tellere og summer'!$A$38,IF(AL23="TietoEVRY",'Tellere og summer'!$A$48,IF(AL23="Danielsen å i",'Tellere og summer'!$A$58,IF(AL23="Panorama Turkeys",'Tellere og summer'!$A$68,IF(AL23="Team Fuglset",'Tellere og summer'!$A$78,IF(AL23="Istad Strikers",'Tellere og summer'!$A$88,IF(AL23="Ytre Bowlinglag",'Tellere og summer'!$A$98,"NA")))))))))) -> Stian Teistholmen | AO31: =SUM(AL31:AN31) -> 0 | AQ31: =IF(AR23="Normo Slipestasjon",'Tellere og summer'!$A$8,IF(AR23="Glamox",'Tellere og summer'!$A$18,IF(AR23="Molde Kommune",'Tellere og summer'!$A$28,IF(AR23="Rørlegger 1",'Tellere og summer'!$A$38,IF(AR23="TietoEVRY",'Tellere og summer'!$A$48,IF(AR23="Danielsen å i",'Tellere og summer'!$A$58,IF(AR23="Panorama Turkeys",'Tellere og summer'!$A$68,IF(AR23="Team Fuglset",'Tellere og summer'!$A$78,IF(AR23="Istad Strikers",'Tellere og summer'!$A$88,IF(AR23="Ytre Bowlinglag",'Tellere og summer'!$A$98,"NA")))))))))) -> Tonje og Joakim Risnes | AR31: 96 | AS31: 80 | AT31: 92 | AU31: =SUM(AR31:AT31) -> 268 | AW31: =IF(AX23="Normo Slipestasjon",'Tellere og summer'!$A$8,IF(AX23="Glamox",'Tellere og summer'!$A$18,IF(AX23="Molde Kommune",'Tellere og summer'!$A$28,IF(AX23="Rørlegger 1",'Tellere og summer'!$A$38,IF(AX23="TietoEVRY",'Tellere og summer'!$A$48,IF(AX23="Danielsen å i",'Tellere og summer'!$A$58,IF(AX23="Panorama Turkeys",'Tellere og summer'!$A$68,IF(AX23="Team Fuglset",'Tellere og summer'!$A$78,IF(AX23="Istad Strikers",'Tellere og summer'!$A$88,IF(AX23="Ytre Bowlinglag",'Tellere og summer'!$A$98,"NA")))))))))) -> Morten Strøm | BA31: =SUM(AX31:AZ31) -> 0 | BC31: =IF(BD23="Normo Slipestasjon",'Tellere og summer'!$A$8,IF(BD23="Glamox",'Tellere og summer'!$A$18,IF(BD23="Molde Kommune",'Tellere og summer'!$A$28,IF(BD23="Rørlegger 1",'Tellere og summer'!$A$38,IF(BD23="TietoEVRY",'Tellere og summer'!$A$48,IF(BD23="Danielsen å i",'Tellere og summer'!$A$58,IF(BD23="Panorama Turkeys",'Tellere og summer'!$A$68,IF(BD23="Team Fuglset",'Tellere og summer'!$A$78,IF(BD23="Istad Strikers",'Tellere og summer'!$A$88,IF(BD23="Ytre Bowlinglag",'Tellere og summer'!$A$98,"NA")))))))))) -> Bjørn Einar Myklebust | BG31: =SUM(BD31:BF31) -> 0
A32: =IF(B23="Normo Slipestasjon",'Tellere og summer'!$A$9,IF(B23="Glamox",'Tellere og summer'!$A$19,IF(B23="Molde Kommune",'Tellere og summer'!$A$29,IF(B23="Rørlegger 1",'Tellere og summer'!$A$39,IF(B23="TietoEVRY",'Tellere og summer'!$A$49,IF(B23="Danielsen å i",'Tellere og summer'!$A$59,IF(B23="Panorama Turkeys",'Tellere og summer'!$A$69,IF(B23="Team Fuglset",'Tellere og summer'!$A$79,IF(B23="Istad Strikers",'Tellere og summer'!$A$89,IF(B23="Ytre Bowlinglag",'Tellere og summer'!$A$99,"NA")))))))))) -> 0 | E32: =SUM(B32:D32) -> 0 | G32: =IF(H23="Normo Slipestasjon",'Tellere og summer'!$A$9,IF(H23="Glamox",'Tellere og summer'!$A$19,IF(H23="Molde Kommune",'Tellere og summer'!$A$29,IF(H23="Rørlegger 1",'Tellere og summer'!$A$39,IF(H23="TietoEVRY",'Tellere og summer'!$A$49,IF(H23="Danielsen å i",'Tellere og summer'!$A$59,IF(H23="Panorama Turkeys",'Tellere og summer'!$A$69,IF(H23="Team Fuglset",'Tellere og summer'!$A$79,IF(H23="Istad Strikers",'Tellere og summer'!$A$89,IF(H23="Ytre Bowlinglag",'Tellere og summer'!$A$99,"NA")))))))))) -> 0 | K32: =SUM(H32:J32) -> 0 | M32: =IF(N23="Normo Slipestasjon",'Tellere og summer'!$A$9,IF(N23="Glamox",'Tellere og summer'!$A$19,IF(N23="Molde Kommune",'Tellere og summer'!$A$29,IF(N23="Rørlegger 1",'Tellere og summer'!$A$39,IF(N23="TietoEVRY",'Tellere og summer'!$A$49,IF(N23="Danielsen å i",'Tellere og summer'!$A$59,IF(N23="Panorama Turkeys",'Tellere og summer'!$A$69,IF(N23="Team Fuglset",'Tellere og summer'!$A$79,IF(N23="Istad Strikers",'Tellere og summer'!$A$89,IF(N23="Ytre Bowlinglag",'Tellere og summer'!$A$99,"NA")))))))))) -> 0 | Q32: =SUM(N32:P32) -> 0 | S32: =IF(T23="Normo Slipestasjon",'Tellere og summer'!$A$9,IF(T23="Glamox",'Tellere og summer'!$A$19,IF(T23="Molde Kommune",'Tellere og summer'!$A$29,IF(T23="Rørlegger 1",'Tellere og summer'!$A$39,IF(T23="TietoEVRY",'Tellere og summer'!$A$49,IF(T23="Danielsen å i",'Tellere og summer'!$A$59,IF(T23="Panorama Turkeys",'Tellere og summer'!$A$69,IF(T23="Team Fuglset",'Tellere og summer'!$A$79,IF(T23="Istad Strikers",'Tellere og summer'!$A$89,IF(T23="Ytre Bowlinglag",'Tellere og summer'!$A$99,"NA")))))))))) -> 0 | W32: =SUM(T32:V32) -> 0 | Y32: =IF(Z23="Normo Slipestasjon",'Tellere og summer'!$A$9,IF(Z23="Glamox",'Tellere og summer'!$A$19,IF(Z23="Molde Kommune",'Tellere og summer'!$A$29,IF(Z23="Rørlegger 1",'Tellere og summer'!$A$39,IF(Z23="TietoEVRY",'Tellere og summer'!$A$49,IF(Z23="Danielsen å i",'Tellere og summer'!$A$59,IF(Z23="Panorama Turkeys",'Tellere og summer'!$A$69,IF(Z23="Team Fuglset",'Tellere og summer'!$A$79,IF(Z23="Istad Strikers",'Tellere og summer'!$A$89,IF(Z23="Ytre Bowlinglag",'Tellere og summer'!$A$99,"NA")))))))))) -> 0 | AC32: =SUM(Z32:AB32) -> 0 | AE32: =IF(AF23="Normo Slipestasjon",'Tellere og summer'!$A$9,IF(AF23="Glamox",'Tellere og summer'!$A$19,IF(AF23="Molde Kommune",'Tellere og summer'!$A$29,IF(AF23="Rørlegger 1",'Tellere og summer'!$A$39,IF(AF23="TietoEVRY",'Tellere og summer'!$A$49,IF(AF23="Danielsen å i",'Tellere og summer'!$A$59,IF(AF23="Panorama Turkeys",'Tellere og summer'!$A$69,IF(AF23="Team Fuglset",'Tellere og summer'!$A$79,IF(AF23="Istad Strikers",'Tellere og summer'!$A$89,IF(AF23="Ytre Bowlinglag",'Tellere og summer'!$A$99,"NA")))))))))) -> Mohammed Abdalgoder | AI32: =SUM(AF32:AH32) -> 0 | AK32: =IF(AL23="Normo Slipestasjon",'Tellere og summer'!$A$9,IF(AL23="Glamox",'Tellere og summer'!$A$19,IF(AL23="Molde Kommune",'Tellere og summer'!$A$29,IF(AL23="Rørlegger 1",'Tellere og summer'!$A$39,IF(AL23="TietoEVRY",'Tellere og summer'!$A$49,IF(AL23="Danielsen å i",'Tellere og summer'!$A$59,IF(AL23="Panorama Turkeys",'Tellere og summer'!$A$69,IF(AL23="Team Fuglset",'Tellere og summer'!$A$79,IF(AL23="Istad Strikers",'Tellere og summer'!$A$89,IF(AL23="Ytre Bowlinglag",'Tellere og summer'!$A$99,"NA")))))))))) -> For mange spillere | AO32: =SUM(AL32:AN32) -> 0 | AQ32: =IF(AR23="Normo Slipestasjon",'Tellere og summer'!$A$9,IF(AR23="Glamox",'Tellere og summer'!$A$19,IF(AR23="Molde Kommune",'Tellere og summer'!$A$29,IF(AR23="Rørlegger 1",'Tellere og summer'!$A$39,IF(AR23="TietoEVRY",'Tellere og summer'!$A$49,IF(AR23="Danielsen å i",'Tellere og summer'!$A$59,IF(AR23="Panorama Turkeys",'Tellere og summer'!$A$69,IF(AR23="Team Fuglset",'Tellere og summer'!$A$79,IF(AR23="Istad Strikers",'Tellere og summer'!$A$89,IF(AR23="Ytre Bowlinglag",'Tellere og summer'!$A$99,"NA")))))))))) -> Cato Holen og Mats Larsen | AU32: =SUM(AR32:AT32) -> 0 | AW32: =IF(AX23="Normo Slipestasjon",'Tellere og summer'!$A$9,IF(AX23="Glamox",'Tellere og summer'!$A$19,IF(AX23="Molde Kommune",'Tellere og summer'!$A$29,IF(AX23="Rørlegger 1",'Tellere og summer'!$A$39,IF(AX23="TietoEVRY",'Tellere og summer'!$A$49,IF(AX23="Danielsen å i",'Tellere og summer'!$A$59,IF(AX23="Panorama Turkeys",'Tellere og summer'!$A$69,IF(AX23="Team Fuglset",'Tellere og summer'!$A$79,IF(AX23="Istad Strikers",'Tellere og summer'!$A$89,IF(AX23="Ytre Bowlinglag",'Tellere og summer'!$A$99,"NA")))))))))) -> Simen K. Roaldsøy | BA32: =SUM(AX32:AZ32) -> 0 | BC32: =IF(BD23="Normo Slipestasjon",'Tellere og summer'!$A$9,IF(BD23="Glamox",'Tellere og summer'!$A$19,IF(BD23="Molde Kommune",'Tellere og summer'!$A$29,IF(BD23="Rørlegger 1",'Tellere og summer'!$A$39,IF(BD23="TietoEVRY",'Tellere og summer'!$A$49,IF(BD23="Danielsen å i",'Tellere og summer'!$A$59,IF(BD23="Panorama Turkeys",'Tellere og summer'!$A$69,IF(BD23="Team Fuglset",'Tellere og summer'!$A$79,IF(BD23="Istad Strikers",'Tellere og summer'!$A$89,IF(BD23="Ytre Bowlinglag",'Tellere og summer'!$A$99,"NA")))))))))) -> 0 | BG32: =SUM(BD32:BF32) -> 0
A33: HCP | B33: =HCP!$B$12 -> 18 | C33: =HCP!$B$12 -> 18 | D33: =HCP!$B$12 -> 18 | E33: =SUM(B33:D33) -> 54 | G33: HCP | H33: =HCP!$B$20 -> 66 | I33: =HCP!$B$20 -> 66 | J33: =HCP!$B$20 -> 66 | K33: =SUM(H33:J33) -> 198 | M33: HCP | N33: 0 | O33: 0 | P33: 0 | Q33: =SUM(N33:P33) -> 0 | S33: HCP | T33: =HCP!$B$6 -> 96 | U33: =HCP!$B$6 -> 96 | V33: =HCP!$B$6 -> 96 | W33: =SUM(T33:V33) -> 288 | Y33: HCP | Z33: =HCP!B2 -> 114 | AA33: =HCP!B2 -> 114 | AB33: =HCP!B2 -> 114 | AC33: =SUM(Z33:AB33) -> 342 | AE33: HCP | AF33: =HCP!$B$10 -> 96 | AG33: =HCP!$B$10 -> 96 | AH33: =HCP!$B$10 -> 96 | AI33: =SUM(AF33:AH33) -> 288 | AK33: HCP | AL33: =HCP!$B$8 -> 93 | AM33: =HCP!$B$8 -> 93 | AN33: =HCP!$B$8 -> 93 | AO33: =SUM(AL33:AN33) -> 279 | AQ33: HCP | AR33: =HCP!$B$18 -> 120 | AS33: =HCP!$B$18 -> 120 | AT33: =HCP!$B$18 -> 120 | AU33: =SUM(AR33:AT33) -> 360 | AW33: HCP | AX33: =HCP!$B$14 -> 60 | AY33: =HCP!$B$14 -> 60 | AZ33: =HCP!$B$14 -> 60 | BA33: =SUM(AX33:AZ33) -> 180 | BC33: HCP | BD33: =HCP!$B$16 -> 54 | BE33: =HCP!$B$16 -> 54 | BF33: =HCP!$B$16 -> 54 | BG33: =SUM(BD33:BF33) -> 162
A34: Sum | B34: =SUM(B26:B33) -> 603 | C34: =SUM(C26:C33) -> 530 | D34: =SUM(D26:D33) -> 504 | E34: =SUM(B34:D34) -> 1637 | H34: =SUM(H26:H33) -> 599 | I34: =SUM(I26:I33) -> 514 | J34: =SUM(J26:J33) -> 535 | K34: =SUM(H34:J34) -> 1648 | N34: =SUM(N26:N33) -> 487 | O34: =SUM(O26:O33) -> 519 | P34: =SUM(P26:P33) -> 438 | Q34: =SUM(N34:P34) -> 1444 | T34: =SUM(T26:T33) -> 530 | U34: =SUM(U26:U33) -> 578 | V34: =SUM(V26:V33) -> 531 | W34: =SUM(T34:V34) -> 1639 | Z34: =SUM(Z26:Z33) -> 496 | AA34: =SUM(AA26:AA33) -> 499 | AB34: =SUM(AB26:AB33) -> 486 | AC34: =SUM(Z34:AB34) -> 1481 | AF34: =SUM(AF26:AF33) -> 96 | AG34: =SUM(AG26:AG33) -> 96 | AH34: =SUM(AH26:AH33) -> 96 | AI34: =SUM(AF34:AH34) -> 288 | AL34: =SUM(AL26:AL33) -> 504 | AM34: =SUM(AM26:AM33) -> 466 | AN34: =SUM(AN26:AN33) -> 517 | AO34: =SUM(AL34:AN34) -> 1487 | AR34: =SUM(AR26:AR33) -> 469 | AS34: =SUM(AS26:AS33) -> 478 | AT34: =SUM(AT26:AT33) -> 606 | AU34: =SUM(AR34:AT34) -> 1553 | AX34: =SUM(AX26:AX33) -> 488 | AY34: =SUM(AY26:AY33) -> 455 | AZ34: =SUM(AZ26:AZ33) -> 485 | BA34: =SUM(AX34:AZ34) -> 1428 | BD34: =SUM(BD26:BD33) -> 494 | BE34: =SUM(BE26:BE33) -> 415 | BF34: =SUM(BF26:BF33) -> 485 | BG34: =SUM(BD34:BF34) -> 1394
A35: Poeng | B35: =IF(E34-E33=0,"0",IF(B34>H34,1,IF(B34=H34,"0,5",0))) -> 1 | C35: =IF(E34-E33=0,"0",IF(C34>I34,1,IF(C34=I34,"0,5",0))) -> 1 | D35: =IF(E34-E33=0,"0",IF(D34>J34,1,IF(D34=J34,"0,5",0))) -> 0 | E35: =IF(E34-E33=0,"0",IF(E34>K34,1,IF(E34=K34,"0,5",0))) -> 0 | H35: =IF(K34-K33=0,"0",IF(H34>B34,1,IF(H34=B34,"0,5",0))) -> 0 | I35: =IF(K34-K33=0,"0",IF(I34>C34,1,IF(I34=C34,"0,5",0))) -> 0 | J35: =IF(K34-K33=0,"0",IF(J34>D34,1,IF(J34=D34,"0,5",0))) -> 1 | K35: =IF(K34-K33=0,"0",IF(K34>E34,1,IF(K34=E34,"0,5",0))) -> 1 | N35: =IF(Q34-Q33=0,"0",IF(N34>T34,1,IF(N34=T34,"0,5",0))) -> 0 | O35: =IF(Q34-Q33=0,"0",IF(O34>U34,1,IF(O34=U34,"0,5",0))) -> 0 | P35: =IF(Q34-Q33=0,"0",IF(P34>V34,1,IF(P34=V34,"0,5",0))) -> 0 | Q35: =IF(Q34-Q33=0,"0",IF(Q34>W34,1,IF(Q34=W34,"0,5",0))) -> 0 | T35: =IF(W34-W33=0,"0",IF(T34>N34,1,IF(T34=N34,"0,5",0))) -> 1 | U35: =IF(W34-W33=0,"0",IF(U34>O34,1,IF(U34=O34,"0,5",0))) -> 1 | V35: =IF(W34-W33=0,"0",IF(V34>P34,1,IF(V34=P34,"0,5",0))) -> 1 | W35: =IF(W34-W33=0,"0",IF(W34>Q34,1,IF(W34=Q34,"0,5",0))) -> 1 | Z35: =IF(AC34-AC33=0,"0",IF(Z34>AF34,1,IF(Z34=AF34,"0,5",0))) -> 1 | AA35: =IF(AC34-AC33=0,"0",IF(AA34>AG34,1,IF(AA34=AG34,"0,5",0))) -> 1 | AB35: =IF(AC34-AC33=0,"0",IF(AB34>AH34,1,IF(AB34=AH34,"0,5",0))) -> 1 | AC35: =IF(AC34-AC33=0,"0",IF(AC34>AI34,1,IF(AC34=AI34,"0,5",0))) -> 1 | AF35: =IF(AI34-AI33=0,"0",IF(AF34>Z34,1,IF(AF34=Z34,"0,5",0))) -> 0 | AG35: =IF(AI34-AI33=0,"0",IF(AG34>AA34,1,IF(AG34=AA34,"0,5",0))) -> 0 | AH35: =IF(AI34-AI33=0,"0",IF(AH34>AB34,1,IF(AH34=AB34,"0,5",0))) -> 0 | AI35: =IF(AI34-AI33=0,"0",IF(AI34>AC34,1,IF(AI34=AC34,"0,5",0))) -> 0 | AL35: =IF(AO34-AO33=0,"0",IF(AL34>AR34,1,IF(AL34=AR34,"0,5",0))) -> 1 | AM35: =IF(AO34-AO33=0,"0",IF(AM34>AS34,1,IF(AM34=AS34,"0,5",0))) -> 0 | AN35: =IF(AO34-AO33=0,"0",IF(AN34>AT34,1,IF(AN34=AT34,"0,5",0))) -> 0 | AO35: =IF(AO34-AO33=0,"0",IF(AO34>AU34,1,IF(AO34=AU34,"0,5",0))) -> 0 | AR35: =IF(AU34-AU33=0,"0",IF(AR34>AL34,1,IF(AR34=AL34,"0,5",0))) -> 0 | AS35: =IF(AU34-AU33=0,"0",IF(AS34>AM34,1,IF(AS34=AM34,"0,5",0))) -> 1 | AT35: =IF(AU34-AU33=0,"0",IF(AT34>AN34,1,IF(AT34=AN34,"0,5",0))) -> 1 | AU35: =IF(AU34-AU33=0,"0",IF(AU34>AO34,1,IF(AU34=AO34,"0,5",0))) -> 1 | AX35: =IF(BA34-BA33=0,"0",IF(AX34>BD34,1,IF(AX34=BD34,"0,5",0))) -> 0 | AY35: =IF(BA34-BA33=0,"0",IF(AY34>BE34,1,IF(AY34=BE34,"0,5",0))) -> 1 | AZ35: =IF(BA34-BA33=0,"0",IF(AZ34>BF34,1,IF(AZ34=BF34,"0,5",0))) -> 0,5 | BA35: =IF(BA34-BA33=0,"0",IF(BA34>BG34,1,IF(BA34=BG34,"0,5",0))) -> 1 | BD35: =IF(BG34-BG33=0,"0",IF(BD34>AX34,1,IF(BD34=AX34,"0,5",0))) -> 1 | BE35: =IF(BG34-BG33=0,"0",IF(BE34>AY34,1,IF(BE34=AY34,"0,5",0))) -> 0 | BF35: =IF(BG34-BG33=0,"0",IF(BF34>AZ34,1,IF(BF34=AZ34,"0,5",0))) -> 0,5 | BG35: =IF(BG34-BG33=0,"0",IF(BG34>BA34,1,IF(BG34=BA34,"0,5",0))) -> 0
D36: Poeng: | E36: =B35+C35+D35+E35 -> 2 | J36: Poeng: | K36: =H35+I35+J35+K35 -> 2 | P36: Poeng: | Q36: =N35+O35+P35+Q35 -> 0 | V36: Poeng: | W36: =T35+U35+V35+W35 -> 4 | AB36: Poeng: | AC36: =Z35+AA35+AB35+AC35 -> 4 | AH36: Poeng: | AI36: =AF35+AG35+AH35+AI35 -> 0 | AN36: Poeng: | AO36: =AL35+AM35+AN35+AO35 -> 1 | AT36: Poeng: | AU36: =SUM(AR35:AU35) -> 3 | AZ36: Poeng: | BA36: =AX35+AY35+AZ35+BA35 -> 2.5 | BF36: Poeng: | BG36: =BD35+BE35+BF35+BG35 -> 1.5
D37: Status | E37: =IF(E34-E33=0,"IS",IF(E36>K36,"S",IF(E36<K36,"T",IF(E36=K36,"U","0")))) -> U | J37: Status | K37: =IF(K34-K33=0,"IS",IF(K36>E36,"S",IF(K36<E36,"T",IF(K36=E36,"U","0")))) -> U | P37: Status | Q37: =IF(Q34-Q33=0,"IS",IF(Q36>W36,"S",IF(Q36<W36,"T",IF(Q36=W36,"U","0")))) -> T | V37: Status | W37: =IF(W34-W33=0,"IS",IF(W36>Q36,"S",IF(W36<Q36,"T",IF(W36=Q36,"U","0")))) -> S | AB37: Status | AC37: =IF(AC34-AC33=0,"IS",IF(AC36>AI36,"S",IF(AC36<AI36,"T",IF(AC36=AI36,"U","0")))) -> S | AH37: Status | AI37: =IF(AI34-AI33=0,"IS",IF(AI36>AC36,"S",IF(AI36<AC36,"T",IF(AI36=AC36,"U","0")))) -> IS | AN37: Status | AO37: =IF(AO34-AO33=0,"IS",IF(AO36>AU36,"S",IF(AO36<AU36,"T",IF(AO36=AU36,"U","0")))) -> T | AT37: Status | AU37: =IF(AU34-AU33=0,"IS",IF(AU36>AO36,"S",IF(AU36<AO36,"T",IF(AU36=AO36,"U","0")))) -> S | AZ37: Status | BA37: =IF(BA34-BA33=0,"IS",IF(BA36>BG36,"S",IF(BA36<BG36,"T",IF(BA36=BG36,"U","0")))) -> S | BF37: Status | BG37: =IF(BG34-BG33=0,"IS",IF(BG36>BA36,"S",IF(BG36<BA36,"T",IF(BG36=BA36,"U","0")))) -> T
A39: Runde 3
A40: Kamp 11 | M40: Kamp 12 | Y40: Kamp 13 | AK40: Kamp 14 | AW40: Kamp 15
A41: Hjemmelag: | B41: Normo Slipestasjon | G41: Bortelag: | H41: Molde Kommune | M41: Hjemmelag: | N41: Panorama Turkeys | S41: Bortelag: | T41: Ytre Bowlinglag | Y41: Hjemmelag: | Z41: TietoEVRY | AE41: Bortelag: | AF41: Rørlegger 1 | AK41: Hjemmelag: | AL41: Glamox | AQ41: Bortelag: | AR41: Danielsen å i | AW41: Hjemmelag: | AX41: Team Fuglset | BC41: Bortelag: | BD41: Istad Strikers
A43: Navn på spiller | B43: Omgang 1 | C43: Omgang 2 | D43: Omgang 3 | E43: Sum | G43: Navn på spiller | H43: Omgang 1 | I43: Omgang 2 | J43: Omgang 3 | K43: Sum | M43: Navn på spiller | N43: Omgang 1 | O43: Omgang 2 | P43: Omgang 3 | Q43: Sum | S43: Navn på spiller | T43: Omgang 1 | U43: Omgang 2 | V43: Omgang 3 | W43: Sum | Y43: Navn på spiller | Z43: Omgang 1 | AA43: Omgang 2 | AB43: Omgang 3 | AC43: Sum | AE43: Navn på spiller | AF43: Omgang 1 | AG43: Omgang 2 | AH43: Omgang 3 | AI43: Sum | AK43: Navn på spiller | AL43: Omgang 1 | AM43: Omgang 2 | AN43: Omgang 3 | AO43: Sum | AQ43: Navn på spiller | AR43: Omgang 1 | AS43: Omgang 2 | AT43: Omgang 3 | AU43: Sum | AW43: Navn på spiller | AX43: Omgang 1 | AY43: Omgang 2 | AZ43: Omgang 3 | BA43: Sum | BC43: Navn på spiller | BD43: Omgang 1 | BE43: Omgang 2 | BF43: Omgang 3 | BG43: Sum
A44: =IF(B41="Normo Slipestasjon",'Tellere og summer'!$A$3,IF(B41="Glamox",'Tellere og summer'!$A$13,IF(B41="Molde Kommune",'Tellere og summer'!$A$23,IF(B41="Rørlegger 1",'Tellere og summer'!$A$33,IF(B41="TietoEVRY",'Tellere og summer'!$A$43,IF(B41="Danielsen å i",'Tellere og summer'!$A$53,IF(B41="Panorama Turkeys",'Tellere og summer'!$A$63,IF(B41="Team Fuglset",'Tellere og summer'!$A$73,IF(B41="Istad Strikers",'Tellere og summer'!$A$83,IF(B41="Ytre Bowlinglag",'Tellere og summer'!$A$93,"NA")))))))))) -> Asbjørn Toft | B44: 143 | C44: 169 | D44: 114 | E44: =SUM(B44:D44) -> 426 | G44: =IF(H41="Normo Slipestasjon",'Tellere og summer'!$A$3,IF(H41="Glamox",'Tellere og summer'!$A$13,IF(H41="Molde Kommune",'Tellere og summer'!$A$23,IF(H41="Rørlegger 1",'Tellere og summer'!$A$33,IF(H41="TietoEVRY",'Tellere og summer'!$A$43,IF(H41="Danielsen å i",'Tellere og summer'!$A$53,IF(H41="Panorama Turkeys",'Tellere og summer'!$A$63,IF(H41="Team Fuglset",'Tellere og summer'!$A$73,IF(H41="Istad Strikers",'Tellere og summer'!$A$83,IF(H41="Ytre Bowlinglag",'Tellere og summer'!$A$93,"NA")))))))))) -> Gerd Norunn Nygård | H44: 195 | I44: 116 | J44: 112 | K44: =SUM(H44:J44) -> 423 | M44: =IF(N41="Normo Slipestasjon",'Tellere og summer'!$A$3,IF(N41="Glamox",'Tellere og summer'!$A$13,IF(N41="Molde Kommune",'Tellere og summer'!$A$23,IF(N41="Rørlegger 1",'Tellere og summer'!$A$33,IF(N41="TietoEVRY",'Tellere og summer'!$A$43,IF(N41="Danielsen å i",'Tellere og summer'!$A$53,IF(N41="Panorama Turkeys",'Tellere og summer'!$A$63,IF(N41="Team Fuglset",'Tellere og summer'!$A$73,IF(N41="Istad Strikers",'Tellere og summer'!$A$83,IF(N41="Ytre Bowlinglag",'Tellere og summer'!$A$93,"NA")))))))))) -> Martin Aarø | Q44: =SUM(N44:P44) -> 0 | S44: =IF(T41="Normo Slipestasjon",'Tellere og summer'!$A$3,IF(T41="Glamox",'Tellere og summer'!$A$13,IF(T41="Molde Kommune",'Tellere og summer'!$A$23,IF(T41="Rørlegger 1",'Tellere og summer'!$A$33,IF(T41="TietoEVRY",'Tellere og summer'!$A$43,IF(T41="Danielsen å i",'Tellere og summer'!$A$53,IF(T41="Panorama Turkeys",'Tellere og summer'!$A$63,IF(T41="Team Fuglset",'Tellere og summer'!$A$73,IF(T41="Istad Strikers",'Tellere og summer'!$A$83,IF(T41="Ytre Bowlinglag",'Tellere og summer'!$A$93,"NA")))))))))) -> Amund Vaagen | T44: 146 | U44: 153 | V44: 160 | W44: =SUM(T44:V44) -> 459 | Y44: =IF(Z41="Normo Slipestasjon",'Tellere og summer'!$A$3,IF(Z41="Glamox",'Tellere og summer'!$A$13,IF(Z41="Molde Kommune",'Tellere og summer'!$A$23,IF(Z41="Rørlegger 1",'Tellere og summer'!$A$33,IF(Z41="TietoEVRY",'Tellere og summer'!$A$43,IF(Z41="Danielsen å i",'Tellere og summer'!$A$53,IF(Z41="Panorama Turkeys",'Tellere og summer'!$A$63,IF(Z41="Team Fuglset",'Tellere og summer'!$A$73,IF(Z41="Istad Strikers",'Tellere og summer'!$A$83,IF(Z41="Ytre Bowlinglag",'Tellere og summer'!$A$93,"NA")))))))))) -> Svein Erik Jenset | AC44: =SUM(Z44:AB44) -> 0 | AE44: =IF(AF41="Normo Slipestasjon",'Tellere og summer'!$A$3,IF(AF41="Glamox",'Tellere og summer'!$A$13,IF(AF41="Molde Kommune",'Tellere og summer'!$A$23,IF(AF41="Rørlegger 1",'Tellere og summer'!$A$33,IF(AF41="TietoEVRY",'Tellere og summer'!$A$43,IF(AF41="Danielsen å i",'Tellere og summer'!$A$53,IF(AF41="Panorama Turkeys",'Tellere og summer'!$A$63,IF(AF41="Team Fuglset",'Tellere og summer'!$A$73,IF(AF41="Istad Strikers",'Tellere og summer'!$A$83,IF(AF41="Ytre Bowlinglag",'Tellere og summer'!$A$93,"NA")))))))))) -> Arnfinn Lange | AF44: 156 | AG44: 153 | AH44: 100 | AI44: =SUM(AF44:AH44) -> 409 | AK44: =IF(AL41="Normo Slipestasjon",'Tellere og summer'!$A$3,IF(AL41="Glamox",'Tellere og summer'!$A$13,IF(AL41="Molde Kommune",'Tellere og summer'!$A$23,IF(AL41="Rørlegger 1",'Tellere og summer'!$A$33,IF(AL41="TietoEVRY",'Tellere og summer'!$A$43,IF(AL41="Danielsen å i",'Tellere og summer'!$A$53,IF(AL41="Panorama Turkeys",'Tellere og summer'!$A$63,IF(AL41="Team Fuglset",'Tellere og summer'!$A$73,IF(AL41="Istad Strikers",'Tellere og summer'!$A$83,IF(AL41="Ytre Bowlinglag",'Tellere og summer'!$A$93,"NA")))))))))) -> Paul Boyle | AL44: 170 | AM44: 181 | AN44: 201 | AO44: =SUM(AL44:AN44) -> 552 | AQ44: =IF(AR41="Normo Slipestasjon",'Tellere og summer'!$A$3,IF(AR41="Glamox",'Tellere og summer'!$A$13,IF(AR41="Molde Kommune",'Tellere og summer'!$A$23,IF(AR41="Rørlegger 1",'Tellere og summer'!$A$33,IF(AR41="TietoEVRY",'Tellere og summer'!$A$43,IF(AR41="Danielsen å i",'Tellere og summer'!$A$53,IF(AR41="Panorama Turkeys",'Tellere og summer'!$A$63,IF(AR41="Team Fuglset",'Tellere og summer'!$A$73,IF(AR41="Istad Strikers",'Tellere og summer'!$A$83,IF(AR41="Ytre Bowlinglag",'Tellere og summer'!$A$93,"NA")))))))))) -> Kjell Thorsrudhagen | AR44: 175 | AS44: 178 | AT44: 156 | AU44: =SUM(AR44:AT44) -> 509 | AW44: =IF(AX41="Normo Slipestasjon",'Tellere og summer'!$A$3,IF(AX41="Glamox",'Tellere og summer'!$A$13,IF(AX41="Molde Kommune",'Tellere og summer'!$A$23,IF(AX41="Rørlegger 1",'Tellere og summer'!$A$33,IF(AX41="TietoEVRY",'Tellere og summer'!$A$43,IF(AX41="Danielsen å i",'Tellere og summer'!$A$53,IF(AX41="Panorama Turkeys",'Tellere og summer'!$A$63,IF(AX41="Team Fuglset",'Tellere og summer'!$A$73,IF(AX41="Istad Strikers",'Tellere og summer'!$A$83,IF(AX41="Ytre Bowlinglag",'Tellere og summer'!$A$93,"NA")))))))))) -> Sten-Morten Kjørsvik | AX44: 152 | AY44: 190 | AZ44: 169 | BA44: =SUM(AX44:AZ44) -> 511 | BC44: =IF(BD41="Normo Slipestasjon",'Tellere og summer'!$A$3,IF(BD41="Glamox",'Tellere og summer'!$A$13,IF(BD41="Molde Kommune",'Tellere og summer'!$A$23,IF(BD41="Rørlegger 1",'Tellere og summer'!$A$33,IF(BD41="TietoEVRY",'Tellere og summer'!$A$43,IF(BD41="Danielsen å i",'Tellere og summer'!$A$53,IF(BD41="Panorama Turkeys",'Tellere og summer'!$A$63,IF(BD41="Team Fuglset",'Tellere og summer'!$A$73,IF(BD41="Istad Strikers",'Tellere og summer'!$A$83,IF(BD41="Ytre Bowlinglag",'Tellere og summer'!$A$93,"NA")))))))))) -> Arne Ytterhaug | BD44: 145 | BE44: 163 | BF44: 149 | BG44: =SUM(BD44:BF44) -> 457
A45: =IF(B41="Normo Slipestasjon",'Tellere og summer'!$A$4,IF(B41="Glamox",'Tellere og summer'!$A$14,IF(B41="Molde Kommune",'Tellere og summer'!$A$24,IF(B41="Rørlegger 1",'Tellere og summer'!$A$34,IF(B41="TietoEVRY",'Tellere og summer'!$A$44,IF(B41="Danielsen å i",'Tellere og summer'!$A$54,IF(B41="Panorama Turkeys",'Tellere og summer'!$A$64,IF(B41="Team Fuglset",'Tellere og summer'!$A$74,IF(B41="Istad Strikers",'Tellere og summer'!$A$84,IF(B41="Ytre Bowlinglag",'Tellere og summer'!$A$94,"NA")))))))))) -> Tormod Kleppe | B45: 98 | C45: 107 | D45: 113 | E45: =SUM(B45:D45) -> 318 | G45: =IF(H41="Normo Slipestasjon",'Tellere og summer'!$A$4,IF(H41="Glamox",'Tellere og summer'!$A$14,IF(H41="Molde Kommune",'Tellere og summer'!$A$24,IF(H41="Rørlegger 1",'Tellere og summer'!$A$34,IF(H41="TietoEVRY",'Tellere og summer'!$A$44,IF(H41="Danielsen å i",'Tellere og summer'!$A$54,IF(H41="Panorama Turkeys",'Tellere og summer'!$A$64,IF(H41="Team Fuglset",'Tellere og summer'!$A$74,IF(H41="Istad Strikers",'Tellere og summer'!$A$84,IF(H41="Ytre Bowlinglag",'Tellere og summer'!$A$94,"NA")))))))))) -> Ole Østigård | K45: =SUM(H45:J45) -> 0 | M45: =IF(N41="Normo Slipestasjon",'Tellere og summer'!$A$4,IF(N41="Glamox",'Tellere og summer'!$A$14,IF(N41="Molde Kommune",'Tellere og summer'!$A$24,IF(N41="Rørlegger 1",'Tellere og summer'!$A$34,IF(N41="TietoEVRY",'Tellere og summer'!$A$44,IF(N41="Danielsen å i",'Tellere og summer'!$A$54,IF(N41="Panorama Turkeys",'Tellere og summer'!$A$64,IF(N41="Team Fuglset",'Tellere og summer'!$A$74,IF(N41="Istad Strikers",'Tellere og summer'!$A$84,IF(N41="Ytre Bowlinglag",'Tellere og summer'!$A$94,"NA")))))))))) -> Jamie Sagstuen | N45: 146 | O45: 149 | P45: 159 | Q45: =SUM(N45:P45) -> 454 | S45: =IF(T41="Normo Slipestasjon",'Tellere og summer'!$A$4,IF(T41="Glamox",'Tellere og summer'!$A$14,IF(T41="Molde Kommune",'Tellere og summer'!$A$24,IF(T41="Rørlegger 1",'Tellere og summer'!$A$34,IF(T41="TietoEVRY",'Tellere og summer'!$A$44,IF(T41="Danielsen å i",'Tellere og summer'!$A$54,IF(T41="Panorama Turkeys",'Tellere og summer'!$A$64,IF(T41="Team Fuglset",'Tellere og summer'!$A$74,IF(T41="Istad Strikers",'Tellere og summer'!$A$84,IF(T41="Ytre Bowlinglag",'Tellere og summer'!$A$94,"NA")))))))))) -> Halvor Vaagen | T45: 187 | U45: 158 | V45: 113 | W45: =SUM(T45:V45) -> 458 | Y45: =IF(Z41="Normo Slipestasjon",'Tellere og summer'!$A$4,IF(Z41="Glamox",'Tellere og summer'!$A$14,IF(Z41="Molde Kommune",'Tellere og summer'!$A$24,IF(Z41="Rørlegger 1",'Tellere og summer'!$A$34,IF(Z41="TietoEVRY",'Tellere og summer'!$A$44,IF(Z41="Danielsen å i",'Tellere og summer'!$A$54,IF(Z41="Panorama Turkeys",'Tellere og summer'!$A$64,IF(Z41="Team Fuglset",'Tellere og summer'!$A$74,IF(Z41="Istad Strikers",'Tellere og summer'!$A$84,IF(Z41="Ytre Bowlinglag",'Tellere og summer'!$A$94,"NA")))))))))) -> Øystein Lervik | AC45: =SUM(Z45:AB45) -> 0 | AE45: =IF(AF41="Normo Slipestasjon",'Tellere og summer'!$A$4,IF(AF41="Glamox",'Tellere og summer'!$A$14,IF(AF41="Molde Kommune",'Tellere og summer'!$A$24,IF(AF41="Rørlegger 1",'Tellere og summer'!$A$34,IF(AF41="TietoEVRY",'Tellere og summer'!$A$44,IF(AF41="Danielsen å i",'Tellere og summer'!$A$54,IF(AF41="Panorama Turkeys",'Tellere og summer'!$A$64,IF(AF41="Team Fuglset",'Tellere og summer'!$A$74,IF(AF41="Istad Strikers",'Tellere og summer'!$A$84,IF(AF41="Ytre Bowlinglag",'Tellere og summer'!$A$94,"NA")))))))))) -> Billy Williams | AI45: =SUM(AF45:AH45) -> 0 | AK45: =IF(AL41="Normo Slipestasjon",'Tellere og summer'!$A$4,IF(AL41="Glamox",'Tellere og summer'!$A$14,IF(AL41="Molde Kommune",'Tellere og summer'!$A$24,IF(AL41="Rørlegger 1",'Tellere og summer'!$A$34,IF(AL41="TietoEVRY",'Tellere og summer'!$A$44,IF(AL41="Danielsen å i",'Tellere og summer'!$A$54,IF(AL41="Panorama Turkeys",'Tellere og summer'!$A$64,IF(AL41="Team Fuglset",'Tellere og summer'!$A$74,IF(AL41="Istad Strikers",'Tellere og summer'!$A$84,IF(AL41="Ytre Bowlinglag",'Tellere og summer'!$A$94,"NA")))))))))) -> Rikard Nerland | AL45: 175 | AM45: 175 | AN45: 192 | AO45: =SUM(AL45:AN45) -> 542 | AQ45: =IF(AR41="Normo Slipestasjon",'Tellere og summer'!$A$4,IF(AR41="Glamox",'Tellere og summer'!$A$14,IF(AR41="Molde Kommune",'Tellere og summer'!$A$24,IF(AR41="Rørlegger 1",'Tellere og summer'!$A$34,IF(AR41="TietoEVRY",'Tellere og summer'!$A$44,IF(AR41="Danielsen å i",'Tellere og summer'!$A$54,IF(AR41="Panorama Turkeys",'Tellere og summer'!$A$64,IF(AR41="Team Fuglset",'Tellere og summer'!$A$74,IF(AR41="Istad Strikers",'Tellere og summer'!$A$84,IF(AR41="Ytre Bowlinglag",'Tellere og summer'!$A$94,"NA")))))))))) -> Alhild Danielsen | AR45: 118 | AT45: 135 | AU45: =SUM(AR45:AT45) -> 253 | AW45: =IF(AX41="Normo Slipestasjon",'Tellere og summer'!$A$4,IF(AX41="Glamox",'Tellere og summer'!$A$14,IF(AX41="Molde Kommune",'Tellere og summer'!$A$24,IF(AX41="Rørlegger 1",'Tellere og summer'!$A$34,IF(AX41="TietoEVRY",'Tellere og summer'!$A$44,IF(AX41="Danielsen å i",'Tellere og summer'!$A$54,IF(AX41="Panorama Turkeys",'Tellere og summer'!$A$64,IF(AX41="Team Fuglset",'Tellere og summer'!$A$74,IF(AX41="Istad Strikers",'Tellere og summer'!$A$84,IF(AX41="Ytre Bowlinglag",'Tellere og summer'!$A$94,"NA")))))))))) -> Lars Brian Taylor | BA45: =SUM(AX45:AZ45) -> 0 | BC45: =IF(BD41="Normo Slipestasjon",'Tellere og summer'!$A$4,IF(BD41="Glamox",'Tellere og summer'!$A$14,IF(BD41="Molde Kommune",'Tellere og summer'!$A$24,IF(BD41="Rørlegger 1",'Tellere og summer'!$A$34,IF(BD41="TietoEVRY",'Tellere og summer'!$A$44,IF(BD41="Danielsen å i",'Tellere og summer'!$A$54,IF(BD41="Panorama Turkeys",'Tellere og summer'!$A$64,IF(BD41="Team Fuglset",'Tellere og summer'!$A$74,IF(BD41="Istad Strikers",'Tellere og summer'!$A$84,IF(BD41="Ytre Bowlinglag",'Tellere og summer'!$A$94,"NA")))))))))) -> Magne Farstadvoll | BD45: 124 | BE45: 163 | BF45: 119 | BG45: =SUM(BD45:BF45) -> 406
A46: =IF(B41="Normo Slipestasjon",'Tellere og summer'!$A$5,IF(B41="Glamox",'Tellere og summer'!$A$15,IF(B41="Molde Kommune",'Tellere og summer'!$A$25,IF(B41="Rørlegger 1",'Tellere og summer'!$A$35,IF(B41="TietoEVRY",'Tellere og summer'!$A$45,IF(B41="Danielsen å i",'Tellere og summer'!$A$55,IF(B41="Panorama Turkeys",'Tellere og summer'!$A$65,IF(B41="Team Fuglset",'Tellere og summer'!$A$75,IF(B41="Istad Strikers",'Tellere og summer'!$A$85,IF(B41="Ytre Bowlinglag",'Tellere og summer'!$A$95,"NA")))))))))) -> Tor Åge Langås | E46: =SUM(B46:D46) -> 0 | G46: =IF(H41="Normo Slipestasjon",'Tellere og summer'!$A$5,IF(H41="Glamox",'Tellere og summer'!$A$15,IF(H41="Molde Kommune",'Tellere og summer'!$A$25,IF(H41="Rørlegger 1",'Tellere og summer'!$A$35,IF(H41="TietoEVRY",'Tellere og summer'!$A$45,IF(H41="Danielsen å i",'Tellere og summer'!$A$55,IF(H41="Panorama Turkeys",'Tellere og summer'!$A$65,IF(H41="Team Fuglset",'Tellere og summer'!$A$75,IF(H41="Istad Strikers",'Tellere og summer'!$A$85,IF(H41="Ytre Bowlinglag",'Tellere og summer'!$A$95,"NA")))))))))) -> Tone Nygård Nilsen | H46: 115 | I46: 122 | J46: 135 | K46: =SUM(H46:J46) -> 372 | M46: =IF(N41="Normo Slipestasjon",'Tellere og summer'!$A$5,IF(N41="Glamox",'Tellere og summer'!$A$15,IF(N41="Molde Kommune",'Tellere og summer'!$A$25,IF(N41="Rørlegger 1",'Tellere og summer'!$A$35,IF(N41="TietoEVRY",'Tellere og summer'!$A$45,IF(N41="Danielsen å i",'Tellere og summer'!$A$55,IF(N41="Panorama Turkeys",'Tellere og summer'!$A$65,IF(N41="Team Fuglset",'Tellere og summer'!$A$75,IF(N41="Istad Strikers",'Tellere og summer'!$A$85,IF(N41="Ytre Bowlinglag",'Tellere og summer'!$A$95,"NA")))))))))) -> Martin Gikling & Evy | Q46: =SUM(N46:P46) -> 0 | S46: =IF(T41="Normo Slipestasjon",'Tellere og summer'!$A$5,IF(T41="Glamox",'Tellere og summer'!$A$15,IF(T41="Molde Kommune",'Tellere og summer'!$A$25,IF(T41="Rørlegger 1",'Tellere og summer'!$A$35,IF(T41="TietoEVRY",'Tellere og summer'!$A$45,IF(T41="Danielsen å i",'Tellere og summer'!$A$55,IF(T41="Panorama Turkeys",'Tellere og summer'!$A$65,IF(T41="Team Fuglset",'Tellere og summer'!$A$75,IF(T41="Istad Strikers",'Tellere og summer'!$A$85,IF(T41="Ytre Bowlinglag",'Tellere og summer'!$A$95,"NA")))))))))) -> Jarle Endreplass | W46: =SUM(T46:V46) -> 0 | Y46: =IF(Z41="Normo Slipestasjon",'Tellere og summer'!$A$5,IF(Z41="Glamox",'Tellere og summer'!$A$15,IF(Z41="Molde Kommune",'Tellere og summer'!$A$25,IF(Z41="Rørlegger 1",'Tellere og summer'!$A$35,IF(Z41="TietoEVRY",'Tellere og summer'!$A$45,IF(Z41="Danielsen å i",'Tellere og summer'!$A$55,IF(Z41="Panorama Turkeys",'Tellere og summer'!$A$65,IF(Z41="Team Fuglset",'Tellere og summer'!$A$75,IF(Z41="Istad Strikers",'Tellere og summer'!$A$85,IF(Z41="Ytre Bowlinglag",'Tellere og summer'!$A$95,"NA")))))))))) -> Vidar Lervik | AC46: =SUM(Z46:AB46) -> 0 | AE46: =IF(AF41="Normo Slipestasjon",'Tellere og summer'!$A$5,IF(AF41="Glamox",'Tellere og summer'!$A$15,IF(AF41="Molde Kommune",'Tellere og summer'!$A$25,IF(AF41="Rørlegger 1",'Tellere og summer'!$A$35,IF(AF41="TietoEVRY",'Tellere og summer'!$A$45,IF(AF41="Danielsen å i",'Tellere og summer'!$A$55,IF(AF41="Panorama Turkeys",'Tellere og summer'!$A$65,IF(AF41="Team Fuglset",'Tellere og summer'!$A$75,IF(AF41="Istad Strikers",'Tellere og summer'!$A$85,IF(AF41="Ytre Bowlinglag",'Tellere og summer'!$A$95,"NA")))))))))) -> Arild Gujord | AF46: 168 | AG46: 123 | AH46: 153 | AI46: =SUM(AF46:AH46) -> 444 | AK46: =IF(AL41="Normo Slipestasjon",'Tellere og summer'!$A$5,IF(AL41="Glamox",'Tellere og summer'!$A$15,IF(AL41="Molde Kommune",'Tellere og summer'!$A$25,IF(AL41="Rørlegger 1",'Tellere og summer'!$A$35,IF(AL41="TietoEVRY",'Tellere og summer'!$A$45,IF(AL41="Danielsen å i",'Tellere og summer'!$A$55,IF(AL41="Panorama Turkeys",'Tellere og summer'!$A$65,IF(AL41="Team Fuglset",'Tellere og summer'!$A$75,IF(AL41="Istad Strikers",'Tellere og summer'!$A$85,IF(AL41="Ytre Bowlinglag",'Tellere og summer'!$A$95,"NA")))))))))) -> Christian Pascal | AM46: 145 | AN46: 186 | AO46: =SUM(AL46:AN46) -> 331 | AQ46: =IF(AR41="Normo Slipestasjon",'Tellere og summer'!$A$5,IF(AR41="Glamox",'Tellere og summer'!$A$15,IF(AR41="Molde Kommune",'Tellere og summer'!$A$25,IF(AR41="Rørlegger 1",'Tellere og summer'!$A$35,IF(AR41="TietoEVRY",'Tellere og summer'!$A$45,IF(AR41="Danielsen å i",'Tellere og summer'!$A$55,IF(AR41="Panorama Turkeys",'Tellere og summer'!$A$65,IF(AR41="Team Fuglset",'Tellere og summer'!$A$75,IF(AR41="Istad Strikers",'Tellere og summer'!$A$85,IF(AR41="Ytre Bowlinglag",'Tellere og summer'!$A$95,"NA")))))))))) -> Grethe Danielsen | AS46: 175 | AU46: =SUM(AR46:AT46) -> 175 | AW46: =IF(AX41="Normo Slipestasjon",'Tellere og summer'!$A$5,IF(AX41="Glamox",'Tellere og summer'!$A$15,IF(AX41="Molde Kommune",'Tellere og summer'!$A$25,IF(AX41="Rørlegger 1",'Tellere og summer'!$A$35,IF(AX41="TietoEVRY",'Tellere og summer'!$A$45,IF(AX41="Danielsen å i",'Tellere og summer'!$A$55,IF(AX41="Panorama Turkeys",'Tellere og summer'!$A$65,IF(AX41="Team Fuglset",'Tellere og summer'!$A$75,IF(AX41="Istad Strikers",'Tellere og summer'!$A$85,IF(AX41="Ytre Bowlinglag",'Tellere og summer'!$A$95,"NA")))))))))) -> Ole Morten Aarø | BA46: =SUM(AX46:AZ46) -> 0 | BC46: =IF(BD41="Normo Slipestasjon",'Tellere og summer'!$A$5,IF(BD41="Glamox",'Tellere og summer'!$A$15,IF(BD41="Molde Kommune",'Tellere og summer'!$A$25,IF(BD41="Rørlegger 1",'Tellere og summer'!$A$35,IF(BD41="TietoEVRY",'Tellere og summer'!$A$45,IF(BD41="Danielsen å i",'Tellere og summer'!$A$55,IF(BD41="Panorama Turkeys",'Tellere og summer'!$A$65,IF(BD41="Team Fuglset",'Tellere og summer'!$A$75,IF(BD41="Istad Strikers",'Tellere og summer'!$A$85,IF(BD41="Ytre Bowlinglag",'Tellere og summer'!$A$95,"NA")))))))))) -> Jan Kjetil Holberg Sandnes | BG46: =SUM(BD46:BF46) -> 0
A47: =IF(B41="Normo Slipestasjon",'Tellere og summer'!$A$6,IF(B41="Glamox",'Tellere og summer'!$A$16,IF(B41="Molde Kommune",'Tellere og summer'!$A$26,IF(B41="Rørlegger 1",'Tellere og summer'!$A$36,IF(B41="TietoEVRY",'Tellere og summer'!$A$46,IF(B41="Danielsen å i",'Tellere og summer'!$A$56,IF(B41="Panorama Turkeys",'Tellere og summer'!$A$66,IF(B41="Team Fuglset",'Tellere og summer'!$A$76,IF(B41="Istad Strikers",'Tellere og summer'!$A$86,IF(B41="Ytre Bowlinglag",'Tellere og summer'!$A$96,"NA")))))))))) -> Thor Bolsønes | B47: 121 | C47: 91 | D47: 104 | E47: =SUM(B47:D47) -> 316 | G47: =IF(H41="Normo Slipestasjon",'Tellere og summer'!$A$6,IF(H41="Glamox",'Tellere og summer'!$A$16,IF(H41="Molde Kommune",'Tellere og summer'!$A$26,IF(H41="Rørlegger 1",'Tellere og summer'!$A$36,IF(H41="TietoEVRY",'Tellere og summer'!$A$46,IF(H41="Danielsen å i",'Tellere og summer'!$A$56,IF(H41="Panorama Turkeys",'Tellere og summer'!$A$66,IF(H41="Team Fuglset",'Tellere og summer'!$A$76,IF(H41="Istad Strikers",'Tellere og summer'!$A$86,IF(H41="Ytre Bowlinglag",'Tellere og summer'!$A$96,"NA")))))))))) -> Arild Bryhn | H47: 147 | I47: 172 | J47: 131 | K47: =SUM(H47:J47) -> 450 | M47: =IF(N41="Normo Slipestasjon",'Tellere og summer'!$A$6,IF(N41="Glamox",'Tellere og summer'!$A$16,IF(N41="Molde Kommune",'Tellere og summer'!$A$26,IF(N41="Rørlegger 1",'Tellere og summer'!$A$36,IF(N41="TietoEVRY",'Tellere og summer'!$A$46,IF(N41="Danielsen å i",'Tellere og summer'!$A$56,IF(N41="Panorama Turkeys",'Tellere og summer'!$A$66,IF(N41="Team Fuglset",'Tellere og summer'!$A$76,IF(N41="Istad Strikers",'Tellere og summer'!$A$86,IF(N41="Ytre Bowlinglag",'Tellere og summer'!$A$96,"NA")))))))))) -> Jacob Lyche | N47: 99 | O47: 68 | P47: 89 | Q47: =SUM(N47:P47) -> 256 | S47: =IF(T41="Normo Slipestasjon",'Tellere og summer'!$A$6,IF(T41="Glamox",'Tellere og summer'!$A$16,IF(T41="Molde Kommune",'Tellere og summer'!$A$26,IF(T41="Rørlegger 1",'Tellere og summer'!$A$36,IF(T41="TietoEVRY",'Tellere og summer'!$A$46,IF(T41="Danielsen å i",'Tellere og summer'!$A$56,IF(T41="Panorama Turkeys",'Tellere og summer'!$A$66,IF(T41="Team Fuglset",'Tellere og summer'!$A$76,IF(T41="Istad Strikers",'Tellere og summer'!$A$86,IF(T41="Ytre Bowlinglag",'Tellere og summer'!$A$96,"NA")))))))))) -> Geir Gjelsten | T47: 106 | U47: 137 | V47: 174 | W47: =SUM(T47:V47) -> 417 | Y47: =IF(Z41="Normo Slipestasjon",'Tellere og summer'!$A$6,IF(Z41="Glamox",'Tellere og summer'!$A$16,IF(Z41="Molde Kommune",'Tellere og summer'!$A$26,IF(Z41="Rørlegger 1",'Tellere og summer'!$A$36,IF(Z41="TietoEVRY",'Tellere og summer'!$A$46,IF(Z41="Danielsen å i",'Tellere og summer'!$A$56,IF(Z41="Panorama Turkeys",'Tellere og summer'!$A$66,IF(Z41="Team Fuglset",'Tellere og summer'!$A$76,IF(Z41="Istad Strikers",'Tellere og summer'!$A$86,IF(Z41="Ytre Bowlinglag",'Tellere og summer'!$A$96,"NA")))))))))) -> Svein Johan Hauge | AC47: =SUM(Z47:AB47) -> 0 | AE47: =IF(AF41="Normo Slipestasjon",'Tellere og summer'!$A$6,IF(AF41="Glamox",'Tellere og summer'!$A$16,IF(AF41="Molde Kommune",'Tellere og summer'!$A$26,IF(AF41="Rørlegger 1",'Tellere og summer'!$A$36,IF(AF41="TietoEVRY",'Tellere og summer'!$A$46,IF(AF41="Danielsen å i",'Tellere og summer'!$A$56,IF(AF41="Panorama Turkeys",'Tellere og summer'!$A$66,IF(AF41="Team Fuglset",'Tellere og summer'!$A$76,IF(AF41="Istad Strikers",'Tellere og summer'!$A$86,IF(AF41="Ytre Bowlinglag",'Tellere og summer'!$A$96,"NA")))))))))) -> Kristian Røstberg | AI47: =SUM(AF47:AH47) -> 0 | AK47: =IF(AL41="Normo Slipestasjon",'Tellere og summer'!$A$6,IF(AL41="Glamox",'Tellere og summer'!$A$16,IF(AL41="Molde Kommune",'Tellere og summer'!$A$26,IF(AL41="Rørlegger 1",'Tellere og summer'!$A$36,IF(AL41="TietoEVRY",'Tellere og summer'!$A$46,IF(AL41="Danielsen å i",'Tellere og summer'!$A$56,IF(AL41="Panorama Turkeys",'Tellere og summer'!$A$66,IF(AL41="Team Fuglset",'Tellere og summer'!$A$76,IF(AL41="Istad Strikers",'Tellere og summer'!$A$86,IF(AL41="Ytre Bowlinglag",'Tellere og summer'!$A$96,"NA")))))))))) -> Odd Øyvind Fjørtoft | AO47: =SUM(AL47:AN47) -> 0 | AQ47: =IF(AR41="Normo Slipestasjon",'Tellere og summer'!$A$6,IF(AR41="Glamox",'Tellere og summer'!$A$16,IF(AR41="Molde Kommune",'Tellere og summer'!$A$26,IF(AR41="Rørlegger 1",'Tellere og summer'!$A$36,IF(AR41="TietoEVRY",'Tellere og summer'!$A$46,IF(AR41="Danielsen å i",'Tellere og summer'!$A$56,IF(AR41="Panorama Turkeys",'Tellere og summer'!$A$66,IF(AR41="Team Fuglset",'Tellere og summer'!$A$76,IF(AR41="Istad Strikers",'Tellere og summer'!$A$86,IF(AR41="Ytre Bowlinglag",'Tellere og summer'!$A$96,"NA")))))))))) -> Irene T. Danielsen | AR47: 180 | AS47: 233 | AT47: 164 | AU47: =SUM(AR47:AT47) -> 577 | AW47: =IF(AX41="Normo Slipestasjon",'Tellere og summer'!$A$6,IF(AX41="Glamox",'Tellere og summer'!$A$16,IF(AX41="Molde Kommune",'Tellere og summer'!$A$26,IF(AX41="Rørlegger 1",'Tellere og summer'!$A$36,IF(AX41="TietoEVRY",'Tellere og summer'!$A$46,IF(AX41="Danielsen å i",'Tellere og summer'!$A$56,IF(AX41="Panorama Turkeys",'Tellere og summer'!$A$66,IF(AX41="Team Fuglset",'Tellere og summer'!$A$76,IF(AX41="Istad Strikers",'Tellere og summer'!$A$86,IF(AX41="Ytre Bowlinglag",'Tellere og summer'!$A$96,"NA")))))))))) -> Svein Gussiås | BA47: =SUM(AX47:AZ47) -> 0 | BC47: =IF(BD41="Normo Slipestasjon",'Tellere og summer'!$A$6,IF(BD41="Glamox",'Tellere og summer'!$A$16,IF(BD41="Molde Kommune",'Tellere og summer'!$A$26,IF(BD41="Rørlegger 1",'Tellere og summer'!$A$36,IF(BD41="TietoEVRY",'Tellere og summer'!$A$46,IF(BD41="Danielsen å i",'Tellere og summer'!$A$56,IF(BD41="Panorama Turkeys",'Tellere og summer'!$A$66,IF(BD41="Team Fuglset",'Tellere og summer'!$A$76,IF(BD41="Istad Strikers",'Tellere og summer'!$A$86,IF(BD41="Ytre Bowlinglag",'Tellere og summer'!$A$96,"NA")))))))))) -> Sindre Aure | BG47: =SUM(BD47:BF47) -> 0
A48: =IF(B41="Normo Slipestasjon",'Tellere og summer'!$A$7,IF(B41="Glamox",'Tellere og summer'!$A$17,IF(B41="Molde Kommune",'Tellere og summer'!$A$27,IF(B41="Rørlegger 1",'Tellere og summer'!$A$37,IF(B41="TietoEVRY",'Tellere og summer'!$A$47,IF(B41="Danielsen å i",'Tellere og summer'!$A$57,IF(B41="Panorama Turkeys",'Tellere og summer'!$A$67,IF(B41="Team Fuglset",'Tellere og summer'!$A$77,IF(B41="Istad Strikers",'Tellere og summer'!$A$87,IF(B41="Ytre Bowlinglag",'Tellere og summer'!$A$97,"NA")))))))))) -> 0 | E48: =SUM(B48:D48) -> 0 | G48: =IF(H41="Normo Slipestasjon",'Tellere og summer'!$A$7,IF(H41="Glamox",'Tellere og summer'!$A$17,IF(H41="Molde Kommune",'Tellere og summer'!$A$27,IF(H41="Rørlegger 1",'Tellere og summer'!$A$37,IF(H41="TietoEVRY",'Tellere og summer'!$A$47,IF(H41="Danielsen å i",'Tellere og summer'!$A$57,IF(H41="Panorama Turkeys",'Tellere og summer'!$A$67,IF(H41="Team Fuglset",'Tellere og summer'!$A$77,IF(H41="Istad Strikers",'Tellere og summer'!$A$87,IF(H41="Ytre Bowlinglag",'Tellere og summer'!$A$97,"NA")))))))))) -> Mette Jane Holand | K48: =SUM(H48:J48) -> 0 | M48: =IF(N41="Normo Slipestasjon",'Tellere og summer'!$A$7,IF(N41="Glamox",'Tellere og summer'!$A$17,IF(N41="Molde Kommune",'Tellere og summer'!$A$27,IF(N41="Rørlegger 1",'Tellere og summer'!$A$37,IF(N41="TietoEVRY",'Tellere og summer'!$A$47,IF(N41="Danielsen å i",'Tellere og summer'!$A$57,IF(N41="Panorama Turkeys",'Tellere og summer'!$A$67,IF(N41="Team Fuglset",'Tellere og summer'!$A$77,IF(N41="Istad Strikers",'Tellere og summer'!$A$87,IF(N41="Ytre Bowlinglag",'Tellere og summer'!$A$97,"NA")))))))))) -> Niklas Sevland | N48: 105 | O48: 75 | P48: 122 | Q48: =SUM(N48:P48) -> 302 | S48: =IF(T41="Normo Slipestasjon",'Tellere og summer'!$A$7,IF(T41="Glamox",'Tellere og summer'!$A$17,IF(T41="Molde Kommune",'Tellere og summer'!$A$27,IF(T41="Rørlegger 1",'Tellere og summer'!$A$37,IF(T41="TietoEVRY",'Tellere og summer'!$A$47,IF(T41="Danielsen å i",'Tellere og summer'!$A$57,IF(T41="Panorama Turkeys",'Tellere og summer'!$A$67,IF(T41="Team Fuglset",'Tellere og summer'!$A$77,IF(T41="Istad Strikers",'Tellere og summer'!$A$87,IF(T41="Ytre Bowlinglag",'Tellere og summer'!$A$97,"NA")))))))))) -> Steinar Småge | W48: =SUM(T48:V48) -> 0 | Y48: =IF(Z41="Normo Slipestasjon",'Tellere og summer'!$A$7,IF(Z41="Glamox",'Tellere og summer'!$A$17,IF(Z41="Molde Kommune",'Tellere og summer'!$A$27,IF(Z41="Rørlegger 1",'Tellere og summer'!$A$37,IF(Z41="TietoEVRY",'Tellere og summer'!$A$47,IF(Z41="Danielsen å i",'Tellere og summer'!$A$57,IF(Z41="Panorama Turkeys",'Tellere og summer'!$A$67,IF(Z41="Team Fuglset",'Tellere og summer'!$A$77,IF(Z41="Istad Strikers",'Tellere og summer'!$A$87,IF(Z41="Ytre Bowlinglag",'Tellere og summer'!$A$97,"NA")))))))))) -> Arnfinn Løntjern | AC48: =SUM(Z48:AB48) -> 0 | AE48: =IF(AF41="Normo Slipestasjon",'Tellere og summer'!$A$7,IF(AF41="Glamox",'Tellere og summer'!$A$17,IF(AF41="Molde Kommune",'Tellere og summer'!$A$27,IF(AF41="Rørlegger 1",'Tellere og summer'!$A$37,IF(AF41="TietoEVRY",'Tellere og summer'!$A$47,IF(AF41="Danielsen å i",'Tellere og summer'!$A$57,IF(AF41="Panorama Turkeys",'Tellere og summer'!$A$67,IF(AF41="Team Fuglset",'Tellere og summer'!$A$77,IF(AF41="Istad Strikers",'Tellere og summer'!$A$87,IF(AF41="Ytre Bowlinglag",'Tellere og summer'!$A$97,"NA")))))))))) -> Pål Aslaksen | AF48: 118 | AG48: 135 | AH48: 159 | AI48: =SUM(AF48:AH48) -> 412 | AK48: =IF(AL41="Normo Slipestasjon",'Tellere og summer'!$A$7,IF(AL41="Glamox",'Tellere og summer'!$A$17,IF(AL41="Molde Kommune",'Tellere og summer'!$A$27,IF(AL41="Rørlegger 1",'Tellere og summer'!$A$37,IF(AL41="TietoEVRY",'Tellere og summer'!$A$47,IF(AL41="Danielsen å i",'Tellere og summer'!$A$57,IF(AL41="Panorama Turkeys",'Tellere og summer'!$A$67,IF(AL41="Team Fuglset",'Tellere og summer'!$A$77,IF(AL41="Istad Strikers",'Tellere og summer'!$A$87,IF(AL41="Ytre Bowlinglag",'Tellere og summer'!$A$97,"NA")))))))))) -> Erik Hoel | AO48: =SUM(AL48:AN48) -> 0 | AQ48: =IF(AR41="Normo Slipestasjon",'Tellere og summer'!$A$7,IF(AR41="Glamox",'Tellere og summer'!$A$17,IF(AR41="Molde Kommune",'Tellere og summer'!$A$27,IF(AR41="Rørlegger 1",'Tellere og summer'!$A$37,IF(AR41="TietoEVRY",'Tellere og summer'!$A$47,IF(AR41="Danielsen å i",'Tellere og summer'!$A$57,IF(AR41="Panorama Turkeys",'Tellere og summer'!$A$67,IF(AR41="Team Fuglset",'Tellere og summer'!$A$77,IF(AR41="Istad Strikers",'Tellere og summer'!$A$87,IF(AR41="Ytre Bowlinglag",'Tellere og summer'!$A$97,"NA")))))))))) -> 0 | AU48: =SUM(AR48:AT48) -> 0 | AW48: =IF(AX41="Normo Slipestasjon",'Tellere og summer'!$A$7,IF(AX41="Glamox",'Tellere og summer'!$A$17,IF(AX41="Molde Kommune",'Tellere og summer'!$A$27,IF(AX41="Rørlegger 1",'Tellere og summer'!$A$37,IF(AX41="TietoEVRY",'Tellere og summer'!$A$47,IF(AX41="Danielsen å i",'Tellere og summer'!$A$57,IF(AX41="Panorama Turkeys",'Tellere og summer'!$A$67,IF(AX41="Team Fuglset",'Tellere og summer'!$A$77,IF(AX41="Istad Strikers",'Tellere og summer'!$A$87,IF(AX41="Ytre Bowlinglag",'Tellere og summer'!$A$97,"NA")))))))))) -> Preben Solem | AX48: 115 | AY48: 121 | AZ48: 104 | BA48: =SUM(AX48:AZ48) -> 340 | BC48: =IF(BD41="Normo Slipestasjon",'Tellere og summer'!$A$7,IF(BD41="Glamox",'Tellere og summer'!$A$17,IF(BD41="Molde Kommune",'Tellere og summer'!$A$27,IF(BD41="Rørlegger 1",'Tellere og summer'!$A$37,IF(BD41="TietoEVRY",'Tellere og summer'!$A$47,IF(BD41="Danielsen å i",'Tellere og summer'!$A$57,IF(BD41="Panorama Turkeys",'Tellere og summer'!$A$67,IF(BD41="Team Fuglset",'Tellere og summer'!$A$77,IF(BD41="Istad Strikers",'Tellere og summer'!$A$87,IF(BD41="Ytre Bowlinglag",'Tellere og summer'!$A$97,"NA")))))))))) -> Frode Lothe | BG48: =SUM(BD48:BF48) -> 0
A49: =IF(B41="Normo Slipestasjon",'Tellere og summer'!$A$8,IF(B41="Glamox",'Tellere og summer'!$A$18,IF(B41="Molde Kommune",'Tellere og summer'!$A$28,IF(B41="Rørlegger 1",'Tellere og summer'!$A$38,IF(B41="TietoEVRY",'Tellere og summer'!$A$48,IF(B41="Danielsen å i",'Tellere og summer'!$A$58,IF(B41="Panorama Turkeys",'Tellere og summer'!$A$68,IF(B41="Team Fuglset",'Tellere og summer'!$A$78,IF(B41="Istad Strikers",'Tellere og summer'!$A$88,IF(B41="Ytre Bowlinglag",'Tellere og summer'!$A$98,"NA")))))))))) -> 0 | E49: =SUM(B49:D49) -> 0 | G49: =IF(H41="Normo Slipestasjon",'Tellere og summer'!$A$8,IF(H41="Glamox",'Tellere og summer'!$A$18,IF(H41="Molde Kommune",'Tellere og summer'!$A$28,IF(H41="Rørlegger 1",'Tellere og summer'!$A$38,IF(H41="TietoEVRY",'Tellere og summer'!$A$48,IF(H41="Danielsen å i",'Tellere og summer'!$A$58,IF(H41="Panorama Turkeys",'Tellere og summer'!$A$68,IF(H41="Team Fuglset",'Tellere og summer'!$A$78,IF(H41="Istad Strikers",'Tellere og summer'!$A$88,IF(H41="Ytre Bowlinglag",'Tellere og summer'!$A$98,"NA")))))))))) -> 0 | K49: =SUM(H49:J49) -> 0 | M49: =IF(N41="Normo Slipestasjon",'Tellere og summer'!$A$8,IF(N41="Glamox",'Tellere og summer'!$A$18,IF(N41="Molde Kommune",'Tellere og summer'!$A$28,IF(N41="Rørlegger 1",'Tellere og summer'!$A$38,IF(N41="TietoEVRY",'Tellere og summer'!$A$48,IF(N41="Danielsen å i",'Tellere og summer'!$A$58,IF(N41="Panorama Turkeys",'Tellere og summer'!$A$68,IF(N41="Team Fuglset",'Tellere og summer'!$A$78,IF(N41="Istad Strikers",'Tellere og summer'!$A$88,IF(N41="Ytre Bowlinglag",'Tellere og summer'!$A$98,"NA")))))))))) -> Morten Strøm | Q49: =SUM(N49:P49) -> 0 | S49: =IF(T41="Normo Slipestasjon",'Tellere og summer'!$A$8,IF(T41="Glamox",'Tellere og summer'!$A$18,IF(T41="Molde Kommune",'Tellere og summer'!$A$28,IF(T41="Rørlegger 1",'Tellere og summer'!$A$38,IF(T41="TietoEVRY",'Tellere og summer'!$A$48,IF(T41="Danielsen å i",'Tellere og summer'!$A$58,IF(T41="Panorama Turkeys",'Tellere og summer'!$A$68,IF(T41="Team Fuglset",'Tellere og summer'!$A$78,IF(T41="Istad Strikers",'Tellere og summer'!$A$88,IF(T41="Ytre Bowlinglag",'Tellere og summer'!$A$98,"NA")))))))))) -> 0 | W49: =SUM(T49:V49) -> 0 | Y49: =IF(Z41="Normo Slipestasjon",'Tellere og summer'!$A$8,IF(Z41="Glamox",'Tellere og summer'!$A$18,IF(Z41="Molde Kommune",'Tellere og summer'!$A$28,IF(Z41="Rørlegger 1",'Tellere og summer'!$A$38,IF(Z41="TietoEVRY",'Tellere og summer'!$A$48,IF(Z41="Danielsen å i",'Tellere og summer'!$A$58,IF(Z41="Panorama Turkeys",'Tellere og summer'!$A$68,IF(Z41="Team Fuglset",'Tellere og summer'!$A$78,IF(Z41="Istad Strikers",'Tellere og summer'!$A$88,IF(Z41="Ytre Bowlinglag",'Tellere og summer'!$A$98,"NA")))))))))) -> Kjetil Oterholm | AC49: =SUM(Z49:AB49) -> 0 | AE49: =IF(AF41="Normo Slipestasjon",'Tellere og summer'!$A$8,IF(AF41="Glamox",'Tellere og summer'!$A$18,IF(AF41="Molde Kommune",'Tellere og summer'!$A$28,IF(AF41="Rørlegger 1",'Tellere og summer'!$A$38,IF(AF41="TietoEVRY",'Tellere og summer'!$A$48,IF(AF41="Danielsen å i",'Tellere og summer'!$A$58,IF(AF41="Panorama Turkeys",'Tellere og summer'!$A$68,IF(AF41="Team Fuglset",'Tellere og summer'!$A$78,IF(AF41="Istad Strikers",'Tellere og summer'!$A$88,IF(AF41="Ytre Bowlinglag",'Tellere og summer'!$A$98,"NA")))))))))) -> Stian Teistholmen | AI49: =SUM(AF49:AH49) -> 0 | AK49: =IF(AL41="Normo Slipestasjon",'Tellere og summer'!$A$8,IF(AL41="Glamox",'Tellere og summer'!$A$18,IF(AL41="Molde Kommune",'Tellere og summer'!$A$28,IF(AL41="Rørlegger 1",'Tellere og summer'!$A$38,IF(AL41="TietoEVRY",'Tellere og summer'!$A$48,IF(AL41="Danielsen å i",'Tellere og summer'!$A$58,IF(AL41="Panorama Turkeys",'Tellere og summer'!$A$68,IF(AL41="Team Fuglset",'Tellere og summer'!$A$78,IF(AL41="Istad Strikers",'Tellere og summer'!$A$88,IF(AL41="Ytre Bowlinglag",'Tellere og summer'!$A$98,"NA")))))))))) -> 0 | AO49: =SUM(AL49:AN49) -> 0 | AQ49: =IF(AR41="Normo Slipestasjon",'Tellere og summer'!$A$8,IF(AR41="Glamox",'Tellere og summer'!$A$18,IF(AR41="Molde Kommune",'Tellere og summer'!$A$28,IF(AR41="Rørlegger 1",'Tellere og summer'!$A$38,IF(AR41="TietoEVRY",'Tellere og summer'!$A$48,IF(AR41="Danielsen å i",'Tellere og summer'!$A$58,IF(AR41="Panorama Turkeys",'Tellere og summer'!$A$68,IF(AR41="Team Fuglset",'Tellere og summer'!$A$78,IF(AR41="Istad Strikers",'Tellere og summer'!$A$88,IF(AR41="Ytre Bowlinglag",'Tellere og summer'!$A$98,"NA")))))))))) -> 0 | AU49: =SUM(AR49:AT49) -> 0 | AW49: =IF(AX41="Normo Slipestasjon",'Tellere og summer'!$A$8,IF(AX41="Glamox",'Tellere og summer'!$A$18,IF(AX41="Molde Kommune",'Tellere og summer'!$A$28,IF(AX41="Rørlegger 1",'Tellere og summer'!$A$38,IF(AX41="TietoEVRY",'Tellere og summer'!$A$48,IF(AX41="Danielsen å i",'Tellere og summer'!$A$58,IF(AX41="Panorama Turkeys",'Tellere og summer'!$A$68,IF(AX41="Team Fuglset",'Tellere og summer'!$A$78,IF(AX41="Istad Strikers",'Tellere og summer'!$A$88,IF(AX41="Ytre Bowlinglag",'Tellere og summer'!$A$98,"NA")))))))))) -> Bjørn Einar Myklebust | AX49: 180 | AY49: 175 | AZ49: 156 | BA49: =SUM(AX49:AZ49) -> 511 | BC49: =IF(BD41="Normo Slipestasjon",'Tellere og summer'!$A$8,IF(BD41="Glamox",'Tellere og summer'!$A$18,IF(BD41="Molde Kommune",'Tellere og summer'!$A$28,IF(BD41="Rørlegger 1",'Tellere og summer'!$A$38,IF(BD41="TietoEVRY",'Tellere og summer'!$A$48,IF(BD41="Danielsen å i",'Tellere og summer'!$A$58,IF(BD41="Panorama Turkeys",'Tellere og summer'!$A$68,IF(BD41="Team Fuglset",'Tellere og summer'!$A$78,IF(BD41="Istad Strikers",'Tellere og summer'!$A$88,IF(BD41="Ytre Bowlinglag",'Tellere og summer'!$A$98,"NA")))))))))) -> Tonje og Joakim Risnes | BG49: =SUM(BD49:BF49) -> 0
A50: =IF(B41="Normo Slipestasjon",'Tellere og summer'!$A$9,IF(B41="Glamox",'Tellere og summer'!$A$19,IF(B41="Molde Kommune",'Tellere og summer'!$A$29,IF(B41="Rørlegger 1",'Tellere og summer'!$A$39,IF(B41="TietoEVRY",'Tellere og summer'!$A$49,IF(B41="Danielsen å i",'Tellere og summer'!$A$59,IF(B41="Panorama Turkeys",'Tellere og summer'!$A$69,IF(B41="Team Fuglset",'Tellere og summer'!$A$79,IF(B41="Istad Strikers",'Tellere og summer'!$A$89,IF(B41="Ytre Bowlinglag",'Tellere og summer'!$A$99,"NA")))))))))) -> 0 | E50: =SUM(B50:D50) -> 0 | G50: =IF(H41="Normo Slipestasjon",'Tellere og summer'!$A$9,IF(H41="Glamox",'Tellere og summer'!$A$19,IF(H41="Molde Kommune",'Tellere og summer'!$A$29,IF(H41="Rørlegger 1",'Tellere og summer'!$A$39,IF(H41="TietoEVRY",'Tellere og summer'!$A$49,IF(H41="Danielsen å i",'Tellere og summer'!$A$59,IF(H41="Panorama Turkeys",'Tellere og summer'!$A$69,IF(H41="Team Fuglset",'Tellere og summer'!$A$79,IF(H41="Istad Strikers",'Tellere og summer'!$A$89,IF(H41="Ytre Bowlinglag",'Tellere og summer'!$A$99,"NA")))))))))) -> 0 | K50: =SUM(H50:J50) -> 0 | M50: =IF(N41="Normo Slipestasjon",'Tellere og summer'!$A$9,IF(N41="Glamox",'Tellere og summer'!$A$19,IF(N41="Molde Kommune",'Tellere og summer'!$A$29,IF(N41="Rørlegger 1",'Tellere og summer'!$A$39,IF(N41="TietoEVRY",'Tellere og summer'!$A$49,IF(N41="Danielsen å i",'Tellere og summer'!$A$59,IF(N41="Panorama Turkeys",'Tellere og summer'!$A$69,IF(N41="Team Fuglset",'Tellere og summer'!$A$79,IF(N41="Istad Strikers",'Tellere og summer'!$A$89,IF(N41="Ytre Bowlinglag",'Tellere og summer'!$A$99,"NA")))))))))) -> Simen K. Roaldsøy | Q50: =SUM(N50:P50) -> 0 | S50: =IF(T41="Normo Slipestasjon",'Tellere og summer'!$A$9,IF(T41="Glamox",'Tellere og summer'!$A$19,IF(T41="Molde Kommune",'Tellere og summer'!$A$29,IF(T41="Rørlegger 1",'Tellere og summer'!$A$39,IF(T41="TietoEVRY",'Tellere og summer'!$A$49,IF(T41="Danielsen å i",'Tellere og summer'!$A$59,IF(T41="Panorama Turkeys",'Tellere og summer'!$A$69,IF(T41="Team Fuglset",'Tellere og summer'!$A$79,IF(T41="Istad Strikers",'Tellere og summer'!$A$89,IF(T41="Ytre Bowlinglag",'Tellere og summer'!$A$99,"NA")))))))))) -> 0 | W50: =SUM(T50:V50) -> 0 | Y50: =IF(Z41="Normo Slipestasjon",'Tellere og summer'!$A$9,IF(Z41="Glamox",'Tellere og summer'!$A$19,IF(Z41="Molde Kommune",'Tellere og summer'!$A$29,IF(Z41="Rørlegger 1",'Tellere og summer'!$A$39,IF(Z41="TietoEVRY",'Tellere og summer'!$A$49,IF(Z41="Danielsen å i",'Tellere og summer'!$A$59,IF(Z41="Panorama Turkeys",'Tellere og summer'!$A$69,IF(Z41="Team Fuglset",'Tellere og summer'!$A$79,IF(Z41="Istad Strikers",'Tellere og summer'!$A$89,IF(Z41="Ytre Bowlinglag",'Tellere og summer'!$A$99,"NA")))))))))) -> Mohammed Abdalgoder | AC50: =SUM(Z50:AB50) -> 0 | AE50: =IF(AF41="Normo Slipestasjon",'Tellere og summer'!$A$9,IF(AF41="Glamox",'Tellere og summer'!$A$19,IF(AF41="Molde Kommune",'Tellere og summer'!$A$29,IF(AF41="Rørlegger 1",'Tellere og summer'!$A$39,IF(AF41="TietoEVRY",'Tellere og summer'!$A$49,IF(AF41="Danielsen å i",'Tellere og summer'!$A$59,IF(AF41="Panorama Turkeys",'Tellere og summer'!$A$69,IF(AF41="Team Fuglset",'Tellere og summer'!$A$79,IF(AF41="Istad Strikers",'Tellere og summer'!$A$89,IF(AF41="Ytre Bowlinglag",'Tellere og summer'!$A$99,"NA")))))))))) -> For mange spillere | AI50: =SUM(AF50:AH50) -> 0 | AK50: =IF(AL41="Normo Slipestasjon",'Tellere og summer'!$A$9,IF(AL41="Glamox",'Tellere og summer'!$A$19,IF(AL41="Molde Kommune",'Tellere og summer'!$A$29,IF(AL41="Rørlegger 1",'Tellere og summer'!$A$39,IF(AL41="TietoEVRY",'Tellere og summer'!$A$49,IF(AL41="Danielsen å i",'Tellere og summer'!$A$59,IF(AL41="Panorama Turkeys",'Tellere og summer'!$A$69,IF(AL41="Team Fuglset",'Tellere og summer'!$A$79,IF(AL41="Istad Strikers",'Tellere og summer'!$A$89,IF(AL41="Ytre Bowlinglag",'Tellere og summer'!$A$99,"NA")))))))))) -> 0 | AO50: =SUM(AL50:AN50) -> 0 | AQ50: =IF(AR41="Normo Slipestasjon",'Tellere og summer'!$A$9,IF(AR41="Glamox",'Tellere og summer'!$A$19,IF(AR41="Molde Kommune",'Tellere og summer'!$A$29,IF(AR41="Rørlegger 1",'Tellere og summer'!$A$39,IF(AR41="TietoEVRY",'Tellere og summer'!$A$49,IF(AR41="Danielsen å i",'Tellere og summer'!$A$59,IF(AR41="Panorama Turkeys",'Tellere og summer'!$A$69,IF(AR41="Team Fuglset",'Tellere og summer'!$A$79,IF(AR41="Istad Strikers",'Tellere og summer'!$A$89,IF(AR41="Ytre Bowlinglag",'Tellere og summer'!$A$99,"NA")))))))))) -> 0 | AU50: =SUM(AR50:AT50) -> 0 | AW50: =IF(AX41="Normo Slipestasjon",'Tellere og summer'!$A$9,IF(AX41="Glamox",'Tellere og summer'!$A$19,IF(AX41="Molde Kommune",'Tellere og summer'!$A$29,IF(AX41="Rørlegger 1",'Tellere og summer'!$A$39,IF(AX41="TietoEVRY",'Tellere og summer'!$A$49,IF(AX41="Danielsen å i",'Tellere og summer'!$A$59,IF(AX41="Panorama Turkeys",'Tellere og summer'!$A$69,IF(AX41="Team Fuglset",'Tellere og summer'!$A$79,IF(AX41="Istad Strikers",'Tellere og summer'!$A$89,IF(AX41="Ytre Bowlinglag",'Tellere og summer'!$A$99,"NA")))))))))) -> 0 | BA50: =SUM(AX50:AZ50) -> 0 | BC50: =IF(BD41="Normo Slipestasjon",'Tellere og summer'!$A$9,IF(BD41="Glamox",'Tellere og summer'!$A$19,IF(BD41="Molde Kommune",'Tellere og summer'!$A$29,IF(BD41="Rørlegger 1",'Tellere og summer'!$A$39,IF(BD41="TietoEVRY",'Tellere og summer'!$A$49,IF(BD41="Danielsen å i",'Tellere og summer'!$A$59,IF(BD41="Panorama Turkeys",'Tellere og summer'!$A$69,IF(BD41="Team Fuglset",'Tellere og summer'!$A$79,IF(BD41="Istad Strikers",'Tellere og summer'!$A$89,IF(BD41="Ytre Bowlinglag",'Tellere og summer'!$A$99,"NA")))))))))) -> Cato Holen og Mats Larsen | BD50: 103 | BE50: 132 | BF50: 91 | BG50: =SUM(BD50:BF50) -> 326
A51: HCP | B51: =HCP!B2 -> 114 | C51: =HCP!B2 -> 114 | D51: =HCP!B2 -> 114 | E51: =SUM(B51:D51) -> 342 | G51: HCP | H51: =HCP!$B$6 -> 96 | I51: =HCP!$B$6 -> 96 | J51: =HCP!$B$6 -> 96 | K51: =SUM(H51:J51) -> 288 | M51: HCP | N51: =HCP!$B$14 -> 60 | O51: =HCP!$B$14 -> 60 | P51: =HCP!$B$14 -> 60 | Q51: =SUM(N51:P51) -> 180 | S51: HCP | T51: =HCP!$B$20 -> 66 | U51: =HCP!$B$20 -> 66 | V51: =HCP!$B$20 -> 66 | W51: =SUM(T51:V51) -> 198 | Y51: HCP | Z51: =HCP!$B$10 -> 96 | AA51: =HCP!$B$10 -> 96 | AB51: =HCP!$B$10 -> 96 | AC51: =SUM(Z51:AB51) -> 288 | AE51: HCP | AF51: =HCP!$B$8 -> 93 | AG51: =HCP!$B$8 -> 93 | AH51: =HCP!$B$8 -> 93 | AI51: =SUM(AF51:AH51) -> 279 | AK51: HCP | AL51: 0 | AM51: 0 | AN51: 0 | AO51: =SUM(AL51:AN51) -> 0 | AQ51: HCP | AR51: =HCP!$B$12 -> 18 | AS51: =HCP!$B$12 -> 18 | AT51: =HCP!$B$12 -> 18 | AU51: =SUM(AR51:AT51) -> 54 | AW51: HCP | AX51: =HCP!$B$16 -> 54 | AY51: =HCP!$B$16 -> 54 | AZ51: =HCP!$B$16 -> 54 | BA51: =SUM(AX51:AZ51) -> 162 | BC51: HCP | BD51: =HCP!$B$18 -> 120 | BE51: =HCP!$B$18 -> 120 | BF51: =HCP!$B$18 -> 120 | BG51: =SUM(BD51:BF51) -> 360
A52: Sum | B52: =SUM(B44:B51) -> 476 | C52: =SUM(C44:C51) -> 481 | D52: =SUM(D44:D51) -> 445 | E52: =SUM(B52:D52) -> 1402 | H52: =SUM(H44:H51) -> 553 | I52: =SUM(I44:I51) -> 506 | J52: =SUM(J44:J51) -> 474 | K52: =SUM(H52:J52) -> 1533 | N52: =SUM(N44:N51) -> 410 | O52: =SUM(O44:O51) -> 352 | P52: =SUM(P44:P51) -> 430 | Q52: =SUM(N52:P52) -> 1192 | T52: =SUM(T44:T51) -> 505 | U52: =SUM(U44:U51) -> 514 | V52: =SUM(V44:V51) -> 513 | W52: =SUM(T52:V52) -> 1532 | Z52: =SUM(Z44:Z51) -> 96 | AA52: =SUM(AA44:AA51) -> 96 | AB52: =SUM(AB44:AB51) -> 96 | AC52: =SUM(Z52:AB52) -> 288 | AF52: =SUM(AF44:AF51) -> 535 | AG52: =SUM(AG44:AG51) -> 504 | AH52: =SUM(AH44:AH51) -> 505 | AI52: =SUM(AF52:AH52) -> 1544 | AL52: =SUM(AL44:AL51) -> 345 | AM52: =SUM(AM44:AM51) -> 501 | AN52: =SUM(AN44:AN51) -> 579 | AO52: =SUM(AL52:AN52) -> 1425 | AR52: =SUM(AR44:AR51) -> 491 | AS52: =SUM(AS44:AS51) -> 604 | AT52: =SUM(AT44:AT51) -> 473 | AU52: =SUM(AR52:AT52) -> 1568 | AX52: =SUM(AX44:AX51) -> 501 | AY52: =SUM(AY44:AY51) -> 540 | AZ52: =SUM(AZ44:AZ51) -> 483 | BA52: =SUM(AX52:AZ52) -> 1524 | BD52: =SUM(BD44:BD51) -> 492 | BE52: =SUM(BE44:BE51) -> 578 | BF52: =SUM(BF44:BF51) -> 479 | BG52: =SUM(BD52:BF52) -> 1549
A53: Poeng | B53: =IF(E52-E51=0,"0",IF(B52>H52,1,IF(B52=H52,"0,5",0))) -> 0 | C53: =IF(E52-E51=0,"0",IF(C52>I52,1,IF(C52=I52,"0,5",0))) -> 0 | D53: =IF(E52-E51=0,"0",IF(D52>J52,1,IF(D52=J52,"0,5",0))) -> 0 | E53: =IF(E52-E51=0,"0",IF(E52>K52,1,IF(E52=K52,"0,5",0))) -> 0 | H53: =IF(K52-K51=0,"0",IF(H52>B52,1,IF(H52=B52,"0,5",0))) -> 1 | I53: =IF(K52-K51=0,"0",IF(I52>C52,1,IF(I52=C52,"0,5",0))) -> 1 | J53: =IF(K52-K51=0,"0",IF(J52>D52,1,IF(J52=D52,"0,5",0))) -> 1 | K53: =IF(K52-K51=0,"0",IF(K52>E52,1,IF(K52=E52,"0,5",0))) -> 1 | N53: =IF(Q52-Q51=0,"0",IF(N52>T52,1,IF(N52=T52,"0,5",0))) -> 0 | O53: =IF(Q52-Q51=0,"0",IF(O52>U52,1,IF(O52=U52,"0,5",0))) -> 0 | P53: =IF(Q52-Q51=0,"0",IF(P52>V52,1,IF(P52=V52,"0,5",0))) -> 0 | Q53: =IF(Q52-Q51=0,"0",IF(Q52>W52,1,IF(Q52=W52,"0,5",0))) -> 0 | T53: =IF(W52-W51=0,"0",IF(T52>N52,1,IF(T52=N52,"0,5",0))) -> 1 | U53: =IF(W52-W51=0,"0",IF(U52>O52,1,IF(U52=O52,"0,5",0))) -> 1 | V53: =IF(W52-W51=0,"0",IF(V52>P52,1,IF(V52=P52,"0,5",0))) -> 1 | W53: =IF(W52-W51=0,"0",IF(W52>Q52,1,IF(W52=Q52,"0,5",0))) -> 1 | Z53: =IF(AC52-AC51=0,"0",IF(Z52>AF52,1,IF(Z52=AF52,"0,5",0))) -> 0 | AA53: =IF(AC52-AC51=0,"0",IF(AA52>AG52,1,IF(AA52=AG52,"0,5",0))) -> 0 | AB53: =IF(AC52-AC51=0,"0",IF(AB52>AH52,1,IF(AB52=AH52,"0,5",0))) -> 0 | AC53: =IF(AC52-AC51=0,"0",IF(AC52>AI52,1,IF(AC52=AI52,"0,5",0))) -> 0 | AF53: =IF(AI52-AI51=0,"0",IF(AF52>Z52,1,IF(AF52=Z52,"0,5",0))) -> 1 | AG53: =IF(AI52-AI51=0,"0",IF(AG52>AA52,1,IF(AG52=AA52,"0,5",0))) -> 1 | AH53: =IF(AI52-AI51=0,"0",IF(AH52>AB52,1,IF(AH52=AB52,"0,5",0))) -> 1 | AI53: =IF(AI52-AI51=0,"0",IF(AI52>AC52,1,IF(AI52=AC52,"0,5",0))) -> 1 | AL53: =IF(AO52-AO51=0,"0",IF(AL52>AR52,1,IF(AL52=AR52,"0,5",0))) -> 0 | AM53: =IF(AO52-AO51=0,"0",IF(AM52>AS52,1,IF(AM52=AS52,"0,5",0))) -> 0 | AN53: =IF(AO52-AO51=0,"0",IF(AN52>AT52,1,IF(AN52=AT52,"0,5",0))) -> 1 | AO53: =IF(AO52-AO51=0,"0",IF(AO52>AU52,1,IF(AO52=AU52,"0,5",0))) -> 0 | AR53: =IF(AU52-AU51=0,"0",IF(AR52>AL52,1,IF(AR52=AL52,"0,5",0))) -> 1 | AS53: =IF(AU52-AU51=0,"0",IF(AS52>AM52,1,IF(AS52=AM52,"0,5",0))) -> 1 | AT53: =IF(AU52-AU51=0,"0",IF(AT52>AN52,1,IF(AT52=AN52,"0,5",0))) -> 0 | AU53: =IF(AU52-AU51=0,"0",IF(AU52>AO52,1,IF(AU52=AO52,"0,5",0))) -> 1 | AX53: =IF(BA52-BA51=0,"0",IF(AX52>BD52,1,IF(AX52=BD52,"0,5",0))) -> 1 | AY53: =IF(BA52-BA51=0,"0",IF(AY52>BE52,1,IF(AY52=BE52,"0,5",0))) -> 0 | AZ53: =IF(BA52-BA51=0,"0",IF(AZ52>BF52,1,IF(AZ52=BF52,"0,5",0))) -> 1 | BA53: =IF(BA52-BA51=0,"0",IF(BA52>BG52,1,IF(BA52=BG52,"0,5",0))) -> 0 | BD53: =IF(BG52-BG51=0,"0",IF(BD52>AX52,1,IF(BD52=AX52,"0,5",0))) -> 0 | BE53: =IF(BG52-BG51=0,"0",IF(BE52>AY52,1,IF(BE52=AY52,"0,5",0))) -> 1 | BF53: =IF(BG52-BG51=0,"0",IF(BF52>AZ52,1,IF(BF52=AZ52,"0,5",0))) -> 0 | BG53: =IF(BG52-BG51=0,"0",IF(BG52>BA52,1,IF(BG52=BA52,"0,5",0))) -> 1
D54: Poeng: | E54: =B53+C53+D53+E53 -> 0 | J54: Poeng: | K54: =H53+I53+J53+K53 -> 4 | P54: Poeng: | Q54: =N53+O53+P53+Q53 -> 0 | V54: Poeng: | W54: =T53+U53+V53+W53 -> 4 | AB54: Poeng: | AC54: =Z53+AA53+AB53+AC53 -> 0 | AH54: Poeng: | AI54: =AF53+AG53+AH53+AI53 -> 4 | AN54: Poeng: | AO54: =AL53+AM53+AN53+AO53 -> 1 | AT54: Poeng: | AU54: =SUM(AR53:AU53) -> 3 | AZ54: Poeng: | BA54: =AX53+AY53+AZ53+BA53 -> 2 | BF54: Poeng: | BG54: =BD53+BE53+BF53+BG53 -> 2
D55: Status | E55: =IF(E52-E51=0,"IS",IF(E54>K54,"S",IF(E54<K54,"T",IF(E54=K54,"U","0")))) -> T | J55: Status | K55: =IF(K52-K51=0,"IS",IF(K54>E54,"S",IF(K54<E54,"T",IF(K54=E54,"U","0")))) -> S | P55: Status | Q55: =IF(Q52-Q51=0,"IS",IF(Q54>W54,"S",IF(Q54<W54,"T",IF(Q54=W54,"U","0")))) -> T | V55: Status | W55: =IF(W52-W51=0,"IS",IF(W54>Q54,"S",IF(W54<Q54,"T",IF(W54=Q54,"U","0")))) -> S | AB55: Status | AC55: =IF(AC52-AC51=0,"IS",IF(AC54>AI54,"S",IF(AC54<AI54,"T",IF(AC54=AI54,"U","0")))) -> IS | AH55: Status | AI55: =IF(AI52-AI51=0,"IS",IF(AI54>AC54,"S",IF(AI54<AC54,"T",IF(AI54=AC54,"U","0")))) -> S | AN55: Status | AO55: =IF(AO52-AO51=0,"IS",IF(AO54>AU54,"S",IF(AO54<AU54,"T",IF(AO54=AU54,"U","0")))) -> T | AT55: Status | AU55: =IF(AU52-AU51=0,"IS",IF(AU54>AO54,"S",IF(AU54<AO54,"T",IF(AU54=AO54,"U","0")))) -> S | AZ55: Status | BA55: =IF(BA52-BA51=0,"IS",IF(BA54>BG54,"S",IF(BA54<BG54,"T",IF(BA54=BG54,"U","0")))) -> U | BF55: Status | BG55: =IF(BG52-BG51=0,"IS",IF(BG54>BA54,"S",IF(BG54<BA54,"T",IF(BG54=BA54,"U","0")))) -> U
A57: Runde 4
A58: Kamp 16 | M58: Kamp 17 | Y58: Kamp 18 | AK58: Kamp 19 | AW58: Kamp 20
A59: Hjemmelag: | B59: Normo Slipestasjon | G59: Bortelag: | H59: Danielsen å i | M59: Hjemmelag: | N59: Glamox | S59: Bortelag: | T59: Rørlegger 1 | Y59: Hjemmelag: | Z59: TietoEVRY | AE59: Bortelag: | AF59: Panorama Turkeys | AK59: Hjemmelag: | AL59: Molde Kommune | AQ59: Bortelag: | AR59: Team Fuglset | AW59: Hjemmelag: | AX59: Ytre Bowlinglag | BC59: Bortelag: | BD59: Istad Strikers
A61: Navn på spiller | B61: Omgang 1 | C61: Omgang 2 | D61: Omgang 3 | E61: Sum | G61: Navn på spiller | H61: Omgang 1 | I61: Omgang 2 | J61: Omgang 3 | K61: Sum | M61: Navn på spiller | N61: Omgang 1 | O61: Omgang 2 | P61: Omgang 3 | Q61: Sum | S61: Navn på spiller | T61: Omgang 1 | U61: Omgang 2 | V61: Omgang 3 | W61: Sum | Y61: Navn på spiller | Z61: Omgang 1 | AA61: Omgang 2 | AB61: Omgang 3 | AC61: Sum | AE61: Navn på spiller | AF61: Omgang 1 | AG61: Omgang 2 | AH61: Omgang 3 | AI61: Sum | AK61: Navn på spiller | AL61: Omgang 1 | AM61: Omgang 2 | AN61: Omgang 3 | AO61: Sum | AQ61: Navn på spiller | AR61: Omgang 1 | AS61: Omgang 2 | AT61: Omgang 3 | AU61: Sum | AW61: Navn på spiller | AX61: Omgang 1 | AY61: Omgang 2 | AZ61: Omgang 3 | BA61: Sum | BC61: Navn på spiller | BD61: Omgang 1 | BE61: Omgang 2 | BF61: Omgang 3 | BG61: Sum
A62: =IF(B59="Normo Slipestasjon",'Tellere og summer'!$A$3,IF(B59="Glamox",'Tellere og summer'!$A$13,IF(B59="Molde Kommune",'Tellere og summer'!$A$23,IF(B59="Rørlegger 1",'Tellere og summer'!$A$33,IF(B59="TietoEVRY",'Tellere og summer'!$A$43,IF(B59="Danielsen å i",'Tellere og summer'!$A$53,IF(B59="Panorama Turkeys",'Tellere og summer'!$A$63,IF(B59="Team Fuglset",'Tellere og summer'!$A$73,IF(B59="Istad Strikers",'Tellere og summer'!$A$83,IF(B59="Ytre Bowlinglag",'Tellere og summer'!$A$93,"NA")))))))))) -> Asbjørn Toft | B62: 123 | C62: 153 | D62: 163 | E62: =SUM(B62:D62) -> 439 | G62: =IF(H59="Normo Slipestasjon",'Tellere og summer'!$A$3,IF(H59="Glamox",'Tellere og summer'!$A$13,IF(H59="Molde Kommune",'Tellere og summer'!$A$23,IF(H59="Rørlegger 1",'Tellere og summer'!$A$33,IF(H59="TietoEVRY",'Tellere og summer'!$A$43,IF(H59="Danielsen å i",'Tellere og summer'!$A$53,IF(H59="Panorama Turkeys",'Tellere og summer'!$A$63,IF(H59="Team Fuglset",'Tellere og summer'!$A$73,IF(H59="Istad Strikers",'Tellere og summer'!$A$83,IF(H59="Ytre Bowlinglag",'Tellere og summer'!$A$93,"NA")))))))))) -> Kjell Thorsrudhagen | H62: 158 | J62: 201 | K62: =SUM(H62:J62) -> 359 | M62: =IF(N59="Normo Slipestasjon",'Tellere og summer'!$A$3,IF(N59="Glamox",'Tellere og summer'!$A$13,IF(N59="Molde Kommune",'Tellere og summer'!$A$23,IF(N59="Rørlegger 1",'Tellere og summer'!$A$33,IF(N59="TietoEVRY",'Tellere og summer'!$A$43,IF(N59="Danielsen å i",'Tellere og summer'!$A$53,IF(N59="Panorama Turkeys",'Tellere og summer'!$A$63,IF(N59="Team Fuglset",'Tellere og summer'!$A$73,IF(N59="Istad Strikers",'Tellere og summer'!$A$83,IF(N59="Ytre Bowlinglag",'Tellere og summer'!$A$93,"NA")))))))))) -> Paul Boyle | N62: 154 | O62: 222 | P62: 188 | Q62: =SUM(N62:P62) -> 564 | S62: =IF(T59="Normo Slipestasjon",'Tellere og summer'!$A$3,IF(T59="Glamox",'Tellere og summer'!$A$13,IF(T59="Molde Kommune",'Tellere og summer'!$A$23,IF(T59="Rørlegger 1",'Tellere og summer'!$A$33,IF(T59="TietoEVRY",'Tellere og summer'!$A$43,IF(T59="Danielsen å i",'Tellere og summer'!$A$53,IF(T59="Panorama Turkeys",'Tellere og summer'!$A$63,IF(T59="Team Fuglset",'Tellere og summer'!$A$73,IF(T59="Istad Strikers",'Tellere og summer'!$A$83,IF(T59="Ytre Bowlinglag",'Tellere og summer'!$A$93,"NA")))))))))) -> Arnfinn Lange | T62: 97 | U62: 105 | V62: 178 | W62: =SUM(T62:V62) -> 380 | Y62: =IF(Z59="Normo Slipestasjon",'Tellere og summer'!$A$3,IF(Z59="Glamox",'Tellere og summer'!$A$13,IF(Z59="Molde Kommune",'Tellere og summer'!$A$23,IF(Z59="Rørlegger 1",'Tellere og summer'!$A$33,IF(Z59="TietoEVRY",'Tellere og summer'!$A$43,IF(Z59="Danielsen å i",'Tellere og summer'!$A$53,IF(Z59="Panorama Turkeys",'Tellere og summer'!$A$63,IF(Z59="Team Fuglset",'Tellere og summer'!$A$73,IF(Z59="Istad Strikers",'Tellere og summer'!$A$83,IF(Z59="Ytre Bowlinglag",'Tellere og summer'!$A$93,"NA")))))))))) -> Svein Erik Jenset | AC62: =SUM(Z62:AB62) -> 0 | AE62: =IF(AF59="Normo Slipestasjon",'Tellere og summer'!$A$3,IF(AF59="Glamox",'Tellere og summer'!$A$13,IF(AF59="Molde Kommune",'Tellere og summer'!$A$23,IF(AF59="Rørlegger 1",'Tellere og summer'!$A$33,IF(AF59="TietoEVRY",'Tellere og summer'!$A$43,IF(AF59="Danielsen å i",'Tellere og summer'!$A$53,IF(AF59="Panorama Turkeys",'Tellere og summer'!$A$63,IF(AF59="Team Fuglset",'Tellere og summer'!$A$73,IF(AF59="Istad Strikers",'Tellere og summer'!$A$83,IF(AF59="Ytre Bowlinglag",'Tellere og summer'!$A$93,"NA")))))))))) -> Martin Aarø | AF62: 208 | AG62: 140 | AH62: 149 | AI62: =SUM(AF62:AH62) -> 497 | AK62: =IF(AL59="Normo Slipestasjon",'Tellere og summer'!$A$3,IF(AL59="Glamox",'Tellere og summer'!$A$13,IF(AL59="Molde Kommune",'Tellere og summer'!$A$23,IF(AL59="Rørlegger 1",'Tellere og summer'!$A$33,IF(AL59="TietoEVRY",'Tellere og summer'!$A$43,IF(AL59="Danielsen å i",'Tellere og summer'!$A$53,IF(AL59="Panorama Turkeys",'Tellere og summer'!$A$63,IF(AL59="Team Fuglset",'Tellere og summer'!$A$73,IF(AL59="Istad Strikers",'Tellere og summer'!$A$83,IF(AL59="Ytre Bowlinglag",'Tellere og summer'!$A$93,"NA")))))))))) -> Gerd Norunn Nygård | AL62: 130 | AM62: 183 | AN62: 129 | AO62: =SUM(AL62:AN62) -> 442 | AQ62: =IF(AR59="Normo Slipestasjon",'Tellere og summer'!$A$3,IF(AR59="Glamox",'Tellere og summer'!$A$13,IF(AR59="Molde Kommune",'Tellere og summer'!$A$23,IF(AR59="Rørlegger 1",'Tellere og summer'!$A$33,IF(AR59="TietoEVRY",'Tellere og summer'!$A$43,IF(AR59="Danielsen å i",'Tellere og summer'!$A$53,IF(AR59="Panorama Turkeys",'Tellere og summer'!$A$63,IF(AR59="Team Fuglset",'Tellere og summer'!$A$73,IF(AR59="Istad Strikers",'Tellere og summer'!$A$83,IF(AR59="Ytre Bowlinglag",'Tellere og summer'!$A$93,"NA")))))))))) -> Sten-Morten Kjørsvik | AR62: 142 | AS62: 185 | AT62: 123 | AU62: =SUM(AR62:AT62) -> 450 | AW62: =IF(AX59="Normo Slipestasjon",'Tellere og summer'!$A$3,IF(AX59="Glamox",'Tellere og summer'!$A$13,IF(AX59="Molde Kommune",'Tellere og summer'!$A$23,IF(AX59="Rørlegger 1",'Tellere og summer'!$A$33,IF(AX59="TietoEVRY",'Tellere og summer'!$A$43,IF(AX59="Danielsen å i",'Tellere og summer'!$A$53,IF(AX59="Panorama Turkeys",'Tellere og summer'!$A$63,IF(AX59="Team Fuglset",'Tellere og summer'!$A$73,IF(AX59="Istad Strikers",'Tellere og summer'!$A$83,IF(AX59="Ytre Bowlinglag",'Tellere og summer'!$A$93,"NA")))))))))) -> Amund Vaagen | BA62: =SUM(AX62:AZ62) -> 0 | BC62: =IF(BD59="Normo Slipestasjon",'Tellere og summer'!$A$3,IF(BD59="Glamox",'Tellere og summer'!$A$13,IF(BD59="Molde Kommune",'Tellere og summer'!$A$23,IF(BD59="Rørlegger 1",'Tellere og summer'!$A$33,IF(BD59="TietoEVRY",'Tellere og summer'!$A$43,IF(BD59="Danielsen å i",'Tellere og summer'!$A$53,IF(BD59="Panorama Turkeys",'Tellere og summer'!$A$63,IF(BD59="Team Fuglset",'Tellere og summer'!$A$73,IF(BD59="Istad Strikers",'Tellere og summer'!$A$83,IF(BD59="Ytre Bowlinglag",'Tellere og summer'!$A$93,"NA")))))))))) -> Arne Ytterhaug | BG62: =SUM(BD62:BF62) -> 0
A63: =IF(B59="Normo Slipestasjon",'Tellere og summer'!$A$4,IF(B59="Glamox",'Tellere og summer'!$A$14,IF(B59="Molde Kommune",'Tellere og summer'!$A$24,IF(B59="Rørlegger 1",'Tellere og summer'!$A$34,IF(B59="TietoEVRY",'Tellere og summer'!$A$44,IF(B59="Danielsen å i",'Tellere og summer'!$A$54,IF(B59="Panorama Turkeys",'Tellere og summer'!$A$64,IF(B59="Team Fuglset",'Tellere og summer'!$A$74,IF(B59="Istad Strikers",'Tellere og summer'!$A$84,IF(B59="Ytre Bowlinglag",'Tellere og summer'!$A$94,"NA")))))))))) -> Tormod Kleppe | E63: =SUM(B63:D63) -> 0 | G63: =IF(H59="Normo Slipestasjon",'Tellere og summer'!$A$4,IF(H59="Glamox",'Tellere og summer'!$A$14,IF(H59="Molde Kommune",'Tellere og summer'!$A$24,IF(H59="Rørlegger 1",'Tellere og summer'!$A$34,IF(H59="TietoEVRY",'Tellere og summer'!$A$44,IF(H59="Danielsen å i",'Tellere og summer'!$A$54,IF(H59="Panorama Turkeys",'Tellere og summer'!$A$64,IF(H59="Team Fuglset",'Tellere og summer'!$A$74,IF(H59="Istad Strikers",'Tellere og summer'!$A$84,IF(H59="Ytre Bowlinglag",'Tellere og summer'!$A$94,"NA")))))))))) -> Alhild Danielsen | H63: 177 | I63: 172 | K63: =SUM(H63:J63) -> 349 | M63: =IF(N59="Normo Slipestasjon",'Tellere og summer'!$A$4,IF(N59="Glamox",'Tellere og summer'!$A$14,IF(N59="Molde Kommune",'Tellere og summer'!$A$24,IF(N59="Rørlegger 1",'Tellere og summer'!$A$34,IF(N59="TietoEVRY",'Tellere og summer'!$A$44,IF(N59="Danielsen å i",'Tellere og summer'!$A$54,IF(N59="Panorama Turkeys",'Tellere og summer'!$A$64,IF(N59="Team Fuglset",'Tellere og summer'!$A$74,IF(N59="Istad Strikers",'Tellere og summer'!$A$84,IF(N59="Ytre Bowlinglag",'Tellere og summer'!$A$94,"NA")))))))))) -> Rikard Nerland | N63: 157 | O63: 247 | P63: 277 | Q63: =SUM(N63:P63) -> 681 | S63: =IF(T59="Normo Slipestasjon",'Tellere og summer'!$A$4,IF(T59="Glamox",'Tellere og summer'!$A$14,IF(T59="Molde Kommune",'Tellere og summer'!$A$24,IF(T59="Rørlegger 1",'Tellere og summer'!$A$34,IF(T59="TietoEVRY",'Tellere og summer'!$A$44,IF(T59="Danielsen å i",'Tellere og summer'!$A$54,IF(T59="Panorama Turkeys",'Tellere og summer'!$A$64,IF(T59="Team Fuglset",'Tellere og summer'!$A$74,IF(T59="Istad Strikers",'Tellere og summer'!$A$84,IF(T59="Ytre Bowlinglag",'Tellere og summer'!$A$94,"NA")))))))))) -> Billy Williams | W63: =SUM(T63:V63) -> 0 | Y63: =IF(Z59="Normo Slipestasjon",'Tellere og summer'!$A$4,IF(Z59="Glamox",'Tellere og summer'!$A$14,IF(Z59="Molde Kommune",'Tellere og summer'!$A$24,IF(Z59="Rørlegger 1",'Tellere og summer'!$A$34,IF(Z59="TietoEVRY",'Tellere og summer'!$A$44,IF(Z59="Danielsen å i",'Tellere og summer'!$A$54,IF(Z59="Panorama Turkeys",'Tellere og summer'!$A$64,IF(Z59="Team Fuglset",'Tellere og summer'!$A$74,IF(Z59="Istad Strikers",'Tellere og summer'!$A$84,IF(Z59="Ytre Bowlinglag",'Tellere og summer'!$A$94,"NA")))))))))) -> Øystein Lervik | AC63: =SUM(Z63:AB63) -> 0 | AE63: =IF(AF59="Normo Slipestasjon",'Tellere og summer'!$A$4,IF(AF59="Glamox",'Tellere og summer'!$A$14,IF(AF59="Molde Kommune",'Tellere og summer'!$A$24,IF(AF59="Rørlegger 1",'Tellere og summer'!$A$34,IF(AF59="TietoEVRY",'Tellere og summer'!$A$44,IF(AF59="Danielsen å i",'Tellere og summer'!$A$54,IF(AF59="Panorama Turkeys",'Tellere og summer'!$A$64,IF(AF59="Team Fuglset",'Tellere og summer'!$A$74,IF(AF59="Istad Strikers",'Tellere og summer'!$A$84,IF(AF59="Ytre Bowlinglag",'Tellere og summer'!$A$94,"NA")))))))))) -> Jamie Sagstuen | AF63: 139 | AI63: =SUM(AF63:AH63) -> 139 | AK63: =IF(AL59="Normo Slipestasjon",'Tellere og summer'!$A$4,IF(AL59="Glamox",'Tellere og summer'!$A$14,IF(AL59="Molde Kommune",'Tellere og summer'!$A$24,IF(AL59="Rørlegger 1",'Tellere og summer'!$A$34,IF(AL59="TietoEVRY",'Tellere og summer'!$A$44,IF(AL59="Danielsen å i",'Tellere og summer'!$A$54,IF(AL59="Panorama Turkeys",'Tellere og summer'!$A$64,IF(AL59="Team Fuglset",'Tellere og summer'!$A$74,IF(AL59="Istad Strikers",'Tellere og summer'!$A$84,IF(AL59="Ytre Bowlinglag",'Tellere og summer'!$A$94,"NA")))))))))) -> Ole Østigård | AL63: 173 | AM63: 154 | AN63: 179 | AO63: =SUM(AL63:AN63) -> 506 | AQ63: =IF(AR59="Normo Slipestasjon",'Tellere og summer'!$A$4,IF(AR59="Glamox",'Tellere og summer'!$A$14,IF(AR59="Molde Kommune",'Tellere og summer'!$A$24,IF(AR59="Rørlegger 1",'Tellere og summer'!$A$34,IF(AR59="TietoEVRY",'Tellere og summer'!$A$44,IF(AR59="Danielsen å i",'Tellere og summer'!$A$54,IF(AR59="Panorama Turkeys",'Tellere og summer'!$A$64,IF(AR59="Team Fuglset",'Tellere og summer'!$A$74,IF(AR59="Istad Strikers",'Tellere og summer'!$A$84,IF(AR59="Ytre Bowlinglag",'Tellere og summer'!$A$94,"NA")))))))))) -> Lars Brian Taylor | AU63: =SUM(AR63:AT63) -> 0 | AW63: =IF(AX59="Normo Slipestasjon",'Tellere og summer'!$A$4,IF(AX59="Glamox",'Tellere og summer'!$A$14,IF(AX59="Molde Kommune",'Tellere og summer'!$A$24,IF(AX59="Rørlegger 1",'Tellere og summer'!$A$34,IF(AX59="TietoEVRY",'Tellere og summer'!$A$44,IF(AX59="Danielsen å i",'Tellere og summer'!$A$54,IF(AX59="Panorama Turkeys",'Tellere og summer'!$A$64,IF(AX59="Team Fuglset",'Tellere og summer'!$A$74,IF(AX59="Istad Strikers",'Tellere og summer'!$A$84,IF(AX59="Ytre Bowlinglag",'Tellere og summer'!$A$94,"NA")))))))))) -> Halvor Vaagen | AX63: 140 | AY63: 171 | AZ63: 136 | BA63: =SUM(AX63:AZ63) -> 447 | BC63: =IF(BD59="Normo Slipestasjon",'Tellere og summer'!$A$4,IF(BD59="Glamox",'Tellere og summer'!$A$14,IF(BD59="Molde Kommune",'Tellere og summer'!$A$24,IF(BD59="Rørlegger 1",'Tellere og summer'!$A$34,IF(BD59="TietoEVRY",'Tellere og summer'!$A$44,IF(BD59="Danielsen å i",'Tellere og summer'!$A$54,IF(BD59="Panorama Turkeys",'Tellere og summer'!$A$64,IF(BD59="Team Fuglset",'Tellere og summer'!$A$74,IF(BD59="Istad Strikers",'Tellere og summer'!$A$84,IF(BD59="Ytre Bowlinglag",'Tellere og summer'!$A$94,"NA")))))))))) -> Magne Farstadvoll | BD63: 175 | BE63: 134 | BF63: 164 | BG63: =SUM(BD63:BF63) -> 473
A64: =IF(B59="Normo Slipestasjon",'Tellere og summer'!$A$5,IF(B59="Glamox",'Tellere og summer'!$A$15,IF(B59="Molde Kommune",'Tellere og summer'!$A$25,IF(B59="Rørlegger 1",'Tellere og summer'!$A$35,IF(B59="TietoEVRY",'Tellere og summer'!$A$45,IF(B59="Danielsen å i",'Tellere og summer'!$A$55,IF(B59="Panorama Turkeys",'Tellere og summer'!$A$65,IF(B59="Team Fuglset",'Tellere og summer'!$A$75,IF(B59="Istad Strikers",'Tellere og summer'!$A$85,IF(B59="Ytre Bowlinglag",'Tellere og summer'!$A$95,"NA")))))))))) -> Tor Åge Langås | B64: 128 | C64: 143 | D64: 112 | E64: =SUM(B64:D64) -> 383 | G64: =IF(H59="Normo Slipestasjon",'Tellere og summer'!$A$5,IF(H59="Glamox",'Tellere og summer'!$A$15,IF(H59="Molde Kommune",'Tellere og summer'!$A$25,IF(H59="Rørlegger 1",'Tellere og summer'!$A$35,IF(H59="TietoEVRY",'Tellere og summer'!$A$45,IF(H59="Danielsen å i",'Tellere og summer'!$A$55,IF(H59="Panorama Turkeys",'Tellere og summer'!$A$65,IF(H59="Team Fuglset",'Tellere og summer'!$A$75,IF(H59="Istad Strikers",'Tellere og summer'!$A$85,IF(H59="Ytre Bowlinglag",'Tellere og summer'!$A$95,"NA")))))))))) -> Grethe Danielsen | H64: 183 | I64: 191 | J64: 169 | K64: =SUM(H64:J64) -> 543 | M64: =IF(N59="Normo Slipestasjon",'Tellere og summer'!$A$5,IF(N59="Glamox",'Tellere og summer'!$A$15,IF(N59="Molde Kommune",'Tellere og summer'!$A$25,IF(N59="Rørlegger 1",'Tellere og summer'!$A$35,IF(N59="TietoEVRY",'Tellere og summer'!$A$45,IF(N59="Danielsen å i",'Tellere og summer'!$A$55,IF(N59="Panorama Turkeys",'Tellere og summer'!$A$65,IF(N59="Team Fuglset",'Tellere og summer'!$A$75,IF(N59="Istad Strikers",'Tellere og summer'!$A$85,IF(N59="Ytre Bowlinglag",'Tellere og summer'!$A$95,"NA")))))))))) -> Christian Pascal | N64: 226 | O64: 202 | P64: 173 | Q64: =SUM(N64:P64) -> 601 | S64: =IF(T59="Normo Slipestasjon",'Tellere og summer'!$A$5,IF(T59="Glamox",'Tellere og summer'!$A$15,IF(T59="Molde Kommune",'Tellere og summer'!$A$25,IF(T59="Rørlegger 1",'Tellere og summer'!$A$35,IF(T59="TietoEVRY",'Tellere og summer'!$A$45,IF(T59="Danielsen å i",'Tellere og summer'!$A$55,IF(T59="Panorama Turkeys",'Tellere og summer'!$A$65,IF(T59="Team Fuglset",'Tellere og summer'!$A$75,IF(T59="Istad Strikers",'Tellere og summer'!$A$85,IF(T59="Ytre Bowlinglag",'Tellere og summer'!$A$95,"NA")))))))))) -> Arild Gujord | T64: 156 | U64: 139 | V64: 142 | W64: =SUM(T64:V64) -> 437 | Y64: =IF(Z59="Normo Slipestasjon",'Tellere og summer'!$A$5,IF(Z59="Glamox",'Tellere og summer'!$A$15,IF(Z59="Molde Kommune",'Tellere og summer'!$A$25,IF(Z59="Rørlegger 1",'Tellere og summer'!$A$35,IF(Z59="TietoEVRY",'Tellere og summer'!$A$45,IF(Z59="Danielsen å i",'Tellere og summer'!$A$55,IF(Z59="Panorama Turkeys",'Tellere og summer'!$A$65,IF(Z59="Team Fuglset",'Tellere og summer'!$A$75,IF(Z59="Istad Strikers",'Tellere og summer'!$A$85,IF(Z59="Ytre Bowlinglag",'Tellere og summer'!$A$95,"NA")))))))))) -> Vidar Lervik | AC64: =SUM(Z64:AB64) -> 0 | AE64: =IF(AF59="Normo Slipestasjon",'Tellere og summer'!$A$5,IF(AF59="Glamox",'Tellere og summer'!$A$15,IF(AF59="Molde Kommune",'Tellere og summer'!$A$25,IF(AF59="Rørlegger 1",'Tellere og summer'!$A$35,IF(AF59="TietoEVRY",'Tellere og summer'!$A$45,IF(AF59="Danielsen å i",'Tellere og summer'!$A$55,IF(AF59="Panorama Turkeys",'Tellere og summer'!$A$65,IF(AF59="Team Fuglset",'Tellere og summer'!$A$75,IF(AF59="Istad Strikers",'Tellere og summer'!$A$85,IF(AF59="Ytre Bowlinglag",'Tellere og summer'!$A$95,"NA")))))))))) -> Martin Gikling & Evy | AI64: =SUM(AF64:AH64) -> 0 | AK64: =IF(AL59="Normo Slipestasjon",'Tellere og summer'!$A$5,IF(AL59="Glamox",'Tellere og summer'!$A$15,IF(AL59="Molde Kommune",'Tellere og summer'!$A$25,IF(AL59="Rørlegger 1",'Tellere og summer'!$A$35,IF(AL59="TietoEVRY",'Tellere og summer'!$A$45,IF(AL59="Danielsen å i",'Tellere og summer'!$A$55,IF(AL59="Panorama Turkeys",'Tellere og summer'!$A$65,IF(AL59="Team Fuglset",'Tellere og summer'!$A$75,IF(AL59="Istad Strikers",'Tellere og summer'!$A$85,IF(AL59="Ytre Bowlinglag",'Tellere og summer'!$A$95,"NA")))))))))) -> Tone Nygård Nilsen | AL64: 139 | AM64: 156 | AN64: 141 | AO64: =SUM(AL64:AN64) -> 436 | AQ64: =IF(AR59="Normo Slipestasjon",'Tellere og summer'!$A$5,IF(AR59="Glamox",'Tellere og summer'!$A$15,IF(AR59="Molde Kommune",'Tellere og summer'!$A$25,IF(AR59="Rørlegger 1",'Tellere og summer'!$A$35,IF(AR59="TietoEVRY",'Tellere og summer'!$A$45,IF(AR59="Danielsen å i",'Tellere og summer'!$A$55,IF(AR59="Panorama Turkeys",'Tellere og summer'!$A$65,IF(AR59="Team Fuglset",'Tellere og summer'!$A$75,IF(AR59="Istad Strikers",'Tellere og summer'!$A$85,IF(AR59="Ytre Bowlinglag",'Tellere og summer'!$A$95,"NA")))))))))) -> Ole Morten Aarø | AU64: =SUM(AR64:AT64) -> 0 | AW64: =IF(AX59="Normo Slipestasjon",'Tellere og summer'!$A$5,IF(AX59="Glamox",'Tellere og summer'!$A$15,IF(AX59="Molde Kommune",'Tellere og summer'!$A$25,IF(AX59="Rørlegger 1",'Tellere og summer'!$A$35,IF(AX59="TietoEVRY",'Tellere og summer'!$A$45,IF(AX59="Danielsen å i",'Tellere og summer'!$A$55,IF(AX59="Panorama Turkeys",'Tellere og summer'!$A$65,IF(AX59="Team Fuglset",'Tellere og summer'!$A$75,IF(AX59="Istad Strikers",'Tellere og summer'!$A$85,IF(AX59="Ytre Bowlinglag",'Tellere og summer'!$A$95,"NA")))))))))) -> Jarle Endreplass | AX64: 139 | AY64: 170 | AZ64: 164 | BA64: =SUM(AX64:AZ64) -> 473 | BC64: =IF(BD59="Normo Slipestasjon",'Tellere og summer'!$A$5,IF(BD59="Glamox",'Tellere og summer'!$A$15,IF(BD59="Molde Kommune",'Tellere og summer'!$A$25,IF(BD59="Rørlegger 1",'Tellere og summer'!$A$35,IF(BD59="TietoEVRY",'Tellere og summer'!$A$45,IF(BD59="Danielsen å i",'Tellere og summer'!$A$55,IF(BD59="Panorama Turkeys",'Tellere og summer'!$A$65,IF(BD59="Team Fuglset",'Tellere og summer'!$A$75,IF(BD59="Istad Strikers",'Tellere og summer'!$A$85,IF(BD59="Ytre Bowlinglag",'Tellere og summer'!$A$95,"NA")))))))))) -> Jan Kjetil Holberg Sandnes | BD64: 82 | BE64: 95 | BF64: 105 | BG64: =SUM(BD64:BF64) -> 282
A65: =IF(B59="Normo Slipestasjon",'Tellere og summer'!$A$6,IF(B59="Glamox",'Tellere og summer'!$A$16,IF(B59="Molde Kommune",'Tellere og summer'!$A$26,IF(B59="Rørlegger 1",'Tellere og summer'!$A$36,IF(B59="TietoEVRY",'Tellere og summer'!$A$46,IF(B59="Danielsen å i",'Tellere og summer'!$A$56,IF(B59="Panorama Turkeys",'Tellere og summer'!$A$66,IF(B59="Team Fuglset",'Tellere og summer'!$A$76,IF(B59="Istad Strikers",'Tellere og summer'!$A$86,IF(B59="Ytre Bowlinglag",'Tellere og summer'!$A$96,"NA")))))))))) -> Thor Bolsønes | B65: 94 | C65: 113 | D65: 169 | E65: =SUM(B65:D65) -> 376 | G65: =IF(H59="Normo Slipestasjon",'Tellere og summer'!$A$6,IF(H59="Glamox",'Tellere og summer'!$A$16,IF(H59="Molde Kommune",'Tellere og summer'!$A$26,IF(H59="Rørlegger 1",'Tellere og summer'!$A$36,IF(H59="TietoEVRY",'Tellere og summer'!$A$46,IF(H59="Danielsen å i",'Tellere og summer'!$A$56,IF(H59="Panorama Turkeys",'Tellere og summer'!$A$66,IF(H59="Team Fuglset",'Tellere og summer'!$A$76,IF(H59="Istad Strikers",'Tellere og summer'!$A$86,IF(H59="Ytre Bowlinglag",'Tellere og summer'!$A$96,"NA")))))))))) -> Irene T. Danielsen | I65: 178 | J65: 176 | K65: =SUM(H65:J65) -> 354 | M65: =IF(N59="Normo Slipestasjon",'Tellere og summer'!$A$6,IF(N59="Glamox",'Tellere og summer'!$A$16,IF(N59="Molde Kommune",'Tellere og summer'!$A$26,IF(N59="Rørlegger 1",'Tellere og summer'!$A$36,IF(N59="TietoEVRY",'Tellere og summer'!$A$46,IF(N59="Danielsen å i",'Tellere og summer'!$A$56,IF(N59="Panorama Turkeys",'Tellere og summer'!$A$66,IF(N59="Team Fuglset",'Tellere og summer'!$A$76,IF(N59="Istad Strikers",'Tellere og summer'!$A$86,IF(N59="Ytre Bowlinglag",'Tellere og summer'!$A$96,"NA")))))))))) -> Odd Øyvind Fjørtoft | Q65: =SUM(N65:P65) -> 0 | S65: =IF(T59="Normo Slipestasjon",'Tellere og summer'!$A$6,IF(T59="Glamox",'Tellere og summer'!$A$16,IF(T59="Molde Kommune",'Tellere og summer'!$A$26,IF(T59="Rørlegger 1",'Tellere og summer'!$A$36,IF(T59="TietoEVRY",'Tellere og summer'!$A$46,IF(T59="Danielsen å i",'Tellere og summer'!$A$56,IF(T59="Panorama Turkeys",'Tellere og summer'!$A$66,IF(T59="Team Fuglset",'Tellere og summer'!$A$76,IF(T59="Istad Strikers",'Tellere og summer'!$A$86,IF(T59="Ytre Bowlinglag",'Tellere og summer'!$A$96,"NA")))))))))) -> Kristian Røstberg | T65: 122 | U65: 116 | V65: 123 | W65: =SUM(T65:V65) -> 361 | Y65: =IF(Z59="Normo Slipestasjon",'Tellere og summer'!$A$6,IF(Z59="Glamox",'Tellere og summer'!$A$16,IF(Z59="Molde Kommune",'Tellere og summer'!$A$26,IF(Z59="Rørlegger 1",'Tellere og summer'!$A$36,IF(Z59="TietoEVRY",'Tellere og summer'!$A$46,IF(Z59="Danielsen å i",'Tellere og summer'!$A$56,IF(Z59="Panorama Turkeys",'Tellere og summer'!$A$66,IF(Z59="Team Fuglset",'Tellere og summer'!$A$76,IF(Z59="Istad Strikers",'Tellere og summer'!$A$86,IF(Z59="Ytre Bowlinglag",'Tellere og summer'!$A$96,"NA")))))))))) -> Svein Johan Hauge | AC65: =SUM(Z65:AB65) -> 0 | AE65: =IF(AF59="Normo Slipestasjon",'Tellere og summer'!$A$6,IF(AF59="Glamox",'Tellere og summer'!$A$16,IF(AF59="Molde Kommune",'Tellere og summer'!$A$26,IF(AF59="Rørlegger 1",'Tellere og summer'!$A$36,IF(AF59="TietoEVRY",'Tellere og summer'!$A$46,IF(AF59="Danielsen å i",'Tellere og summer'!$A$56,IF(AF59="Panorama Turkeys",'Tellere og summer'!$A$66,IF(AF59="Team Fuglset",'Tellere og summer'!$A$76,IF(AF59="Istad Strikers",'Tellere og summer'!$A$86,IF(AF59="Ytre Bowlinglag",'Tellere og summer'!$A$96,"NA")))))))))) -> Jacob Lyche | AG65: 77 | AH65: 147 | AI65: =SUM(AF65:AH65) -> 224 | AK65: =IF(AL59="Normo Slipestasjon",'Tellere og summer'!$A$6,IF(AL59="Glamox",'Tellere og summer'!$A$16,IF(AL59="Molde Kommune",'Tellere og summer'!$A$26,IF(AL59="Rørlegger 1",'Tellere og summer'!$A$36,IF(AL59="TietoEVRY",'Tellere og summer'!$A$46,IF(AL59="Danielsen å i",'Tellere og summer'!$A$56,IF(AL59="Panorama Turkeys",'Tellere og summer'!$A$66,IF(AL59="Team Fuglset",'Tellere og summer'!$A$76,IF(AL59="Istad Strikers",'Tellere og summer'!$A$86,IF(AL59="Ytre Bowlinglag",'Tellere og summer'!$A$96,"NA")))))))))) -> Arild Bryhn | AO65: =SUM(AL65:AN65) -> 0 | AQ65: =IF(AR59="Normo Slipestasjon",'Tellere og summer'!$A$6,IF(AR59="Glamox",'Tellere og summer'!$A$16,IF(AR59="Molde Kommune",'Tellere og summer'!$A$26,IF(AR59="Rørlegger 1",'Tellere og summer'!$A$36,IF(AR59="TietoEVRY",'Tellere og summer'!$A$46,IF(AR59="Danielsen å i",'Tellere og summer'!$A$56,IF(AR59="Panorama Turkeys",'Tellere og summer'!$A$66,IF(AR59="Team Fuglset",'Tellere og summer'!$A$76,IF(AR59="Istad Strikers",'Tellere og summer'!$A$86,IF(AR59="Ytre Bowlinglag",'Tellere og summer'!$A$96,"NA")))))))))) -> Svein Gussiås | AU65: =SUM(AR65:AT65) -> 0 | AW65: =IF(AX59="Normo Slipestasjon",'Tellere og summer'!$A$6,IF(AX59="Glamox",'Tellere og summer'!$A$16,IF(AX59="Molde Kommune",'Tellere og summer'!$A$26,IF(AX59="Rørlegger 1",'Tellere og summer'!$A$36,IF(AX59="TietoEVRY",'Tellere og summer'!$A$46,IF(AX59="Danielsen å i",'Tellere og summer'!$A$56,IF(AX59="Panorama Turkeys",'Tellere og summer'!$A$66,IF(AX59="Team Fuglset",'Tellere og summer'!$A$76,IF(AX59="Istad Strikers",'Tellere og summer'!$A$86,IF(AX59="Ytre Bowlinglag",'Tellere og summer'!$A$96,"NA")))))))))) -> Geir Gjelsten | BA65: =SUM(AX65:AZ65) -> 0 | BC65: =IF(BD59="Normo Slipestasjon",'Tellere og summer'!$A$6,IF(BD59="Glamox",'Tellere og summer'!$A$16,IF(BD59="Molde Kommune",'Tellere og summer'!$A$26,IF(BD59="Rørlegger 1",'Tellere og summer'!$A$36,IF(BD59="TietoEVRY",'Tellere og summer'!$A$46,IF(BD59="Danielsen å i",'Tellere og summer'!$A$56,IF(BD59="Panorama Turkeys",'Tellere og summer'!$A$66,IF(BD59="Team Fuglset",'Tellere og summer'!$A$76,IF(BD59="Istad Strikers",'Tellere og summer'!$A$86,IF(BD59="Ytre Bowlinglag",'Tellere og summer'!$A$96,"NA")))))))))) -> Sindre Aure | BD65: 100 | BE65: 129 | BF65: 106 | BG65: =SUM(BD65:BF65) -> 335
A66: =IF(B59="Normo Slipestasjon",'Tellere og summer'!$A$7,IF(B59="Glamox",'Tellere og summer'!$A$17,IF(B59="Molde Kommune",'Tellere og summer'!$A$27,IF(B59="Rørlegger 1",'Tellere og summer'!$A$37,IF(B59="TietoEVRY",'Tellere og summer'!$A$47,IF(B59="Danielsen å i",'Tellere og summer'!$A$57,IF(B59="Panorama Turkeys",'Tellere og summer'!$A$67,IF(B59="Team Fuglset",'Tellere og summer'!$A$77,IF(B59="Istad Strikers",'Tellere og summer'!$A$87,IF(B59="Ytre Bowlinglag",'Tellere og summer'!$A$97,"NA")))))))))) -> 0 | E66: =SUM(B66:D66) -> 0 | G66: =IF(H59="Normo Slipestasjon",'Tellere og summer'!$A$7,IF(H59="Glamox",'Tellere og summer'!$A$17,IF(H59="Molde Kommune",'Tellere og summer'!$A$27,IF(H59="Rørlegger 1",'Tellere og summer'!$A$37,IF(H59="TietoEVRY",'Tellere og summer'!$A$47,IF(H59="Danielsen å i",'Tellere og summer'!$A$57,IF(H59="Panorama Turkeys",'Tellere og summer'!$A$67,IF(H59="Team Fuglset",'Tellere og summer'!$A$77,IF(H59="Istad Strikers",'Tellere og summer'!$A$87,IF(H59="Ytre Bowlinglag",'Tellere og summer'!$A$97,"NA")))))))))) -> 0 | K66: =SUM(H66:J66) -> 0 | M66: =IF(N59="Normo Slipestasjon",'Tellere og summer'!$A$7,IF(N59="Glamox",'Tellere og summer'!$A$17,IF(N59="Molde Kommune",'Tellere og summer'!$A$27,IF(N59="Rørlegger 1",'Tellere og summer'!$A$37,IF(N59="TietoEVRY",'Tellere og summer'!$A$47,IF(N59="Danielsen å i",'Tellere og summer'!$A$57,IF(N59="Panorama Turkeys",'Tellere og summer'!$A$67,IF(N59="Team Fuglset",'Tellere og summer'!$A$77,IF(N59="Istad Strikers",'Tellere og summer'!$A$87,IF(N59="Ytre Bowlinglag",'Tellere og summer'!$A$97,"NA")))))))))) -> Erik Hoel | Q66: =SUM(N66:P66) -> 0 | S66: =IF(T59="Normo Slipestasjon",'Tellere og summer'!$A$7,IF(T59="Glamox",'Tellere og summer'!$A$17,IF(T59="Molde Kommune",'Tellere og summer'!$A$27,IF(T59="Rørlegger 1",'Tellere og summer'!$A$37,IF(T59="TietoEVRY",'Tellere og summer'!$A$47,IF(T59="Danielsen å i",'Tellere og summer'!$A$57,IF(T59="Panorama Turkeys",'Tellere og summer'!$A$67,IF(T59="Team Fuglset",'Tellere og summer'!$A$77,IF(T59="Istad Strikers",'Tellere og summer'!$A$87,IF(T59="Ytre Bowlinglag",'Tellere og summer'!$A$97,"NA")))))))))) -> Pål Aslaksen | W66: =SUM(T66:V66) -> 0 | Y66: =IF(Z59="Normo Slipestasjon",'Tellere og summer'!$A$7,IF(Z59="Glamox",'Tellere og summer'!$A$17,IF(Z59="Molde Kommune",'Tellere og summer'!$A$27,IF(Z59="Rørlegger 1",'Tellere og summer'!$A$37,IF(Z59="TietoEVRY",'Tellere og summer'!$A$47,IF(Z59="Danielsen å i",'Tellere og summer'!$A$57,IF(Z59="Panorama Turkeys",'Tellere og summer'!$A$67,IF(Z59="Team Fuglset",'Tellere og summer'!$A$77,IF(Z59="Istad Strikers",'Tellere og summer'!$A$87,IF(Z59="Ytre Bowlinglag",'Tellere og summer'!$A$97,"NA")))))))))) -> Arnfinn Løntjern | AC66: =SUM(Z66:AB66) -> 0 | AE66: =IF(AF59="Normo Slipestasjon",'Tellere og summer'!$A$7,IF(AF59="Glamox",'Tellere og summer'!$A$17,IF(AF59="Molde Kommune",'Tellere og summer'!$A$27,IF(AF59="Rørlegger 1",'Tellere og summer'!$A$37,IF(AF59="TietoEVRY",'Tellere og summer'!$A$47,IF(AF59="Danielsen å i",'Tellere og summer'!$A$57,IF(AF59="Panorama Turkeys",'Tellere og summer'!$A$67,IF(AF59="Team Fuglset",'Tellere og summer'!$A$77,IF(AF59="Istad Strikers",'Tellere og summer'!$A$87,IF(AF59="Ytre Bowlinglag",'Tellere og summer'!$A$97,"NA")))))))))) -> Niklas Sevland | AF66: 155 | AG66: 137 | AH66: 156 | AI66: =SUM(AF66:AH66) -> 448 | AK66: =IF(AL59="Normo Slipestasjon",'Tellere og summer'!$A$7,IF(AL59="Glamox",'Tellere og summer'!$A$17,IF(AL59="Molde Kommune",'Tellere og summer'!$A$27,IF(AL59="Rørlegger 1",'Tellere og summer'!$A$37,IF(AL59="TietoEVRY",'Tellere og summer'!$A$47,IF(AL59="Danielsen å i",'Tellere og summer'!$A$57,IF(AL59="Panorama Turkeys",'Tellere og summer'!$A$67,IF(AL59="Team Fuglset",'Tellere og summer'!$A$77,IF(AL59="Istad Strikers",'Tellere og summer'!$A$87,IF(AL59="Ytre Bowlinglag",'Tellere og summer'!$A$97,"NA")))))))))) -> Mette Jane Holand | AO66: =SUM(AL66:AN66) -> 0 | AQ66: =IF(AR59="Normo Slipestasjon",'Tellere og summer'!$A$7,IF(AR59="Glamox",'Tellere og summer'!$A$17,IF(AR59="Molde Kommune",'Tellere og summer'!$A$27,IF(AR59="Rørlegger 1",'Tellere og summer'!$A$37,IF(AR59="TietoEVRY",'Tellere og summer'!$A$47,IF(AR59="Danielsen å i",'Tellere og summer'!$A$57,IF(AR59="Panorama Turkeys",'Tellere og summer'!$A$67,IF(AR59="Team Fuglset",'Tellere og summer'!$A$77,IF(AR59="Istad Strikers",'Tellere og summer'!$A$87,IF(AR59="Ytre Bowlinglag",'Tellere og summer'!$A$97,"NA")))))))))) -> Preben Solem | AR66: 143 | AS66: 144 | AT66: 165 | AU66: =SUM(AR66:AT66) -> 452 | AW66: =IF(AX59="Normo Slipestasjon",'Tellere og summer'!$A$7,IF(AX59="Glamox",'Tellere og summer'!$A$17,IF(AX59="Molde Kommune",'Tellere og summer'!$A$27,IF(AX59="Rørlegger 1",'Tellere og summer'!$A$37,IF(AX59="TietoEVRY",'Tellere og summer'!$A$47,IF(AX59="Danielsen å i",'Tellere og summer'!$A$57,IF(AX59="Panorama Turkeys",'Tellere og summer'!$A$67,IF(AX59="Team Fuglset",'Tellere og summer'!$A$77,IF(AX59="Istad Strikers",'Tellere og summer'!$A$87,IF(AX59="Ytre Bowlinglag",'Tellere og summer'!$A$97,"NA")))))))))) -> Steinar Småge | AX66: 137 | AY66: 162 | AZ66: 121 | BA66: =SUM(AX66:AZ66) -> 420 | BC66: =IF(BD59="Normo Slipestasjon",'Tellere og summer'!$A$7,IF(BD59="Glamox",'Tellere og summer'!$A$17,IF(BD59="Molde Kommune",'Tellere og summer'!$A$27,IF(BD59="Rørlegger 1",'Tellere og summer'!$A$37,IF(BD59="TietoEVRY",'Tellere og summer'!$A$47,IF(BD59="Danielsen å i",'Tellere og summer'!$A$57,IF(BD59="Panorama Turkeys",'Tellere og summer'!$A$67,IF(BD59="Team Fuglset",'Tellere og summer'!$A$77,IF(BD59="Istad Strikers",'Tellere og summer'!$A$87,IF(BD59="Ytre Bowlinglag",'Tellere og summer'!$A$97,"NA")))))))))) -> Frode Lothe | BG66: =SUM(BD66:BF66) -> 0
A67: =IF(B59="Normo Slipestasjon",'Tellere og summer'!$A$8,IF(B59="Glamox",'Tellere og summer'!$A$18,IF(B59="Molde Kommune",'Tellere og summer'!$A$28,IF(B59="Rørlegger 1",'Tellere og summer'!$A$38,IF(B59="TietoEVRY",'Tellere og summer'!$A$48,IF(B59="Danielsen å i",'Tellere og summer'!$A$58,IF(B59="Panorama Turkeys",'Tellere og summer'!$A$68,IF(B59="Team Fuglset",'Tellere og summer'!$A$78,IF(B59="Istad Strikers",'Tellere og summer'!$A$88,IF(B59="Ytre Bowlinglag",'Tellere og summer'!$A$98,"NA")))))))))) -> 0 | E67: =SUM(B67:D67) -> 0 | G67: =IF(H59="Normo Slipestasjon",'Tellere og summer'!$A$8,IF(H59="Glamox",'Tellere og summer'!$A$18,IF(H59="Molde Kommune",'Tellere og summer'!$A$28,IF(H59="Rørlegger 1",'Tellere og summer'!$A$38,IF(H59="TietoEVRY",'Tellere og summer'!$A$48,IF(H59="Danielsen å i",'Tellere og summer'!$A$58,IF(H59="Panorama Turkeys",'Tellere og summer'!$A$68,IF(H59="Team Fuglset",'Tellere og summer'!$A$78,IF(H59="Istad Strikers",'Tellere og summer'!$A$88,IF(H59="Ytre Bowlinglag",'Tellere og summer'!$A$98,"NA")))))))))) -> 0 | K67: =SUM(H67:J67) -> 0 | M67: =IF(N59="Normo Slipestasjon",'Tellere og summer'!$A$8,IF(N59="Glamox",'Tellere og summer'!$A$18,IF(N59="Molde Kommune",'Tellere og summer'!$A$28,IF(N59="Rørlegger 1",'Tellere og summer'!$A$38,IF(N59="TietoEVRY",'Tellere og summer'!$A$48,IF(N59="Danielsen å i",'Tellere og summer'!$A$58,IF(N59="Panorama Turkeys",'Tellere og summer'!$A$68,IF(N59="Team Fuglset",'Tellere og summer'!$A$78,IF(N59="Istad Strikers",'Tellere og summer'!$A$88,IF(N59="Ytre Bowlinglag",'Tellere og summer'!$A$98,"NA")))))))))) -> 0 | Q67: =SUM(N67:P67) -> 0 | S67: =IF(T59="Normo Slipestasjon",'Tellere og summer'!$A$8,IF(T59="Glamox",'Tellere og summer'!$A$18,IF(T59="Molde Kommune",'Tellere og summer'!$A$28,IF(T59="Rørlegger 1",'Tellere og summer'!$A$38,IF(T59="TietoEVRY",'Tellere og summer'!$A$48,IF(T59="Danielsen å i",'Tellere og summer'!$A$58,IF(T59="Panorama Turkeys",'Tellere og summer'!$A$68,IF(T59="Team Fuglset",'Tellere og summer'!$A$78,IF(T59="Istad Strikers",'Tellere og summer'!$A$88,IF(T59="Ytre Bowlinglag",'Tellere og summer'!$A$98,"NA")))))))))) -> Stian Teistholmen | W67: =SUM(T67:V67) -> 0 | Y67: =IF(Z59="Normo Slipestasjon",'Tellere og summer'!$A$8,IF(Z59="Glamox",'Tellere og summer'!$A$18,IF(Z59="Molde Kommune",'Tellere og summer'!$A$28,IF(Z59="Rørlegger 1",'Tellere og summer'!$A$38,IF(Z59="TietoEVRY",'Tellere og summer'!$A$48,IF(Z59="Danielsen å i",'Tellere og summer'!$A$58,IF(Z59="Panorama Turkeys",'Tellere og summer'!$A$68,IF(Z59="Team Fuglset",'Tellere og summer'!$A$78,IF(Z59="Istad Strikers",'Tellere og summer'!$A$88,IF(Z59="Ytre Bowlinglag",'Tellere og summer'!$A$98,"NA")))))))))) -> Kjetil Oterholm | AC67: =SUM(Z67:AB67) -> 0 | AE67: =IF(AF59="Normo Slipestasjon",'Tellere og summer'!$A$8,IF(AF59="Glamox",'Tellere og summer'!$A$18,IF(AF59="Molde Kommune",'Tellere og summer'!$A$28,IF(AF59="Rørlegger 1",'Tellere og summer'!$A$38,IF(AF59="TietoEVRY",'Tellere og summer'!$A$48,IF(AF59="Danielsen å i",'Tellere og summer'!$A$58,IF(AF59="Panorama Turkeys",'Tellere og summer'!$A$68,IF(AF59="Team Fuglset",'Tellere og summer'!$A$78,IF(AF59="Istad Strikers",'Tellere og summer'!$A$88,IF(AF59="Ytre Bowlinglag",'Tellere og summer'!$A$98,"NA")))))))))) -> Morten Strøm | AI67: =SUM(AF67:AH67) -> 0 | AK67: =IF(AL59="Normo Slipestasjon",'Tellere og summer'!$A$8,IF(AL59="Glamox",'Tellere og summer'!$A$18,IF(AL59="Molde Kommune",'Tellere og summer'!$A$28,IF(AL59="Rørlegger 1",'Tellere og summer'!$A$38,IF(AL59="TietoEVRY",'Tellere og summer'!$A$48,IF(AL59="Danielsen å i",'Tellere og summer'!$A$58,IF(AL59="Panorama Turkeys",'Tellere og summer'!$A$68,IF(AL59="Team Fuglset",'Tellere og summer'!$A$78,IF(AL59="Istad Strikers",'Tellere og summer'!$A$88,IF(AL59="Ytre Bowlinglag",'Tellere og summer'!$A$98,"NA")))))))))) -> 0 | AO67: =SUM(AL67:AN67) -> 0 | AQ67: =IF(AR59="Normo Slipestasjon",'Tellere og summer'!$A$8,IF(AR59="Glamox",'Tellere og summer'!$A$18,IF(AR59="Molde Kommune",'Tellere og summer'!$A$28,IF(AR59="Rørlegger 1",'Tellere og summer'!$A$38,IF(AR59="TietoEVRY",'Tellere og summer'!$A$48,IF(AR59="Danielsen å i",'Tellere og summer'!$A$58,IF(AR59="Panorama Turkeys",'Tellere og summer'!$A$68,IF(AR59="Team Fuglset",'Tellere og summer'!$A$78,IF(AR59="Istad Strikers",'Tellere og summer'!$A$88,IF(AR59="Ytre Bowlinglag",'Tellere og summer'!$A$98,"NA")))))))))) -> Bjørn Einar Myklebust | AR67: 142 | AS67: 185 | AT67: 123 | AU67: =SUM(AR67:AT67) -> 450 | AW67: =IF(AX59="Normo Slipestasjon",'Tellere og summer'!$A$8,IF(AX59="Glamox",'Tellere og summer'!$A$18,IF(AX59="Molde Kommune",'Tellere og summer'!$A$28,IF(AX59="Rørlegger 1",'Tellere og summer'!$A$38,IF(AX59="TietoEVRY",'Tellere og summer'!$A$48,IF(AX59="Danielsen å i",'Tellere og summer'!$A$58,IF(AX59="Panorama Turkeys",'Tellere og summer'!$A$68,IF(AX59="Team Fuglset",'Tellere og summer'!$A$78,IF(AX59="Istad Strikers",'Tellere og summer'!$A$88,IF(AX59="Ytre Bowlinglag",'Tellere og summer'!$A$98,"NA")))))))))) -> 0 | BA67: =SUM(AX67:AZ67) -> 0 | BC67: =IF(BD59="Normo Slipestasjon",'Tellere og summer'!$A$8,IF(BD59="Glamox",'Tellere og summer'!$A$18,IF(BD59="Molde Kommune",'Tellere og summer'!$A$28,IF(BD59="Rørlegger 1",'Tellere og summer'!$A$38,IF(BD59="TietoEVRY",'Tellere og summer'!$A$48,IF(BD59="Danielsen å i",'Tellere og summer'!$A$58,IF(BD59="Panorama Turkeys",'Tellere og summer'!$A$68,IF(BD59="Team Fuglset",'Tellere og summer'!$A$78,IF(BD59="Istad Strikers",'Tellere og summer'!$A$88,IF(BD59="Ytre Bowlinglag",'Tellere og summer'!$A$98,"NA")))))))))) -> Tonje og Joakim Risnes | BG67: =SUM(BD67:BF67) -> 0
A68: =IF(B59="Normo Slipestasjon",'Tellere og summer'!$A$9,IF(B59="Glamox",'Tellere og summer'!$A$19,IF(B59="Molde Kommune",'Tellere og summer'!$A$29,IF(B59="Rørlegger 1",'Tellere og summer'!$A$39,IF(B59="TietoEVRY",'Tellere og summer'!$A$49,IF(B59="Danielsen å i",'Tellere og summer'!$A$59,IF(B59="Panorama Turkeys",'Tellere og summer'!$A$69,IF(B59="Team Fuglset",'Tellere og summer'!$A$79,IF(B59="Istad Strikers",'Tellere og summer'!$A$89,IF(B59="Ytre Bowlinglag",'Tellere og summer'!$A$99,"NA")))))))))) -> 0 | E68: =SUM(B68:D68) -> 0 | G68: =IF(H59="Normo Slipestasjon",'Tellere og summer'!$A$9,IF(H59="Glamox",'Tellere og summer'!$A$19,IF(H59="Molde Kommune",'Tellere og summer'!$A$29,IF(H59="Rørlegger 1",'Tellere og summer'!$A$39,IF(H59="TietoEVRY",'Tellere og summer'!$A$49,IF(H59="Danielsen å i",'Tellere og summer'!$A$59,IF(H59="Panorama Turkeys",'Tellere og summer'!$A$69,IF(H59="Team Fuglset",'Tellere og summer'!$A$79,IF(H59="Istad Strikers",'Tellere og summer'!$A$89,IF(H59="Ytre Bowlinglag",'Tellere og summer'!$A$99,"NA")))))))))) -> 0 | K68: =SUM(H68:J68) -> 0 | M68: =IF(N59="Normo Slipestasjon",'Tellere og summer'!$A$9,IF(N59="Glamox",'Tellere og summer'!$A$19,IF(N59="Molde Kommune",'Tellere og summer'!$A$29,IF(N59="Rørlegger 1",'Tellere og summer'!$A$39,IF(N59="TietoEVRY",'Tellere og summer'!$A$49,IF(N59="Danielsen å i",'Tellere og summer'!$A$59,IF(N59="Panorama Turkeys",'Tellere og summer'!$A$69,IF(N59="Team Fuglset",'Tellere og summer'!$A$79,IF(N59="Istad Strikers",'Tellere og summer'!$A$89,IF(N59="Ytre Bowlinglag",'Tellere og summer'!$A$99,"NA")))))))))) -> 0 | Q68: =SUM(N68:P68) -> 0 | S68: =IF(T59="Normo Slipestasjon",'Tellere og summer'!$A$9,IF(T59="Glamox",'Tellere og summer'!$A$19,IF(T59="Molde Kommune",'Tellere og summer'!$A$29,IF(T59="Rørlegger 1",'Tellere og summer'!$A$39,IF(T59="TietoEVRY",'Tellere og summer'!$A$49,IF(T59="Danielsen å i",'Tellere og summer'!$A$59,IF(T59="Panorama Turkeys",'Tellere og summer'!$A$69,IF(T59="Team Fuglset",'Tellere og summer'!$A$79,IF(T59="Istad Strikers",'Tellere og summer'!$A$89,IF(T59="Ytre Bowlinglag",'Tellere og summer'!$A$99,"NA")))))))))) -> For mange spillere | W68: =SUM(T68:V68) -> 0 | Y68: =IF(Z59="Normo Slipestasjon",'Tellere og summer'!$A$9,IF(Z59="Glamox",'Tellere og summer'!$A$19,IF(Z59="Molde Kommune",'Tellere og summer'!$A$29,IF(Z59="Rørlegger 1",'Tellere og summer'!$A$39,IF(Z59="TietoEVRY",'Tellere og summer'!$A$49,IF(Z59="Danielsen å i",'Tellere og summer'!$A$59,IF(Z59="Panorama Turkeys",'Tellere og summer'!$A$69,IF(Z59="Team Fuglset",'Tellere og summer'!$A$79,IF(Z59="Istad Strikers",'Tellere og summer'!$A$89,IF(Z59="Ytre Bowlinglag",'Tellere og summer'!$A$99,"NA")))))))))) -> Mohammed Abdalgoder | AC68: =SUM(Z68:AB68) -> 0 | AE68: =IF(AF59="Normo Slipestasjon",'Tellere og summer'!$A$9,IF(AF59="Glamox",'Tellere og summer'!$A$19,IF(AF59="Molde Kommune",'Tellere og summer'!$A$29,IF(AF59="Rørlegger 1",'Tellere og summer'!$A$39,IF(AF59="TietoEVRY",'Tellere og summer'!$A$49,IF(AF59="Danielsen å i",'Tellere og summer'!$A$59,IF(AF59="Panorama Turkeys",'Tellere og summer'!$A$69,IF(AF59="Team Fuglset",'Tellere og summer'!$A$79,IF(AF59="Istad Strikers",'Tellere og summer'!$A$89,IF(AF59="Ytre Bowlinglag",'Tellere og summer'!$A$99,"NA")))))))))) -> Simen K. Roaldsøy | AI68: =SUM(AF68:AH68) -> 0 | AK68: =IF(AL59="Normo Slipestasjon",'Tellere og summer'!$A$9,IF(AL59="Glamox",'Tellere og summer'!$A$19,IF(AL59="Molde Kommune",'Tellere og summer'!$A$29,IF(AL59="Rørlegger 1",'Tellere og summer'!$A$39,IF(AL59="TietoEVRY",'Tellere og summer'!$A$49,IF(AL59="Danielsen å i",'Tellere og summer'!$A$59,IF(AL59="Panorama Turkeys",'Tellere og summer'!$A$69,IF(AL59="Team Fuglset",'Tellere og summer'!$A$79,IF(AL59="Istad Strikers",'Tellere og summer'!$A$89,IF(AL59="Ytre Bowlinglag",'Tellere og summer'!$A$99,"NA")))))))))) -> 0 | AO68: =SUM(AL68:AN68) -> 0 | AQ68: =IF(AR59="Normo Slipestasjon",'Tellere og summer'!$A$9,IF(AR59="Glamox",'Tellere og summer'!$A$19,IF(AR59="Molde Kommune",'Tellere og summer'!$A$29,IF(AR59="Rørlegger 1",'Tellere og summer'!$A$39,IF(AR59="TietoEVRY",'Tellere og summer'!$A$49,IF(AR59="Danielsen å i",'Tellere og summer'!$A$59,IF(AR59="Panorama Turkeys",'Tellere og summer'!$A$69,IF(AR59="Team Fuglset",'Tellere og summer'!$A$79,IF(AR59="Istad Strikers",'Tellere og summer'!$A$89,IF(AR59="Ytre Bowlinglag",'Tellere og summer'!$A$99,"NA")))))))))) -> 0 | AU68: =SUM(AR68:AT68) -> 0 | AW68: =IF(AX59="Normo Slipestasjon",'Tellere og summer'!$A$9,IF(AX59="Glamox",'Tellere og summer'!$A$19,IF(AX59="Molde Kommune",'Tellere og summer'!$A$29,IF(AX59="Rørlegger 1",'Tellere og summer'!$A$39,IF(AX59="TietoEVRY",'Tellere og summer'!$A$49,IF(AX59="Danielsen å i",'Tellere og summer'!$A$59,IF(AX59="Panorama Turkeys",'Tellere og summer'!$A$69,IF(AX59="Team Fuglset",'Tellere og summer'!$A$79,IF(AX59="Istad Strikers",'Tellere og summer'!$A$89,IF(AX59="Ytre Bowlinglag",'Tellere og summer'!$A$99,"NA")))))))))) -> 0 | BA68: =SUM(AX68:AZ68) -> 0 | BC68: =IF(BD59="Normo Slipestasjon",'Tellere og summer'!$A$9,IF(BD59="Glamox",'Tellere og summer'!$A$19,IF(BD59="Molde Kommune",'Tellere og summer'!$A$29,IF(BD59="Rørlegger 1",'Tellere og summer'!$A$39,IF(BD59="TietoEVRY",'Tellere og summer'!$A$49,IF(BD59="Danielsen å i",'Tellere og summer'!$A$59,IF(BD59="Panorama Turkeys",'Tellere og summer'!$A$69,IF(BD59="Team Fuglset",'Tellere og summer'!$A$79,IF(BD59="Istad Strikers",'Tellere og summer'!$A$89,IF(BD59="Ytre Bowlinglag",'Tellere og summer'!$A$99,"NA")))))))))) -> Cato Holen og Mats Larsen | BG68: =SUM(BD68:BF68) -> 0
A69: HCP | B69: =HCP!B2 -> 114 | C69: =HCP!B2 -> 114 | D69: =HCP!B2 -> 114 | E69: =SUM(B69:D69) -> 342 | G69: HCP | H69: =HCP!$B$12 -> 18 | I69: =HCP!$B$12 -> 18 | J69: =HCP!$B$12 -> 18 | K69: =SUM(H69:J69) -> 54 | M69: HCP | N69: 0 | O69: 0 | P69: 0 | Q69: =SUM(N69:P69) -> 0 | S69: HCP | T69: =HCP!$B$8 -> 93 | U69: =HCP!$B$8 -> 93 | V69: =HCP!$B$8 -> 93 | W69: =SUM(T69:V69) -> 279 | Y69: HCP | Z69: =HCP!$B$10 -> 96 | AA69: =HCP!$B$10 -> 96 | AB69: =HCP!$B$10 -> 96 | AC69: =SUM(Z69:AB69) -> 288 | AE69: HCP | AF69: =HCP!$B$14 -> 60 | AG69: =HCP!$B$14 -> 60 | AH69: =HCP!$B$14 -> 60 | AI69: =SUM(AF69:AH69) -> 180 | AK69: HCP | AL69: =HCP!$B$6 -> 96 | AM69: =HCP!$B$6 -> 96 | AN69: =HCP!$B$6 -> 96 | AO69: =SUM(AL69:AN69) -> 288 | AQ69: HCP | AR69: =HCP!$B$16 -> 54 | AS69: =HCP!$B$16 -> 54 | AT69: =HCP!$B$16 -> 54 | AU69: =SUM(AR69:AT69) -> 162 | AW69: HCP | AX69: =HCP!$B$20 -> 66 | AY69: =HCP!$B$20 -> 66 | AZ69: =HCP!$B$20 -> 66 | BA69: =SUM(AX69:AZ69) -> 198 | BC69: HCP | BD69: =HCP!$B$18 -> 120 | BE69: =HCP!$B$18 -> 120 | BF69: =HCP!$B$18 -> 120 | BG69: =SUM(BD69:BF69) -> 360
A70: Sum | B70: =SUM(B62:B69) -> 459 | C70: =SUM(C62:C69) -> 523 | D70: =SUM(D62:D69) -> 558 | E70: =SUM(B70:D70) -> 1540 | H70: =SUM(H62:H69) -> 536 | I70: =SUM(I62:I69) -> 559 | J70: =SUM(J62:J69) -> 564 | K70: =SUM(H70:J70) -> 1659 | N70: =SUM(N62:N69) -> 537 | O70: =SUM(O62:O69) -> 671 | P70: =SUM(P62:P69) -> 638 | Q70: =SUM(N70:P70) -> 1846 | T70: =SUM(T62:T69) -> 468 | U70: =SUM(U62:U69) -> 453 | V70: =SUM(V62:V69) -> 536 | W70: =SUM(T70:V70) -> 1457 | Z70: =SUM(Z62:Z69) -> 96 | AA70: =SUM(AA62:AA69) -> 96 | AB70: =SUM(AB62:AB69) -> 96 | AC70: =SUM(Z70:AB70) -> 288 | AF70: =SUM(AF62:AF69) -> 562 | AG70: =SUM(AG62:AG69) -> 414 | AH70: =SUM(AH62:AH69) -> 512 | AI70: =SUM(AF70:AH70) -> 1488 | AL70: =SUM(AL62:AL69) -> 538 | AM70: =SUM(AM62:AM69) -> 589 | AN70: =SUM(AN62:AN69) -> 545 | AO70: =SUM(AL70:AN70) -> 1672 | AR70: =SUM(AR62:AR69) -> 481 | AS70: =SUM(AS62:AS69) -> 568 | AT70: =SUM(AT62:AT69) -> 465 | AU70: =SUM(AR70:AT70) -> 1514 | AX70: =SUM(AX62:AX69) -> 482 | AY70: =SUM(AY62:AY69) -> 569 | AZ70: =SUM(AZ62:AZ69) -> 487 | BA70: =SUM(AX70:AZ70) -> 1538 | BD70: =SUM(BD62:BD69) -> 477 | BE70: =SUM(BE62:BE69) -> 478 | BF70: =SUM(BF62:BF69) -> 495 | BG70: =SUM(BD70:BF70) -> 1450
A71: Poeng | B71: =IF(E70-E69=0,"0",IF(B70>H70,1,IF(B70=H70,"0,5",0))) -> 0 | C71: =IF(E70-E69=0,"0",IF(C70>I70,1,IF(C70=I70,"0,5",0))) -> 0 | D71: =IF(E70-E69=0,"0",IF(D70>J70,1,IF(D70=J70,"0,5",0))) -> 0 | E71: =IF(E70-E69=0,"0",IF(E70>K70,1,IF(E70=K70,"0,5",0))) -> 0 | H71: =IF(K70-K69=0,"0",IF(H70>B70,1,IF(H70=B70,"0,5",0))) -> 1 | I71: =IF(K70-K69=0,"0",IF(I70>C70,1,IF(I70=C70,"0,5",0))) -> 1 | J71: =IF(K70-K69=0,"0",IF(J70>D70,1,IF(J70=D70,"0,5",0))) -> 1 | K71: =IF(K70-K69=0,"0",IF(K70>E70,1,IF(K70=E70,"0,5",0))) -> 1 | N71: =IF(Q70-Q69=0,"0",IF(N70>T70,1,IF(N70=T70,"0,5",0))) -> 1 | O71: =IF(Q70-Q69=0,"0",IF(O70>U70,1,IF(O70=U70,"0,5",0))) -> 1 | P71: =IF(Q70-Q69=0,"0",IF(P70>V70,1,IF(P70=V70,"0,5",0))) -> 1 | Q71: =IF(Q70-Q69=0,"0",IF(Q70>W70,1,IF(Q70=W70,"0,5",0))) -> 1 | T71: =IF(W70-W69=0,"0",IF(T70>N70,1,IF(T70=N70,"0,5",0))) -> 0 | U71: =IF(W70-W69=0,"0",IF(U70>O70,1,IF(U70=O70,"0,5",0))) -> 0 | V71: =IF(W70-W69=0,"0",IF(V70>P70,1,IF(V70=P70,"0,5",0))) -> 0 | W71: =IF(W70-W69=0,"0",IF(W70>Q70,1,IF(W70=Q70,"0,5",0))) -> 0 | Z71: =IF(AC70-AC69=0,"0",IF(Z70>AF70,1,IF(Z70=AF70,"0,5",0))) -> 0 | AA71: =IF(AC70-AC69=0,"0",IF(AA70>AG70,1,IF(AA70=AG70,"0,5",0))) -> 0 | AB71: =IF(AC70-AC69=0,"0",IF(AB70>AH70,1,IF(AB70=AH70,"0,5",0))) -> 0 | AC71: =IF(AC70-AC69=0,"0",IF(AC70>AI70,1,IF(AC70=AI70,"0,5",0))) -> 0 | AF71: =IF(AI70-AI69=0,"0",IF(AF70>Z70,1,IF(AF70=Z70,"0,5",0))) -> 1 | AG71: =IF(AI70-AI69=0,"0",IF(AG70>AA70,1,IF(AG70=AA70,"0,5",0))) -> 1 | AH71: =IF(AI70-AI69=0,"0",IF(AH70>AB70,1,IF(AH70=AB70,"0,5",0))) -> 1 | AI71: =IF(AI70-AI69=0,"0",IF(AI70>AC70,1,IF(AI70=AC70,"0,5",0))) -> 1 | AL71: =IF(AO70-AO69=0,"0",IF(AL70>AR70,1,IF(AL70=AR70,"0,5",0))) -> 1 | AM71: =IF(AO70-AO69=0,"0",IF(AM70>AS70,1,IF(AM70=AS70,"0,5",0))) -> 1 | AN71: =IF(AO70-AO69=0,"0",IF(AN70>AT70,1,IF(AN70=AT70,"0,5",0))) -> 1 | AO71: =IF(AO70-AO69=0,"0",IF(AO70>AU70,1,IF(AO70=AU70,"0,5",0))) -> 1 | AR71: =IF(AU70-AU69=0,"0",IF(AR70>AL70,1,IF(AR70=AL70,"0,5",0))) -> 0 | AS71: =IF(AU70-AU69=0,"0",IF(AS70>AM70,1,IF(AS70=AM70,"0,5",0))) -> 0 | AT71: =IF(AU70-AU69=0,"0",IF(AT70>AN70,1,IF(AT70=AN70,"0,5",0))) -> 0 | AU71: =IF(AU70-AU69=0,"0",IF(AU70>AO70,1,IF(AU70=AO70,"0,5",0))) -> 0 | AX71: =IF(BA70-BA69=0,"0",IF(AX70>BD70,1,IF(AX70=BD70,"0,5",0))) -> 1 | AY71: =IF(BA70-BA69=0,"0",IF(AY70>BE70,1,IF(AY70=BE70,"0,5",0))) -> 1 | AZ71: =IF(BA70-BA69=0,"0",IF(AZ70>BF70,1,IF(AZ70=BF70,"0,5",0))) -> 0 | BA71: =IF(BA70-BA69=0,"0",IF(BA70>BG70,1,IF(BA70=BG70,"0,5",0))) -> 1 | BD71: =IF(BG70-BG69=0,"0",IF(BD70>AX70,1,IF(BD70=AX70,"0,5",0))) -> 0 | BE71: =IF(BG70-BG69=0,"0",IF(BE70>AY70,1,IF(BE70=AY70,"0,5",0))) -> 0 | BF71: =IF(BG70-BG69=0,"0",IF(BF70>AZ70,1,IF(BF70=AZ70,"0,5",0))) -> 1 | BG71: =IF(BG70-BG69=0,"0",IF(BG70>BA70,1,IF(BG70=BA70,"0,5",0))) -> 0
D72: Poeng: | E72: =B71+C71+D71+E71 -> 0 | J72: Poeng: | K72: =H71+I71+J71+K71 -> 4 | P72: Poeng: | Q72: =N71+O71+P71+Q71 -> 4 | V72: Poeng: | W72: =T71+U71+V71+W71 -> 0 | AB72: Poeng: | AC72: =Z71+AA71+AB71+AC71 -> 0 | AH72: Poeng: | AI72: =AF71+AG71+AH71+AI71 -> 4 | AN72: Poeng: | AO72: =AL71+AM71+AN71+AO71 -> 4 | AT72: Poeng: | AU72: =SUM(AR71:AU71) -> 0 | AZ72: Poeng: | BA72: =AX71+AY71+AZ71+BA71 -> 3 | BF72: Poeng: | BG72: =BD71+BE71+BF71+BG71 -> 1
D73: Status | E73: =IF(E70-E69=0,"IS",IF(E72>K72,"S",IF(E72<K72,"T",IF(E72=K72,"U","0")))) -> T | J73: Status | K73: =IF(K70-K69=0,"IS",IF(K72>E72,"S",IF(K72<E72,"T",IF(K72=E72,"U","0")))) -> S | P73: Status | Q73: =IF(Q70-Q69=0,"IS",IF(Q72>W72,"S",IF(Q72<W72,"T",IF(Q72=W72,"U","0")))) -> S | V73: Status | W73: =IF(W70-W69=0,"IS",IF(W72>Q72,"S",IF(W72<Q72,"T",IF(W72=Q72,"U","0")))) -> T | AB73: Status | AC73: =IF(AC70-AC69=0,"IS",IF(AC72>AI72,"S",IF(AC72<AI72,"T",IF(AC72=AI72,"U","0")))) -> IS | AH73: Status | AI73: =IF(AI70-AI69=0,"IS",IF(AI72>AC72,"S",IF(AI72<AC72,"T",IF(AI72=AC72,"U","0")))) -> S | AN73: Status | AO73: =IF(AO70-AO69=0,"IS",IF(AO72>AU72,"S",IF(AO72<AU72,"T",IF(AO72=AU72,"U","0")))) -> S | AT73: Status | AU73: =IF(AU70-AU69=0,"IS",IF(AU72>AO72,"S",IF(AU72<AO72,"T",IF(AU72=AO72,"U","0")))) -> T | AZ73: Status | BA73: =IF(BA70-BA69=0,"IS",IF(BA72>BG72,"S",IF(BA72<BG72,"T",IF(BA72=BG72,"U","0")))) -> S | BF73: Status | BG73: =IF(BG70-BG69=0,"IS",IF(BG72>BA72,"S",IF(BG72<BA72,"T",IF(BG72=BA72,"U","0")))) -> T
A75: Runde 5
A76: Kamp 21 | M76: Kamp 22 | Y76: Kamp 23 | AK76: Kamp 24 | AW76: Kamp 25
A77: Hjemmelag: | B77: Normo Slipestasjon | G77: Bortelag: | H77: Rørlegger 1 | M77: Hjemmelag: | N77: Glamox | S77: Bortelag: | T77: Panorama Turkeys | Y77: Hjemmelag: | Z77: TietoEVRY | AE77: Bortelag: | AF77: Team Fuglset | AK77: Hjemmelag: | AL77: Molde Kommune | AQ77: Bortelag: | AR77: Ytre Bowlinglag | AW77: Hjemmelag: | AX77: Danielsen å I | BC77: Bortelag: | BD77: Istad Strikers
A79: Navn på spiller | B79: Omgang 1 | C79: Omgang 2 | D79: Omgang 3 | E79: Sum | G79: Navn på spiller | H79: Omgang 1 | I79: Omgang 2 | J79: Omgang 3 | K79: Sum | M79: Navn på spiller | N79: Omgang 1 | O79: Omgang 2 | P79: Omgang 3 | Q79: Sum | S79: Navn på spiller | T79: Omgang 1 | U79: Omgang 2 | V79: Omgang 3 | W79: Sum | Y79: Navn på spiller | Z79: Omgang 1 | AA79: Omgang 2 | AB79: Omgang 3 | AC79: Sum | AE79: Navn på spiller | AF79: Omgang 1 | AG79: Omgang 2 | AH79: Omgang 3 | AI79: Sum | AK79: Navn på spiller | AL79: Omgang 1 | AM79: Omgang 2 | AN79: Omgang 3 | AO79: Sum | AQ79: Navn på spiller | AR79: Omgang 1 | AS79: Omgang 2 | AT79: Omgang 3 | AU79: Sum | AW79: Navn på spiller | AX79: Omgang 1 | AY79: Omgang 2 | AZ79: Omgang 3 | BA79: Sum | BC79: Navn på spiller | BD79: Omgang 1 | BE79: Omgang 2 | BF79: Omgang 3 | BG79: Sum
A80: =IF(B77="Normo Slipestasjon",'Tellere og summer'!$A$3,IF(B77="Glamox",'Tellere og summer'!$A$13,IF(B77="Molde Kommune",'Tellere og summer'!$A$23,IF(B77="Rørlegger 1",'Tellere og summer'!$A$33,IF(B77="TietoEVRY",'Tellere og summer'!$A$43,IF(B77="Danielsen å i",'Tellere og summer'!$A$53,IF(B77="Panorama Turkeys",'Tellere og summer'!$A$63,IF(B77="Team Fuglset",'Tellere og summer'!$A$73,IF(B77="Istad Strikers",'Tellere og summer'!$A$83,IF(B77="Ytre Bowlinglag",'Tellere og summer'!$A$93,"NA")))))))))) -> Asbjørn Toft | B80: 168 | C80: 131 | D80: 165 | E80: =SUM(B80:D80) -> 464 | G80: =IF(H77="Normo Slipestasjon",'Tellere og summer'!$A$3,IF(H77="Glamox",'Tellere og summer'!$A$13,IF(H77="Molde Kommune",'Tellere og summer'!$A$23,IF(H77="Rørlegger 1",'Tellere og summer'!$A$33,IF(H77="TietoEVRY",'Tellere og summer'!$A$43,IF(H77="Danielsen å i",'Tellere og summer'!$A$53,IF(H77="Panorama Turkeys",'Tellere og summer'!$A$63,IF(H77="Team Fuglset",'Tellere og summer'!$A$73,IF(H77="Istad Strikers",'Tellere og summer'!$A$83,IF(H77="Ytre Bowlinglag",'Tellere og summer'!$A$93,"NA")))))))))) -> Arnfinn Lange | H80: 140 | I80: 134 | J80: 162 | K80: =SUM(H80:J80) -> 436 | M80: =IF(N77="Normo Slipestasjon",'Tellere og summer'!$A$3,IF(N77="Glamox",'Tellere og summer'!$A$13,IF(N77="Molde Kommune",'Tellere og summer'!$A$23,IF(N77="Rørlegger 1",'Tellere og summer'!$A$33,IF(N77="TietoEVRY",'Tellere og summer'!$A$43,IF(N77="Danielsen å i",'Tellere og summer'!$A$53,IF(N77="Panorama Turkeys",'Tellere og summer'!$A$63,IF(N77="Team Fuglset",'Tellere og summer'!$A$73,IF(N77="Istad Strikers",'Tellere og summer'!$A$83,IF(N77="Ytre Bowlinglag",'Tellere og summer'!$A$93,"NA")))))))))) -> Paul Boyle | N80: 164 | O80: 181 | P80: 172 | Q80: =SUM(N80:P80) -> 517 | S80: =IF(T77="Normo Slipestasjon",'Tellere og summer'!$A$3,IF(T77="Glamox",'Tellere og summer'!$A$13,IF(T77="Molde Kommune",'Tellere og summer'!$A$23,IF(T77="Rørlegger 1",'Tellere og summer'!$A$33,IF(T77="TietoEVRY",'Tellere og summer'!$A$43,IF(T77="Danielsen å i",'Tellere og summer'!$A$53,IF(T77="Panorama Turkeys",'Tellere og summer'!$A$63,IF(T77="Team Fuglset",'Tellere og summer'!$A$73,IF(T77="Istad Strikers",'Tellere og summer'!$A$83,IF(T77="Ytre Bowlinglag",'Tellere og summer'!$A$93,"NA")))))))))) -> Martin Aarø | T80: 234 | U80: 225 | V80: 162 | W80: =SUM(T80:V80) -> 621 | Y80: =IF(Z77="Normo Slipestasjon",'Tellere og summer'!$A$3,IF(Z77="Glamox",'Tellere og summer'!$A$13,IF(Z77="Molde Kommune",'Tellere og summer'!$A$23,IF(Z77="Rørlegger 1",'Tellere og summer'!$A$33,IF(Z77="TietoEVRY",'Tellere og summer'!$A$43,IF(Z77="Danielsen å i",'Tellere og summer'!$A$53,IF(Z77="Panorama Turkeys",'Tellere og summer'!$A$63,IF(Z77="Team Fuglset",'Tellere og summer'!$A$73,IF(Z77="Istad Strikers",'Tellere og summer'!$A$83,IF(Z77="Ytre Bowlinglag",'Tellere og summer'!$A$93,"NA")))))))))) -> Svein Erik Jenset | AC80: =SUM(Z80:AB80) -> 0 | AE80: =IF(AF77="Normo Slipestasjon",'Tellere og summer'!$A$3,IF(AF77="Glamox",'Tellere og summer'!$A$13,IF(AF77="Molde Kommune",'Tellere og summer'!$A$23,IF(AF77="Rørlegger 1",'Tellere og summer'!$A$33,IF(AF77="TietoEVRY",'Tellere og summer'!$A$43,IF(AF77="Danielsen å i",'Tellere og summer'!$A$53,IF(AF77="Panorama Turkeys",'Tellere og summer'!$A$63,IF(AF77="Team Fuglset",'Tellere og summer'!$A$73,IF(AF77="Istad Strikers",'Tellere og summer'!$A$83,IF(AF77="Ytre Bowlinglag",'Tellere og summer'!$A$93,"NA")))))))))) -> Sten-Morten Kjørsvik | AF80: 183 | AG80: 167 | AH80: 172 | AI80: =SUM(AF80:AH80) -> 522 | AK80: =IF(AL77="Normo Slipestasjon",'Tellere og summer'!$A$3,IF(AL77="Glamox",'Tellere og summer'!$A$13,IF(AL77="Molde Kommune",'Tellere og summer'!$A$23,IF(AL77="Rørlegger 1",'Tellere og summer'!$A$33,IF(AL77="TietoEVRY",'Tellere og summer'!$A$43,IF(AL77="Danielsen å i",'Tellere og summer'!$A$53,IF(AL77="Panorama Turkeys",'Tellere og summer'!$A$63,IF(AL77="Team Fuglset",'Tellere og summer'!$A$73,IF(AL77="Istad Strikers",'Tellere og summer'!$A$83,IF(AL77="Ytre Bowlinglag",'Tellere og summer'!$A$93,"NA")))))))))) -> Gerd Norunn Nygård | AL80: 150 | AM80: 135 | AN80: 182 | AO80: =SUM(AL80:AN80) -> 467 | AQ80: =IF(AR77="Normo Slipestasjon",'Tellere og summer'!$A$3,IF(AR77="Glamox",'Tellere og summer'!$A$13,IF(AR77="Molde Kommune",'Tellere og summer'!$A$23,IF(AR77="Rørlegger 1",'Tellere og summer'!$A$33,IF(AR77="TietoEVRY",'Tellere og summer'!$A$43,IF(AR77="Danielsen å i",'Tellere og summer'!$A$53,IF(AR77="Panorama Turkeys",'Tellere og summer'!$A$63,IF(AR77="Team Fuglset",'Tellere og summer'!$A$73,IF(AR77="Istad Strikers",'Tellere og summer'!$A$83,IF(AR77="Ytre Bowlinglag",'Tellere og summer'!$A$93,"NA")))))))))) -> Amund Vaagen | AR80: 160 | AS80: 175 | AT80: 146 | AU80: =SUM(AR80:AT80) -> 481 | AW80: =IF(AX77="Normo Slipestasjon",'Tellere og summer'!$A$3,IF(AX77="Glamox",'Tellere og summer'!$A$13,IF(AX77="Molde Kommune",'Tellere og summer'!$A$23,IF(AX77="Rørlegger 1",'Tellere og summer'!$A$33,IF(AX77="TietoEVRY",'Tellere og summer'!$A$43,IF(AX77="Danielsen å i",'Tellere og summer'!$A$53,IF(AX77="Panorama Turkeys",'Tellere og summer'!$A$63,IF(AX77="Team Fuglset",'Tellere og summer'!$A$73,IF(AX77="Istad Strikers",'Tellere og summer'!$A$83,IF(AX77="Ytre Bowlinglag",'Tellere og summer'!$A$93,"NA")))))))))) -> Kjell Thorsrudhagen | AX80: 172 | AY80: 146 | AZ80: 152 | BA80: =SUM(AX80:AZ80) -> 470 | BC80: =IF(BD77="Normo Slipestasjon",'Tellere og summer'!$A$3,IF(BD77="Glamox",'Tellere og summer'!$A$13,IF(BD77="Molde Kommune",'Tellere og summer'!$A$23,IF(BD77="Rørlegger 1",'Tellere og summer'!$A$33,IF(BD77="TietoEVRY",'Tellere og summer'!$A$43,IF(BD77="Danielsen å i",'Tellere og summer'!$A$53,IF(BD77="Panorama Turkeys",'Tellere og summer'!$A$63,IF(BD77="Team Fuglset",'Tellere og summer'!$A$73,IF(BD77="Istad Strikers",'Tellere og summer'!$A$83,IF(BD77="Ytre Bowlinglag",'Tellere og summer'!$A$93,"NA")))))))))) -> Arne Ytterhaug | BD80: 146 | BE80: 115 | BF80: 164 | BG80: =SUM(BD80:BF80) -> 425
