Workbook

Sheet Kamper
A1: Bedriftskamper 20/21
C2: =COUNTIF(Kamper!$E$19,"S")+COUNTIF(Kamper!$AC$37,"S")+COUNTIF(Kamper!$E$55,"S")+COUNTIF(Kamper!$E$73,"S")+COUNTIF(Kamper!$E$91,"S")+COUNTIF(Kamper!$E$109,"S")+COUNTIF(Kamper!E127,"S")+COUNTIF(Kamper!E145,"S")+COUNTIF(Kamper!E163,"S")+COUNTIF(Kamper!E181,"S")+COUNTIF(Kamper!E199,"S")+COUNTIF(Kamper!E217,"S")+COUNTIF(Kamper!E235,"S")+COUNTIF(Kamper!E253,"S")+COUNTIF(Kamper!E271,"S")+COUNTIF(Kamper!E289,"S")+COUNTIF(Kamper!E307,"S")+COUNTIF(Kamper!K325,"S") -> 9
A3: Runde 1
A4: Kamp 1 | M4: Kamp 2 | Y4: Kamp 3 | AK4: Kamp 4 | AW4: Kamp 5
A5: Hjemmelag: | B5: Normo slipestasjon | G5: Bortelag: | H5: Glamox | M5: Hjemmelag: | N5: Molde Kommune | S5: Bortelag: | T5: Rørlegger 1 | Y5: Hjemmelag: | Z5: TietoEVRY | AE5: Bortelag: | AF5: Danielsen å I | AK5: Hjemmelag: | AL5: Panorama Turkeys | AQ5: Bortelag: | AR5: Istad Strikers | AW5: Hjemmelag: | AX5: Ytre Bowlinglag | BC5: Bortelag: | BD5: Team Fuglset
A7: Navn på spiller | B7: Omgang 1 | C7: Omgang 2 | D7: Omgang 3 | E7: Sum | G7: Navn på spiller | H7: Omgang 1 | I7: Omgang 2 | J7: Omgang 3 | K7: Sum | M7: Navn på spiller | N7: Omgang 1 | O7: Omgang 2 | P7: Omgang 3 | Q7: Sum | S7: Navn på spiller | T7: Omgang 1 | U7: Omgang 2 | V7: Omgang 3 | W7: Sum | Y7: Navn på spiller | Z7: Omgang 1 | AA7: Omgang 2 | AB7: Omgang 3 | AC7: Sum | AE7: Navn på spiller | AF7: Omgang 1 | AG7: Omgang 2 | AH7: Omgang 3 | AI7: Sum | AK7: Navn på spiller | AL7: Omgang 1 | AM7: Omgang 2 | AN7: Omgang 3 | AO7: Sum | AQ7: Navn på spiller | AR7: Omgang 1 | AS7: Omgang 2 | AT7: Omgang 3 | AU7: Sum | AW7: Navn på spiller | AX7: Omgang 1 | AY7: Omgang 2 | AZ7: Omgang 3 | BA7: Sum | BC7: Navn på spiller | BD7: Omgang 1 | BE7: Omgang 2 | BF7: Omgang 3 | BG7: Sum
A8: =IF(B5="Normo Slipestasjon",'Tellere og summer'!$A$3,IF(B5="Glamox",'Tellere og summer'!$A$13,IF(B5="Molde Kommune",'Tellere og summer'!$A$23,IF(B5="Rørlegger 1",'Tellere og summer'!$A$33,IF(B5="TietoEVRY",'Tellere og summer'!$A$43,IF(B5="Danielsen å i",'Tellere og summer'!$A$53,IF(B5="Panorama Turkeys",'Tellere og summer'!$A$63,IF(B5="Team Fuglset",'Tellere og summer'!$A$73,IF(B5="Istad Strikers",'Tellere og summer'!$A$83,IF(B5="Ytre Bowlinglag",'Tellere og summer'!$A$93,"NA")))))))))) -> Asbjørn Toft | B8: 158 | C8: 154 | D8: 188 | E8: =SUM(B8:D8) -> 500 | G8: =IF(H5="Normo Slipestasjon",'Tellere og summer'!$A$3,IF(H5="Glamox",'Tellere og summer'!$A$13,IF(H5="Molde Kommune",'Tellere og summer'!$A$23,IF(H5="Rørlegger 1",'Tellere og summer'!$A$33,IF(H5="TietoEVRY",'Tellere og summer'!$A$43,IF(H5="Danielsen å i",'Tellere og summer'!$A$53,IF(H5="Panorama Turkeys",'Tellere og summer'!$A$63,IF(H5="Team Fuglset",'Tellere og summer'!$A$73,IF(H5="Istad Strikers",'Tellere og summer'!$A$83,IF(H5="Ytre Bowlinglag",'Tellere og summer'!$A$93,"NA")))))))))) -> Paul Boyle | H8: 156 | I8: 220 | J8: 168 | K8: =SUM(H8:J8) -> 544 | M8: =IF(N5="Normo Slipestasjon",'Tellere og summer'!$A$3,IF(N5="Glamox",'Tellere og summer'!$A$13,IF(N5="Molde Kommune",'Tellere og summer'!$A$23,IF(N5="Rørlegger 1",'Tellere og summer'!$A$33,IF(N5="TietoEVRY",'Tellere og summer'!$A$43,IF(N5="Danielsen å i",'Tellere og summer'!$A$53,IF(N5="Panorama Turkeys",'Tellere og summer'!$A$63,IF(N5="Team Fuglset",'Tellere og summer'!$A$73,IF(N5="Istad Strikers",'Tellere og summer'!$A$83,IF(N5="Ytre Bowlinglag",'Tellere og summer'!$A$93,"NA")))))))))) -> Gerd Norunn Nygård | N8: 123 | O8: 123 | P8: 145 | Q8: =SUM(N8:P8) -> 391 | S8: =IF(T5="Normo Slipestasjon",'Tellere og summer'!$A$3,IF(T5="Glamox",'Tellere og summer'!$A$13,IF(T5="Molde Kommune",'Tellere og summer'!$A$23,IF(T5="Rørlegger 1",'Tellere og summer'!$A$33,IF(T5="TietoEVRY",'Tellere og summer'!$A$43,IF(T5="Danielsen å i",'Tellere og summer'!$A$53,IF(T5="Panorama Turkeys",'Tellere og summer'!$A$63,IF(T5="Team Fuglset",'Tellere og summer'!$A$73,IF(T5="Istad Strikers",'Tellere og summer'!$A$83,IF(T5="Ytre Bowlinglag",'Tellere og summer'!$A$93,"NA")))))))))) -> Arnfinn Lange | T8: 156 | U8: 132 | V8: 127 | W8: =SUM(T8:V8) -> 415 | Y8: =IF(Z5="Normo Slipestasjon",'Tellere og summer'!$A$3,IF(Z5="Glamox",'Tellere og summer'!$A$13,IF(Z5="Molde Kommune",'Tellere og summer'!$A$23,IF(Z5="Rørlegger 1",'Tellere og summer'!$A$33,IF(Z5="TietoEVRY",'Tellere og summer'!$A$43,IF(Z5="Danielsen å i",'Tellere og summer'!$A$53,IF(Z5="Panorama Turkeys",'Tellere og summer'!$A$63,IF(Z5="Team Fuglset",'Tellere og summer'!$A$73,IF(Z5="Istad Strikers",'Tellere og summer'!$A$83,IF(Z5="Ytre Bowlinglag",'Tellere og summer'!$A$93,"NA")))))))))) -> Svein Erik Jenset | AB8: 134 | AC8: =SUM(Z8:AB8) -> 134 | AE8: =IF(AF5="Normo Slipestasjon",'Tellere og summer'!$A$3,IF(AF5="Glamox",'Tellere og summer'!$A$13,IF(AF5="Molde Kommune",'Tellere og summer'!$A$23,IF(AF5="Rørlegger 1",'Tellere og summer'!$A$33,IF(AF5="TietoEVRY",'Tellere og summer'!$A$43,IF(AF5="Danielsen å i",'Tellere og summer'!$A$53,IF(AF5="Panorama Turkeys",'Tellere og summer'!$A$63,IF(AF5="Team Fuglset",'Tellere og summer'!$A$73,IF(AF5="Istad Strikers",'Tellere og summer'!$A$83,IF(AF5="Ytre Bowlinglag",'Tellere og summer'!$A$93,"NA")))))))))) -> Kjell Thorsrudhagen | AF8: 188 | AG8: 146 | AI8: =SUM(AF8:AH8) -> 334 | AK8: =IF(AL5="Normo Slipestasjon",'Tellere og summer'!$A$3,IF(AL5="Glamox",'Tellere og summer'!$A$13,IF(AL5="Molde Kommune",'Tellere og summer'!$A$23,IF(AL5="Rørlegger 1",'Tellere og summer'!$A$33,IF(AL5="TietoEVRY",'Tellere og summer'!$A$43,IF(AL5="Danielsen å i",'Tellere og summer'!$A$53,IF(AL5="Panorama Turkeys",'Tellere og summer'!$A$63,IF(AL5="Team Fuglset",'Tellere og summer'!$A$73,IF(AL5="Istad Strikers",'Tellere og summer'!$A$83,IF(AL5="Ytre Bowlinglag",'Tellere og summer'!$A$93,"NA")))))))))) -> Martin Aarø | AL8: 122 | AM8: 148 | AN8: 149 | AO8: =SUM(AL8:AN8) -> 419 | AQ8: =IF(AR5="Normo Slipestasjon",'Tellere og summer'!$A$3,IF(AR5="Glamox",'Tellere og summer'!$A$13,IF(AR5="Molde Kommune",'Tellere og summer'!$A$23,IF(AR5="Rørlegger 1",'Tellere og summer'!$A$33,IF(AR5="TietoEVRY",'Tellere og summer'!$A$43,IF(AR5="Danielsen å i",'Tellere og summer'!$A$53,IF(AR5="Panorama Turkeys",'Tellere og summer'!$A$63,IF(AR5="Team Fuglset",'Tellere og summer'!$A$73,IF(AR5="Istad Strikers",'Tellere og summer'!$A$83,IF(AR5="Ytre Bowlinglag",'Tellere og summer'!$A$93,"NA")))))))))) -> Arne Ytterhaug | AR8: 119 | AS8: 124 | AT8: 123 | AU8: =SUM(AR8:AT8) -> 366 | AW8: =IF(AX5="Normo Slipestasjon",'Tellere og summer'!$A$3,IF(AX5="Glamox",'Tellere og summer'!$A$13,IF(AX5="Molde Kommune",'Tellere og summer'!$A$23,IF(AX5="Rørlegger 1",'Tellere og summer'!$A$33,IF(AX5="TietoEVRY",'Tellere og summer'!$A$43,IF(AX5="Danielsen å i",'Tellere og summer'!$A$53,IF(AX5="Panorama Turkeys",'Tellere og summer'!$A$63,IF(AX5="Team Fuglset",'Tellere og summer'!$A$73,IF(AX5="Istad Strikers",'Tellere og summer'!$A$83,IF(AX5="Ytre Bowlinglag",'Tellere og summer'!$A$93,"NA")))))))))) -> Amund Vaagen | BA8: =SUM(AX8:AZ8) -> 0 | BC8: =IF(BD5="Normo Slipestasjon",'Tellere og summer'!$A$3,IF(BD5="Glamox",'Tellere og summer'!$A$13,IF(BD5="Molde Kommune",'Tellere og summer'!$A$23,IF(BD5="Rørlegger 1",'Tellere og summer'!$A$33,IF(BD5="TietoEVRY",'Tellere og summer'!$A$43,IF(BD5="Danielsen å i",'Tellere og summer'!$A$53,IF(BD5="Panorama Turkeys",'Tellere og summer'!$A$63,IF(BD5="Team Fuglset",'Tellere og summer'!$A$73,IF(BD5="Istad Strikers",'Tellere og summer'!$A$83,IF(BD5="Ytre Bowlinglag",'Tellere og summer'!$A$93,"NA")))))))))) -> Sten-Morten Kjørsvik | BG8: =SUM(BD8:BF8) -> 0
A9: =IF(B5="Normo Slipestasjon",'Tellere og summer'!$A$4,IF(B5="Glamox",'Tellere og summer'!$A$14,IF(B5="Molde Kommune",'Tellere og summer'!$A$24,IF(B5="Rørlegger 1",'Tellere og summer'!$A$34,IF(B5="TietoEVRY",'Tellere og summer'!$A$44,IF(B5="Danielsen å i",'Tellere og summer'!$A$54,IF(B5="Panorama Turkeys",'Tellere og summer'!$A$64,IF(B5="Team Fuglset",'Tellere og summer'!$A$74,IF(B5="Istad Strikers",'Tellere og summer'!$A$84,IF(B5="Ytre Bowlinglag",'Tellere og summer'!$A$94,"NA")))))))))) -> Tormod Kleppe | B9: 84 | D9: 122 | E9: =SUM(B9:D9) -> 206 | G9: =IF(H5="Normo Slipestasjon",'Tellere og summer'!$A$4,IF(H5="Glamox",'Tellere og summer'!$A$14,IF(H5="Molde Kommune",'Tellere og summer'!$A$24,IF(H5="Rørlegger 1",'Tellere og summer'!$A$34,IF(H5="TietoEVRY",'Tellere og summer'!$A$44,IF(H5="Danielsen å i",'Tellere og summer'!$A$54,IF(H5="Panorama Turkeys",'Tellere og summer'!$A$64,IF(H5="Team Fuglset",'Tellere og summer'!$A$74,IF(H5="Istad Strikers",'Tellere og summer'!$A$84,IF(H5="Ytre Bowlinglag",'Tellere og summer'!$A$94,"NA")))))))))) -> Rikard Nerland | H9: 236 | I9: 227 | J9: 213 | K9: =SUM(H9:J9) -> 676 | M9: =IF(N5="Normo Slipestasjon",'Tellere og summer'!$A$4,IF(N5="Glamox",'Tellere og summer'!$A$14,IF(N5="Molde Kommune",'Tellere og summer'!$A$24,IF(N5="Rørlegger 1",'Tellere og summer'!$A$34,IF(N5="TietoEVRY",'Tellere og summer'!$A$44,IF(N5="Danielsen å i",'Tellere og summer'!$A$54,IF(N5="Panorama Turkeys",'Tellere og summer'!$A$64,IF(N5="Team Fuglset",'Tellere og summer'!$A$74,IF(N5="Istad Strikers",'Tellere og summer'!$A$84,IF(N5="Ytre Bowlinglag",'Tellere og summer'!$A$94,"NA")))))))))) -> Ole Østigård | Q9: =SUM(N9:P9) -> 0 | S9: =IF(T5="Normo Slipestasjon",'Tellere og summer'!$A$4,IF(T5="Glamox",'Tellere og summer'!$A$14,IF(T5="Molde Kommune",'Tellere og summer'!$A$24,IF(T5="Rørlegger 1",'Tellere og summer'!$A$34,IF(T5="TietoEVRY",'Tellere og summer'!$A$44,IF(T5="Danielsen å i",'Tellere og summer'!$A$54,IF(T5="Panorama Turkeys",'Tellere og summer'!$A$64,IF(T5="Team Fuglset",'Tellere og summer'!$A$74,IF(T5="Istad Strikers",'Tellere og summer'!$A$84,IF(T5="Ytre Bowlinglag",'Tellere og summer'!$A$94,"NA")))))))))) -> Billy Williams | W9: =SUM(T9:V9) -> 0 | Y9: =IF(Z5="Normo Slipestasjon",'Tellere og summer'!$A$4,IF(Z5="Glamox",'Tellere og summer'!$A$14,IF(Z5="Molde Kommune",'Tellere og summer'!$A$24,IF(Z5="Rørlegger 1",'Tellere og summer'!$A$34,IF(Z5="TietoEVRY",'Tellere og summer'!$A$44,IF(Z5="Danielsen å i",'Tellere og summer'!$A$54,IF(Z5="Panorama Turkeys",'Tellere og summer'!$A$64,IF(Z5="Team Fuglset",'Tellere og summer'!$A$74,IF(Z5="Istad Strikers",'Tellere og summer'!$A$84,IF(Z5="Ytre Bowlinglag",'Tellere og summer'!$A$94,"NA")))))))))) -> Øystein Lervik | AC9: =SUM(Z9:AB9) -> 0 | AE9: =IF(AF5="Normo Slipestasjon",'Tellere og summer'!$A$4,IF(AF5="Glamox",'Tellere og summer'!$A$14,IF(AF5="Molde Kommune",'Tellere og summer'!$A$24,IF(AF5="Rørlegger 1",'Tellere og summer'!$A$34,IF(AF5="TietoEVRY",'Tellere og summer'!$A$44,IF(AF5="Danielsen å i",'Tellere og summer'!$A$54,IF(AF5="Panorama Turkeys",'Tellere og summer'!$A$64,IF(AF5="Team Fuglset",'Tellere og summer'!$A$74,IF(AF5="Istad Strikers",'Tellere og summer'!$A$84,IF(AF5="Ytre Bowlinglag",'Tellere og summer'!$A$94,"NA")))))))))) -> Alhild Danielsen | AF9: 175 | AH9: 161 | AI9: =SUM(AF9:AH9) -> 336 | AK9: =IF(AL5="Normo Slipestasjon",'Tellere og summer'!$A$4,IF(AL5="Glamox",'Tellere og summer'!$A$14,IF(AL5="Molde Kommune",'Tellere og summer'!$A$24,IF(AL5="Rørlegger 1",'Tellere og summer'!$A$34,IF(AL5="TietoEVRY",'Tellere og summer'!$A$44,IF(AL5="Danielsen å i",'Tellere og summer'!$A$54,IF(AL5="Panorama Turkeys",'Tellere og summer'!$A$64,IF(AL5="Team Fuglset",'Tellere og summer'!$A$74,IF(AL5="Istad Strikers",'Tellere og summer'!$A$84,IF(AL5="Ytre Bowlinglag",'Tellere og summer'!$A$94,"NA")))))))))) -> Jamie Sagstuen | AO9: =SUM(AL9:AN9) -> 0 | AQ9: =IF(AR5="Normo Slipestasjon",'Tellere og summer'!$A$4,IF(AR5="Glamox",'Tellere og summer'!$A$14,IF(AR5="Molde Kommune",'Tellere og summer'!$A$24,IF(AR5="Rørlegger 1",'Tellere og summer'!$A$34,IF(AR5="TietoEVRY",'Tellere og summer'!$A$44,IF(AR5="Danielsen å i",'Tellere og summer'!$A$54,IF(AR5="Panorama Turkeys",'Tellere og summer'!$A$64,IF(AR5="Team Fuglset",'Tellere og summer'!$A$74,IF(AR5="Istad Strikers",'Tellere og summer'!$A$84,IF(AR5="Ytre Bowlinglag",'Tellere og summer'!$A$94,"NA")))))))))) -> Magne Farstadvoll | AR9: 161 | AS9: 124 | AT9: 122 | AU9: =SUM(AR9:AT9) -> 407 | AW9: =IF(AX5="Normo Slipestasjon",'Tellere og summer'!$A$4,IF(AX5="Glamox",'Tellere og summer'!$A$14,IF(AX5="Molde Kommune",'Tellere og summer'!$A$24,IF(AX5="Rørlegger 1",'Tellere og summer'!$A$34,IF(AX5="TietoEVRY",'Tellere og summer'!$A$44,IF(AX5="Danielsen å i",'Tellere og summer'!$A$54,IF(AX5="Panorama Turkeys",'Tellere og summer'!$A$64,IF(AX5="Team Fuglset",'Tellere og summer'!$A$74,IF(AX5="Istad Strikers",'Tellere og summer'!$A$84,IF(AX5="Ytre Bowlinglag",'Tellere og summer'!$A$94,"NA")))))))))) -> Halvor Vaagen | AX9: 130 | AY9: 160 | AZ9: 118 | BA9: =SUM(AX9:AZ9) -> 408 | BC9: =IF(BD5="Normo Slipestasjon",'Tellere og summer'!$A$4,IF(BD5="Glamox",'Tellere og summer'!$A$14,IF(BD5="Molde Kommune",'Tellere og summer'!$A$24,IF(BD5="Rørlegger 1",'Tellere og summer'!$A$34,IF(BD5="TietoEVRY",'Tellere og summer'!$A$44,IF(BD5="Danielsen å i",'Tellere og summer'!$A$54,IF(BD5="Panorama Turkeys",'Tellere og summer'!$A$64,IF(BD5="Team Fuglset",'Tellere og summer'!$A$74,IF(BD5="Istad Strikers",'Tellere og summer'!$A$84,IF(BD5="Ytre Bowlinglag",'Tellere og summer'!$A$94,"NA")))))))))) -> Lars Brian Taylor | BG9: =SUM(BD9:BF9) -> 0
A10: =IF(B5="Normo Slipestasjon",'Tellere og summer'!$A$5,IF(B5="Glamox",'Tellere og summer'!$A$15,IF(B5="Molde Kommune",'Tellere og summer'!$A$25,IF(B5="Rørlegger 1",'Tellere og summer'!$A$35,IF(B5="TietoEVRY",'Tellere og summer'!$A$45,IF(B5="Danielsen å i",'Tellere og summer'!$A$55,IF(B5="Panorama Turkeys",'Tellere og summer'!$A$65,IF(B5="Team Fuglset",'Tellere og summer'!$A$75,IF(B5="Istad Strikers",'Tellere og summer'!$A$85,IF(B5="Ytre Bowlinglag",'Tellere og summer'!$A$95,"NA")))))))))) -> Tor Åge Langås | B10: 114 | C10: 183 | D10: 144 | E10: =SUM(B10:D10) -> 441 | G10: =IF(H5="Normo Slipestasjon",'Tellere og summer'!$A$5,IF(H5="Glamox",'Tellere og summer'!$A$15,IF(H5="Molde Kommune",'Tellere og summer'!$A$25,IF(H5="Rørlegger 1",'Tellere og summer'!$A$35,IF(H5="TietoEVRY",'Tellere og summer'!$A$45,IF(H5="Danielsen å i",'Tellere og summer'!$A$55,IF(H5="Panorama Turkeys",'Tellere og summer'!$A$65,IF(H5="Team Fuglset",'Tellere og summer'!$A$75,IF(H5="Istad Strikers",'Tellere og summer'!$A$85,IF(H5="Ytre Bowlinglag",'Tellere og summer'!$A$95,"NA")))))))))) -> Christian Pascal | H10: 179 | I10: 170 | J10: 208 | K10: =SUM(H10:J10) -> 557 | M10: =IF(N5="Normo Slipestasjon",'Tellere og summer'!$A$5,IF(N5="Glamox",'Tellere og summer'!$A$15,IF(N5="Molde Kommune",'Tellere og summer'!$A$25,IF(N5="Rørlegger 1",'Tellere og summer'!$A$35,IF(N5="TietoEVRY",'Tellere og summer'!$A$45,IF(N5="Danielsen å i",'Tellere og summer'!$A$55,IF(N5="Panorama Turkeys",'Tellere og summer'!$A$65,IF(N5="Team Fuglset",'Tellere og summer'!$A$75,IF(N5="Istad Strikers",'Tellere og summer'!$A$85,IF(N5="Ytre Bowlinglag",'Tellere og summer'!$A$95,"NA")))))))))) -> Tone Nygård Nilsen | N10: 146 | O10: 129 | P10: 175 | Q10: =SUM(N10:P10) -> 450 | S10: =IF(T5="Normo Slipestasjon",'Tellere og summer'!$A$5,IF(T5="Glamox",'Tellere og summer'!$A$15,IF(T5="Molde Kommune",'Tellere og summer'!$A$25,IF(T5="Rørlegger 1",'Tellere og summer'!$A$35,IF(T5="TietoEVRY",'Tellere og summer'!$A$45,IF(T5="Danielsen å i",'Tellere og summer'!$A$55,IF(T5="Panorama Turkeys",'Tellere og summer'!$A$65,IF(T5="Team Fuglset",'Tellere og summer'!$A$75,IF(T5="Istad Strikers",'Tellere og summer'!$A$85,IF(T5="Ytre Bowlinglag",'Tellere og summer'!$A$95,"NA")))))))))) -> Arild Gujord | T10: 102 | U10: 142 | V10: 213 | W10: =SUM(T10:V10) -> 457 | Y10: =IF(Z5="Normo Slipestasjon",'Tellere og summer'!$A$5,IF(Z5="Glamox",'Tellere og summer'!$A$15,IF(Z5="Molde Kommune",'Tellere og summer'!$A$25,IF(Z5="Rørlegger 1",'Tellere og summer'!$A$35,IF(Z5="TietoEVRY",'Tellere og summer'!$A$45,IF(Z5="Danielsen å i",'Tellere og summer'!$A$55,IF(Z5="Panorama Turkeys",'Tellere og summer'!$A$65,IF(Z5="Team Fuglset",'Tellere og summer'!$A$75,IF(Z5="Istad Strikers",'Tellere og summer'!$A$85,IF(Z5="Ytre Bowlinglag",'Tellere og summer'!$A$95,"NA")))))))))) -> Vidar Lervik | AC10: =SUM(Z10:AB10) -> 0 | AE10: =IF(AF5="Normo Slipestasjon",'Tellere og summer'!$A$5,IF(AF5="Glamox",'Tellere og summer'!$A$15,IF(AF5="Molde Kommune",'Tellere og summer'!$A$25,IF(AF5="Rørlegger 1",'Tellere og summer'!$A$35,IF(AF5="TietoEVRY",'Tellere og summer'!$A$45,IF(AF5="Danielsen å i",'Tellere og summer'!$A$55,IF(AF5="Panorama Turkeys",'Tellere og summer'!$A$65,IF(AF5="Team Fuglset",'Tellere og summer'!$A$75,IF(AF5="Istad Strikers",'Tellere og summer'!$A$85,IF(AF5="Ytre Bowlinglag",'Tellere og summer'!$A$95,"NA")))))))))) -> Grethe Danielsen | AG10: 180 | AH10: 240 | AI10: =SUM(AF10:AH10) -> 420 | AK10: =IF(AL5="Normo Slipestasjon",'Tellere og summer'!$A$5,IF(AL5="Glamox",'Tellere og summer'!$A$15,IF(AL5="Molde Kommune",'Tellere og summer'!$A$25,IF(AL5="Rørlegger 1",'Tellere og summer'!$A$35,IF(AL5="TietoEVRY",'Tellere og summer'!$A$45,IF(AL5="Danielsen å i",'Tellere og summer'!$A$55,IF(AL5="Panorama Turkeys",'Tellere og summer'!$A$65,IF(AL5="Team Fuglset",'Tellere og summer'!$A$75,IF(AL5="Istad Strikers",'Tellere og summer'!$A$85,IF(AL5="Ytre Bowlinglag",'Tellere og summer'!$A$95,"NA")))))))))) -> Martin Gikling & Evy | AO10: =SUM(AL10:AN10) -> 0 | AQ10: =IF(AR5="Normo Slipestasjon",'Tellere og summer'!$A$5,IF(AR5="Glamox",'Tellere og summer'!$A$15,IF(AR5="Molde Kommune",'Tellere og summer'!$A$25,IF(AR5="Rørlegger 1",'Tellere og summer'!$A$35,IF(AR5="TietoEVRY",'Tellere og summer'!$A$45,IF(AR5="Danielsen å i",'Tellere og summer'!$A$55,IF(AR5="Panorama Turkeys",'Tellere og summer'!$A$65,IF(AR5="Team Fuglset",'Tellere og summer'!$A$75,IF(AR5="Istad Strikers",'Tellere og summer'!$A$85,IF(AR5="Ytre Bowlinglag",'Tellere og summer'!$A$95,"NA")))))))))) -> Jan Kjetil Holberg Sandnes | AU10: =SUM(AR10:AT10) -> 0 | AW10: =IF(AX5="Normo Slipestasjon",'Tellere og summer'!$A$5,IF(AX5="Glamox",'Tellere og summer'!$A$15,IF(AX5="Molde Kommune",'Tellere og summer'!$A$25,IF(AX5="Rørlegger 1",'Tellere og summer'!$A$35,IF(AX5="TietoEVRY",'Tellere og summer'!$A$45,IF(AX5="Danielsen å i",'Tellere og summer'!$A$55,IF(AX5="Panorama Turkeys",'Tellere og summer'!$A$65,IF(AX5="Team Fuglset",'Tellere og summer'!$A$75,IF(AX5="Istad Strikers",'Tellere og summer'!$A$85,IF(AX5="Ytre Bowlinglag",'Tellere og summer'!$A$95,"NA")))))))))) -> Jarle Endreplass | AX10: 176 | AY10: 189 | AZ10: 149 | BA10: =SUM(AX10:AZ10) -> 514 | BC10: =IF(BD5="Normo Slipestasjon",'Tellere og summer'!$A$5,IF(BD5="Glamox",'Tellere og summer'!$A$15,IF(BD5="Molde Kommune",'Tellere og summer'!$A$25,IF(BD5="Rørlegger 1",'Tellere og summer'!$A$35,IF(BD5="TietoEVRY",'Tellere og summer'!$A$45,IF(BD5="Danielsen å i",'Tellere og summer'!$A$55,IF(BD5="Panorama Turkeys",'Tellere og summer'!$A$65,IF(BD5="Team Fuglset",'Tellere og summer'!$A$75,IF(BD5="Istad Strikers",'Tellere og summer'!$A$85,IF(BD5="Ytre Bowlinglag",'Tellere og summer'!$A$95,"NA")))))))))) -> Ole Morten Aarø | BD10: 154 | BE10: 146 | BF10: 153 | BG10: =SUM(BD10:BF10) -> 453
A11: =IF(B5="Normo Slipestasjon",'Tellere og summer'!$A$6,IF(B5="Glamox",'Tellere og summer'!$A$16,IF(B5="Molde Kommune",'Tellere og summer'!$A$26,IF(B5="Rørlegger 1",'Tellere og summer'!$A$36,IF(B5="TietoEVRY",'Tellere og summer'!$A$46,IF(B5="Danielsen å i",'Tellere og summer'!$A$56,IF(B5="Panorama Turkeys",'Tellere og summer'!$A$66,IF(B5="Team Fuglset",'Tellere og summer'!$A$76,IF(B5="Istad Strikers",'Tellere og summer'!$A$86,IF(B5="Ytre Bowlinglag",'Tellere og summer'!$A$96,"NA")))))))))) -> Thor Bolsønes | C11: 143 | E11: =SUM(B11:D11) -> 143 | G11: =IF(H5="Normo Slipestasjon",'Tellere og summer'!$A$6,IF(H5="Glamox",'Tellere og summer'!$A$16,IF(H5="Molde Kommune",'Tellere og summer'!$A$26,IF(H5="Rørlegger 1",'Tellere og summer'!$A$36,IF(H5="TietoEVRY",'Tellere og summer'!$A$46,IF(H5="Danielsen å i",'Tellere og summer'!$A$56,IF(H5="Panorama Turkeys",'Tellere og summer'!$A$66,IF(H5="Team Fuglset",'Tellere og summer'!$A$76,IF(H5="Istad Strikers",'Tellere og summer'!$A$86,IF(H5="Ytre Bowlinglag",'Tellere og summer'!$A$96,"NA")))))))))) -> Odd Øyvind Fjørtoft | K11: =SUM(H11:J11) -> 0 | M11: =IF(N5="Normo Slipestasjon",'Tellere og summer'!$A$6,IF(N5="Glamox",'Tellere og summer'!$A$16,IF(N5="Molde Kommune",'Tellere og summer'!$A$26,IF(N5="Rørlegger 1",'Tellere og summer'!$A$36,IF(N5="TietoEVRY",'Tellere og summer'!$A$46,IF(N5="Danielsen å i",'Tellere og summer'!$A$56,IF(N5="Panorama Turkeys",'Tellere og summer'!$A$66,IF(N5="Team Fuglset",'Tellere og summer'!$A$76,IF(N5="Istad Strikers",'Tellere og summer'!$A$86,IF(N5="Ytre Bowlinglag",'Tellere og summer'!$A$96,"NA")))))))))) -> Arild Bryhn | N11: 156 | O11: 157 | P11: 144 | Q11: =SUM(N11:P11) -> 457 | S11: =IF(T5="Normo Slipestasjon",'Tellere og summer'!$A$6,IF(T5="Glamox",'Tellere og summer'!$A$16,IF(T5="Molde Kommune",'Tellere og summer'!$A$26,IF(T5="Rørlegger 1",'Tellere og summer'!$A$36,IF(T5="TietoEVRY",'Tellere og summer'!$A$46,IF(T5="Danielsen å i",'Tellere og summer'!$A$56,IF(T5="Panorama Turkeys",'Tellere og summer'!$A$66,IF(T5="Team Fuglset",'Tellere og summer'!$A$76,IF(T5="Istad Strikers",'Tellere og summer'!$A$86,IF(T5="Ytre Bowlinglag",'Tellere og summer'!$A$96,"NA")))))))))) -> Kristian Røstberg | T11: 98 | U11: 122 | V11: 111 | W11: =SUM(T11:V11) -> 331 | Y11: =IF(Z5="Normo Slipestasjon",'Tellere og summer'!$A$6,IF(Z5="Glamox",'Tellere og summer'!$A$16,IF(Z5="Molde Kommune",'Tellere og summer'!$A$26,IF(Z5="Rørlegger 1",'Tellere og summer'!$A$36,IF(Z5="TietoEVRY",'Tellere og summer'!$A$46,IF(Z5="Danielsen å i",'Tellere og summer'!$A$56,IF(Z5="Panorama Turkeys",'Tellere og summer'!$A$66,IF(Z5="Team Fuglset",'Tellere og summer'!$A$76,IF(Z5="Istad Strikers",'Tellere og summer'!$A$86,IF(Z5="Ytre Bowlinglag",'Tellere og summer'!$A$96,"NA")))))))))) -> Svein Johan Hauge | AC11: =SUM(Z11:AB11) -> 0 | AE11: =IF(AF5="Normo Slipestasjon",'Tellere og summer'!$A$6,IF(AF5="Glamox",'Tellere og summer'!$A$16,IF(AF5="Molde Kommune",'Tellere og summer'!$A$26,IF(AF5="Rørlegger 1",'Tellere og summer'!$A$36,IF(AF5="TietoEVRY",'Tellere og summer'!$A$46,IF(AF5="Danielsen å i",'Tellere og summer'!$A$56,IF(AF5="Panorama Turkeys",'Tellere og summer'!$A$66,IF(AF5="Team Fuglset",'Tellere og summer'!$A$76,IF(AF5="Istad Strikers",'Tellere og summer'!$A$86,IF(AF5="Ytre Bowlinglag",'Tellere og summer'!$A$96,"NA")))))))))) -> Irene T. Danielsen | AF11: 189 | AG11: 206 | AH11: 175 | AI11: =SUM(AF11:AH11) -> 570 | AK11: =IF(AL5="Normo Slipestasjon",'Tellere og summer'!$A$6,IF(AL5="Glamox",'Tellere og summer'!$A$16,IF(AL5="Molde Kommune",'Tellere og summer'!$A$26,IF(AL5="Rørlegger 1",'Tellere og summer'!$A$36,IF(AL5="TietoEVRY",'Tellere og summer'!$A$46,IF(AL5="Danielsen å i",'Tellere og summer'!$A$56,IF(AL5="Panorama Turkeys",'Tellere og summer'!$A$66,IF(AL5="Team Fuglset",'Tellere og summer'!$A$76,IF(AL5="Istad Strikers",'Tellere og summer'!$A$86,IF(AL5="Ytre Bowlinglag",'Tellere og summer'!$A$96,"NA")))))))))) -> Jacob Lyche | AL11: 119 | AM11: 154 | AN11: 126 | AO11: =SUM(AL11:AN11) -> 399 | AQ11: =IF(AR5="Normo Slipestasjon",'Tellere og summer'!$A$6,IF(AR5="Glamox",'Tellere og summer'!$A$16,IF(AR5="Molde Kommune",'Tellere og summer'!$A$26,IF(AR5="Rørlegger 1",'Tellere og summer'!$A$36,IF(AR5="TietoEVRY",'Tellere og summer'!$A$46,IF(AR5="Danielsen å i",'Tellere og summer'!$A$56,IF(AR5="Panorama Turkeys",'Tellere og summer'!$A$66,IF(AR5="Team Fuglset",'Tellere og summer'!$A$76,IF(AR5="Istad Strikers",'Tellere og summer'!$A$86,IF(AR5="Ytre Bowlinglag",'Tellere og summer'!$A$96,"NA")))))))))) -> Sindre Aure | AU11: =SUM(AR11:AT11) -> 0 | AW11: =IF(AX5="Normo Slipestasjon",'Tellere og summer'!$A$6,IF(AX5="Glamox",'Tellere og summer'!$A$16,IF(AX5="Molde Kommune",'Tellere og summer'!$A$26,IF(AX5="Rørlegger 1",'Tellere og summer'!$A$36,IF(AX5="TietoEVRY",'Tellere og summer'!$A$46,IF(AX5="Danielsen å i",'Tellere og summer'!$A$56,IF(AX5="Panorama Turkeys",'Tellere og summer'!$A$66,IF(AX5="Team Fuglset",'Tellere og summer'!$A$76,IF(AX5="Istad Strikers",'Tellere og summer'!$A$86,IF(AX5="Ytre Bowlinglag",'Tellere og summer'!$A$96,"NA")))))))))) -> Geir Gjelsten | BA11: =SUM(AX11:AZ11) -> 0 | BC11: =IF(BD5="Normo Slipestasjon",'Tellere og summer'!$A$6,IF(BD5="Glamox",'Tellere og summer'!$A$16,IF(BD5="Molde Kommune",'Tellere og summer'!$A$26,IF(BD5="Rørlegger 1",'Tellere og summer'!$A$36,IF(BD5="TietoEVRY",'Tellere og summer'!$A$46,IF(BD5="Danielsen å i",'Tellere og summer'!$A$56,IF(BD5="Panorama Turkeys",'Tellere og summer'!$A$66,IF(BD5="Team Fuglset",'Tellere og summer'!$A$76,IF(BD5="Istad Strikers",'Tellere og summer'!$A$86,IF(BD5="Ytre Bowlinglag",'Tellere og summer'!$A$96,"NA")))))))))) -> Svein Gussiås | BG11: =SUM(BD11:BF11) -> 0
A12: =IF(B5="Normo Slipestasjon",'Tellere og summer'!$A$7,IF(B5="Glamox",'Tellere og summer'!$A$17,IF(B5="Molde Kommune",'Tellere og summer'!$A$27,IF(B5="Rørlegger 1",'Tellere og summer'!$A$37,IF(B5="TietoEVRY",'Tellere og summer'!$A$47,IF(B5="Danielsen å i",'Tellere og summer'!$A$57,IF(B5="Panorama Turkeys",'Tellere og summer'!$A$67,IF(B5="Team Fuglset",'Tellere og summer'!$A$77,IF(B5="Istad Strikers",'Tellere og summer'!$A$87,IF(B5="Ytre Bowlinglag",'Tellere og summer'!$A$97,"NA")))))))))) -> 0 | E12: =SUM(B12:D12) -> 0 | G12: =IF(H5="Normo Slipestasjon",'Tellere og summer'!$A$7,IF(H5="Glamox",'Tellere og summer'!$A$17,IF(H5="Molde Kommune",'Tellere og summer'!$A$27,IF(H5="Rørlegger 1",'Tellere og summer'!$A$37,IF(H5="TietoEVRY",'Tellere og summer'!$A$47,IF(H5="Danielsen å i",'Tellere og summer'!$A$57,IF(H5="Panorama Turkeys",'Tellere og summer'!$A$67,IF(H5="Team Fuglset",'Tellere og summer'!$A$77,IF(H5="Istad Strikers",'Tellere og summer'!$A$87,IF(H5="Ytre Bowlinglag",'Tellere og summer'!$A$97,"NA")))))))))) -> Erik Hoel | K12: =SUM(H12:J12) -> 0 | M12: =IF(N5="Normo Slipestasjon",'Tellere og summer'!$A$7,IF(N5="Glamox",'Tellere og summer'!$A$17,IF(N5="Molde Kommune",'Tellere og summer'!$A$27,IF(N5="Rørlegger 1",'Tellere og summer'!$A$37,IF(N5="TietoEVRY",'Tellere og summer'!$A$47,IF(N5="Danielsen å i",'Tellere og summer'!$A$57,IF(N5="Panorama Turkeys",'Tellere og summer'!$A$67,IF(N5="Team Fuglset",'Tellere og summer'!$A$77,IF(N5="Istad Strikers",'Tellere og summer'!$A$87,IF(N5="Ytre Bowlinglag",'Tellere og summer'!$A$97,"NA")))))))))) -> Mette Jane Holand | Q12: =SUM(N12:P12) -> 0 | S12: =IF(T5="Normo Slipestasjon",'Tellere og summer'!$A$7,IF(T5="Glamox",'Tellere og summer'!$A$17,IF(T5="Molde Kommune",'Tellere og summer'!$A$27,IF(T5="Rørlegger 1",'Tellere og summer'!$A$37,IF(T5="TietoEVRY",'Tellere og summer'!$A$47,IF(T5="Danielsen å i",'Tellere og summer'!$A$57,IF(T5="Panorama Turkeys",'Tellere og summer'!$A$67,IF(T5="Team Fuglset",'Tellere og summer'!$A$77,IF(T5="Istad Strikers",'Tellere og summer'!$A$87,IF(T5="Ytre Bowlinglag",'Tellere og summer'!$A$97,"NA")))))))))) -> Pål Aslaksen | W12: =SUM(T12:V12) -> 0 | Y12: =IF(Z5="Normo Slipestasjon",'Tellere og summer'!$A$7,IF(Z5="Glamox",'Tellere og summer'!$A$17,IF(Z5="Molde Kommune",'Tellere og summer'!$A$27,IF(Z5="Rørlegger 1",'Tellere og summer'!$A$37,IF(Z5="TietoEVRY",'Tellere og summer'!$A$47,IF(Z5="Danielsen å i",'Tellere og summer'!$A$57,IF(Z5="Panorama Turkeys",'Tellere og summer'!$A$67,IF(Z5="Team Fuglset",'Tellere og summer'!$A$77,IF(Z5="Istad Strikers",'Tellere og summer'!$A$87,IF(Z5="Ytre Bowlinglag",'Tellere og summer'!$A$97,"NA")))))))))) -> Arnfinn Løntjern | AC12: =SUM(Z12:AB12) -> 0 | AE12: =IF(AF5="Normo Slipestasjon",'Tellere og summer'!$A$7,IF(AF5="Glamox",'Tellere og summer'!$A$17,IF(AF5="Molde Kommune",'Tellere og summer'!$A$27,IF(AF5="Rørlegger 1",'Tellere og summer'!$A$37,IF(AF5="TietoEVRY",'Tellere og summer'!$A$47,IF(AF5="Danielsen å i",'Tellere og summer'!$A$57,IF(AF5="Panorama Turkeys",'Tellere og summer'!$A$67,IF(AF5="Team Fuglset",'Tellere og summer'!$A$77,IF(AF5="Istad Strikers",'Tellere og summer'!$A$87,IF(AF5="Ytre Bowlinglag",'Tellere og summer'!$A$97,"NA")))))))))) -> 0 | AI12: =SUM(AF12:AH12) -> 0 | AK12: =IF(AL5="Normo Slipestasjon",'Tellere og summer'!$A$7,IF(AL5="Glamox",'Tellere og summer'!$A$17,IF(AL5="Molde Kommune",'Tellere og summer'!$A$27,IF(AL5="Rørlegger 1",'Tellere og summer'!$A$37,IF(AL5="TietoEVRY",'Tellere og summer'!$A$47,IF(AL5="Danielsen å i",'Tellere og summer'!$A$57,IF(AL5="Panorama Turkeys",'Tellere og summer'!$A$67,IF(AL5="Team Fuglset",'Tellere og summer'!$A$77,IF(AL5="Istad Strikers",'Tellere og summer'!$A$87,IF(AL5="Ytre Bowlinglag",'Tellere og summer'!$A$97,"NA")))))))))) -> Niklas Sevland | AL12: 112 | AM12: 105 | AN12: 95 | AO12: =SUM(AL12:AN12) -> 312 | AQ12: =IF(AR5="Normo Slipestasjon",'Tellere og summer'!$A$7,IF(AR5="Glamox",'Tellere og summer'!$A$17,IF(AR5="Molde Kommune",'Tellere og summer'!$A$27,IF(AR5="Rørlegger 1",'Tellere og summer'!$A$37,IF(AR5="TietoEVRY",'Tellere og summer'!$A$47,IF(AR5="Danielsen å i",'Tellere og summer'!$A$57,IF(AR5="Panorama Turkeys",'Tellere og summer'!$A$67,IF(AR5="Team Fuglset",'Tellere og summer'!$A$77,IF(AR5="Istad Strikers",'Tellere og summer'!$A$87,IF(AR5="Ytre Bowlinglag",'Tellere og summer'!$A$97,"NA")))))))))) -> Frode Lothe | AR12: 166 | AS12: 120 | AT12: 116 | AU12: =SUM(AR12:AT12) -> 402 | AW12: =IF(AX5="Normo Slipestasjon",'Tellere og summer'!$A$7,IF(AX5="Glamox",'Tellere og summer'!$A$17,IF(AX5="Molde Kommune",'Tellere og summer'!$A$27,IF(AX5="Rørlegger 1",'Tellere og summer'!$A$37,IF(AX5="TietoEVRY",'Tellere og summer'!$A$47,IF(AX5="Danielsen å i",'Tellere og summer'!$A$57,IF(AX5="Panorama Turkeys",'Tellere og summer'!$A$67,IF(AX5="Team Fuglset",'Tellere og summer'!$A$77,IF(AX5="Istad Strikers",'Tellere og summer'!$A$87,IF(AX5="Ytre Bowlinglag",'Tellere og summer'!$A$97,"NA")))))))))) -> Steinar Småge | AX12: 144 | AY12: 136 | AZ12: 103 | BA12: =SUM(AX12:AZ12) -> 383 | BC12: =IF(BD5="Normo Slipestasjon",'Tellere og summer'!$A$7,IF(BD5="Glamox",'Tellere og summer'!$A$17,IF(BD5="Molde Kommune",'Tellere og summer'!$A$27,IF(BD5="Rørlegger 1",'Tellere og summer'!$A$37,IF(BD5="TietoEVRY",'Tellere og summer'!$A$47,IF(BD5="Danielsen å i",'Tellere og summer'!$A$57,IF(BD5="Panorama Turkeys",'Tellere og summer'!$A$67,IF(BD5="Team Fuglset",'Tellere og summer'!$A$77,IF(BD5="Istad Strikers",'Tellere og summer'!$A$87,IF(BD5="Ytre Bowlinglag",'Tellere og summer'!$A$97,"NA")))))))))) -> Preben Solem | BD12: 117 | BE12: 109 | BF12: 103 | BG12: =SUM(BD12:BF12) -> 329
A13: =IF(B5="Normo Slipestasjon",'Tellere og summer'!$A$8,IF(B5="Glamox",'Tellere og summer'!$A$18,IF(B5="Molde Kommune",'Tellere og summer'!$A$28,IF(B5="Rørlegger 1",'Tellere og summer'!$A$38,IF(B5="TietoEVRY",'Tellere og summer'!$A$48,IF(B5="Danielsen å i",'Tellere og summer'!$A$58,IF(B5="Panorama Turkeys",'Tellere og summer'!$A$68,IF(B5="Team Fuglset",'Tellere og summer'!$A$78,IF(B5="Istad Strikers",'Tellere og summer'!$A$88,IF(B5="Ytre Bowlinglag",'Tellere og summer'!$A$98,"NA")))))))))) -> 0 | E13: =SUM(B13:D13) -> 0 | G13: =IF(H5="Normo Slipestasjon",'Tellere og summer'!$A$8,IF(H5="Glamox",'Tellere og summer'!$A$18,IF(H5="Molde Kommune",'Tellere og summer'!$A$28,IF(H5="Rørlegger 1",'Tellere og summer'!$A$38,IF(H5="TietoEVRY",'Tellere og summer'!$A$48,IF(H5="Danielsen å i",'Tellere og summer'!$A$58,IF(H5="Panorama Turkeys",'Tellere og summer'!$A$68,IF(H5="Team Fuglset",'Tellere og summer'!$A$78,IF(H5="Istad Strikers",'Tellere og summer'!$A$88,IF(H5="Ytre Bowlinglag",'Tellere og summer'!$A$98,"NA")))))))))) -> 0 | K13: =SUM(H13:J13) -> 0 | M13: =IF(N5="Normo Slipestasjon",'Tellere og summer'!$A$8,IF(N5="Glamox",'Tellere og summer'!$A$18,IF(N5="Molde Kommune",'Tellere og summer'!$A$28,IF(N5="Rørlegger 1",'Tellere og summer'!$A$38,IF(N5="TietoEVRY",'Tellere og summer'!$A$48,IF(N5="Danielsen å i",'Tellere og summer'!$A$58,IF(N5="Panorama Turkeys",'Tellere og summer'!$A$68,IF(N5="Team Fuglset",'Tellere og summer'!$A$78,IF(N5="Istad Strikers",'Tellere og summer'!$A$88,IF(N5="Ytre Bowlinglag",'Tellere og summer'!$A$98,"NA")))))))))) -> 0 | Q13: =SUM(N13:P13) -> 0 | S13: =IF(T5="Normo Slipestasjon",'Tellere og summer'!$A$8,IF(T5="Glamox",'Tellere og summer'!$A$18,IF(T5="Molde Kommune",'Tellere og summer'!$A$28,IF(T5="Rørlegger 1",'Tellere og summer'!$A$38,IF(T5="TietoEVRY",'Tellere og summer'!$A$48,IF(T5="Danielsen å i",'Tellere og summer'!$A$58,IF(T5="Panorama Turkeys",'Tellere og summer'!$A$68,IF(T5="Team Fuglset",'Tellere og summer'!$A$78,IF(T5="Istad Strikers",'Tellere og summer'!$A$88,IF(T5="Ytre Bowlinglag",'Tellere og summer'!$A$98,"NA")))))))))) -> Stian Teistholmen | W13: =SUM(T13:V13) -> 0 | Y13: =IF(Z5="Normo Slipestasjon",'Tellere og summer'!$A$8,IF(Z5="Glamox",'Tellere og summer'!$A$18,IF(Z5="Molde Kommune",'Tellere og summer'!$A$28,IF(Z5="Rørlegger 1",'Tellere og summer'!$A$38,IF(Z5="TietoEVRY",'Tellere og summer'!$A$48,IF(Z5="Danielsen å i",'Tellere og summer'!$A$58,IF(Z5="Panorama Turkeys",'Tellere og summer'!$A$68,IF(Z5="Team Fuglset",'Tellere og summer'!$A$78,IF(Z5="Istad Strikers",'Tellere og summer'!$A$88,IF(Z5="Ytre Bowlinglag",'Tellere og summer'!$A$98,"NA")))))))))) -> Kjetil Oterholm | AC13: =SUM(Z13:AB13) -> 0 | AE13: =IF(AF5="Normo Slipestasjon",'Tellere og summer'!$A$8,IF(AF5="Glamox",'Tellere og summer'!$A$18,IF(AF5="Molde Kommune",'Tellere og summer'!$A$28,IF(AF5="Rørlegger 1",'Tellere og summer'!$A$38,IF(AF5="TietoEVRY",'Tellere og summer'!$A$48,IF(AF5="Danielsen å i",'Tellere og summer'!$A$58,IF(AF5="Panorama Turkeys",'Tellere og summer'!$A$68,IF(AF5="Team Fuglset",'Tellere og summer'!$A$78,IF(AF5="Istad Strikers",'Tellere og summer'!$A$88,IF(AF5="Ytre Bowlinglag",'Tellere og summer'!$A$98,"NA")))))))))) -> 0 | AI13: =SUM(AF13:AH13) -> 0 | AK13: =IF(AL5="Normo Slipestasjon",'Tellere og summer'!$A$8,IF(AL5="Glamox",'Tellere og summer'!$A$18,IF(AL5="Molde Kommune",'Tellere og summer'!$A$28,IF(AL5="Rørlegger 1",'Tellere og summer'!$A$38,IF(AL5="TietoEVRY",'Tellere og summer'!$A$48,IF(AL5="Danielsen å i",'Tellere og summer'!$A$58,IF(AL5="Panorama Turkeys",'Tellere og summer'!$A$68,IF(AL5="Team Fuglset",'Tellere og summer'!$A$78,IF(AL5="Istad Strikers",'Tellere og summer'!$A$88,IF(AL5="Ytre Bowlinglag",'Tellere og summer'!$A$98,"NA")))))))))) -> Morten Strøm | AO13: =SUM(AL13:AN13) -> 0 | AQ13: =IF(AR5="Normo Slipestasjon",'Tellere og summer'!$A$8,IF(AR5="Glamox",'Tellere og summer'!$A$18,IF(AR5="Molde Kommune",'Tellere og summer'!$A$28,IF(AR5="Rørlegger 1",'Tellere og summer'!$A$38,IF(AR5="TietoEVRY",'Tellere og summer'!$A$48,IF(AR5="Danielsen å i",'Tellere og summer'!$A$58,IF(AR5="Panorama Turkeys",'Tellere og summer'!$A$68,IF(AR5="Team Fuglset",'Tellere og summer'!$A$78,IF(AR5="Istad Strikers",'Tellere og summer'!$A$88,IF(AR5="Ytre Bowlinglag",'Tellere og summer'!$A$98,"NA")))))))))) -> Tonje og Joakim Risnes | AU13: =SUM(AR13:AT13) -> 0 | AW13: =IF(AX5="Normo Slipestasjon",'Tellere og summer'!$A$8,IF(AX5="Glamox",'Tellere og summer'!$A$18,IF(AX5="Molde Kommune",'Tellere og summer'!$A$28,IF(AX5="Rørlegger 1",'Tellere og summer'!$A$38,IF(AX5="TietoEVRY",'Tellere og summer'!$A$48,IF(AX5="Danielsen å i",'Tellere og summer'!$A$58,IF(AX5="Panorama Turkeys",'Tellere og summer'!$A$68,IF(AX5="Team Fuglset",'Tellere og summer'!$A$78,IF(AX5="Istad Strikers",'Tellere og summer'!$A$88,IF(AX5="Ytre Bowlinglag",'Tellere og summer'!$A$98,"NA")))))))))) -> 0 | BA13: =SUM(AX13:AZ13) -> 0 | BC13: =IF(BD5="Normo Slipestasjon",'Tellere og summer'!$A$8,IF(BD5="Glamox",'Tellere og summer'!$A$18,IF(BD5="Molde Kommune",'Tellere og summer'!$A$28,IF(BD5="Rørlegger 1",'Tellere og summer'!$A$38,IF(BD5="TietoEVRY",'Tellere og summer'!$A$48,IF(BD5="Danielsen å i",'Tellere og summer'!$A$58,IF(BD5="Panorama Turkeys",'Tellere og summer'!$A$68,IF(BD5="Team Fuglset",'Tellere og summer'!$A$78,IF(BD5="Istad Strikers",'Tellere og summer'!$A$88,IF(BD5="Ytre Bowlinglag",'Tellere og summer'!$A$98,"NA")))))))))) -> Bjørn Einar Myklebust | BD13: 170 | BE13: 134 | BF13: 204 | BG13: =SUM(BD13:BF13) -> 508
A14: =IF(B5="Normo Slipestasjon",'Tellere og summer'!$A$9,IF(B5="Glamox",'Tellere og summer'!$A$19,IF(B5="Molde Kommune",'Tellere og summer'!$A$29,IF(B5="Rørlegger 1",'Tellere og summer'!$A$39,IF(B5="TietoEVRY",'Tellere og summer'!$A$49,IF(B5="Danielsen å i",'Tellere og summer'!$A$59,IF(B5="Panorama Turkeys",'Tellere og summer'!$A$69,IF(B5="Team Fuglset",'Tellere og summer'!$A$79,IF(B5="Istad Strikers",'Tellere og summer'!$A$89,IF(B5="Ytre Bowlinglag",'Tellere og summer'!$A$99,"NA")))))))))) -> 0 | E14: =SUM(B14:D14) -> 0 | G14: =IF(H5="Normo Slipestasjon",'Tellere og summer'!$A$9,IF(H5="Glamox",'Tellere og summer'!$A$19,IF(H5="Molde Kommune",'Tellere og summer'!$A$29,IF(H5="Rørlegger 1",'Tellere og summer'!$A$39,IF(H5="TietoEVRY",'Tellere og summer'!$A$49,IF(H5="Danielsen å i",'Tellere og summer'!$A$59,IF(H5="Panorama Turkeys",'Tellere og summer'!$A$69,IF(H5="Team Fuglset",'Tellere og summer'!$A$79,IF(H5="Istad Strikers",'Tellere og summer'!$A$89,IF(H5="Ytre Bowlinglag",'Tellere og summer'!$A$99,"NA")))))))))) -> 0 | K14: =SUM(H14:J14) -> 0 | M14: =IF(N5="Normo Slipestasjon",'Tellere og summer'!$A$9,IF(N5="Glamox",'Tellere og summer'!$A$19,IF(N5="Molde Kommune",'Tellere og summer'!$A$29,IF(N5="Rørlegger 1",'Tellere og summer'!$A$39,IF(N5="TietoEVRY",'Tellere og summer'!$A$49,IF(N5="Danielsen å i",'Tellere og summer'!$A$59,IF(N5="Panorama Turkeys",'Tellere og summer'!$A$69,IF(N5="Team Fuglset",'Tellere og summer'!$A$79,IF(N5="Istad Strikers",'Tellere og summer'!$A$89,IF(N5="Ytre Bowlinglag",'Tellere og summer'!$A$99,"NA")))))))))) -> 0 | Q14: =SUM(N14:P14) -> 0 | S14: =IF(T5="Normo Slipestasjon",'Tellere og summer'!$A$9,IF(T5="Glamox",'Tellere og summer'!$A$19,IF(T5="Molde Kommune",'Tellere og summer'!$A$29,IF(T5="Rørlegger 1",'Tellere og summer'!$A$39,IF(T5="TietoEVRY",'Tellere og summer'!$A$49,IF(T5="Danielsen å i",'Tellere og summer'!$A$59,IF(T5="Panorama Turkeys",'Tellere og summer'!$A$69,IF(T5="Team Fuglset",'Tellere og summer'!$A$79,IF(T5="Istad Strikers",'Tellere og summer'!$A$89,IF(T5="Ytre Bowlinglag",'Tellere og summer'!$A$99,"NA")))))))))) -> For mange spillere | W14: =SUM(T14:V14) -> 0 | Y14: =IF(Z5="Normo Slipestasjon",'Tellere og summer'!$A$9,IF(Z5="Glamox",'Tellere og summer'!$A$19,IF(Z5="Molde Kommune",'Tellere og summer'!$A$29,IF(Z5="Rørlegger 1",'Tellere og summer'!$A$39,IF(Z5="TietoEVRY",'Tellere og summer'!$A$49,IF(Z5="Danielsen å i",'Tellere og summer'!$A$59,IF(Z5="Panorama Turkeys",'Tellere og summer'!$A$69,IF(Z5="Team Fuglset",'Tellere og summer'!$A$79,IF(Z5="Istad Strikers",'Tellere og summer'!$A$89,IF(Z5="Ytre Bowlinglag",'Tellere og summer'!$A$99,"NA")))))))))) -> Mohammed Abdalgoder | AC14: =SUM(Z14:AB14) -> 0 | AE14: =IF(AF5="Normo Slipestasjon",'Tellere og summer'!$A$9,IF(AF5="Glamox",'Tellere og summer'!$A$19,IF(AF5="Molde Kommune",'Tellere og summer'!$A$29,IF(AF5="Rørlegger 1",'Tellere og summer'!$A$39,IF(AF5="TietoEVRY",'Tellere og summer'!$A$49,IF(AF5="Danielsen å i",'Tellere og summer'!$A$59,IF(AF5="Panorama Turkeys",'Tellere og summer'!$A$69,IF(AF5="Team Fuglset",'Tellere og summer'!$A$79,IF(AF5="Istad Strikers",'Tellere og summer'!$A$89,IF(AF5="Ytre Bowlinglag",'Tellere og summer'!$A$99,"NA")))))))))) -> 0 | AI14: =SUM(AF14:AH14) -> 0 | AK14: =IF(AL5="Normo Slipestasjon",'Tellere og summer'!$A$9,IF(AL5="Glamox",'Tellere og summer'!$A$19,IF(AL5="Molde Kommune",'Tellere og summer'!$A$29,IF(AL5="Rørlegger 1",'Tellere og summer'!$A$39,IF(AL5="TietoEVRY",'Tellere og summer'!$A$49,IF(AL5="Danielsen å i",'Tellere og summer'!$A$59,IF(AL5="Panorama Turkeys",'Tellere og summer'!$A$69,IF(AL5="Team Fuglset",'Tellere og summer'!$A$79,IF(AL5="Istad Strikers",'Tellere og summer'!$A$89,IF(AL5="Ytre Bowlinglag",'Tellere og summer'!$A$99,"NA")))))))))) -> Simen K. Roaldsøy | AO14: =SUM(AL14:AN14) -> 0 | AQ14: =IF(AR5="Normo Slipestasjon",'Tellere og summer'!$A$9,IF(AR5="Glamox",'Tellere og summer'!$A$19,IF(AR5="Molde Kommune",'Tellere og summer'!$A$29,IF(AR5="Rørlegger 1",'Tellere og summer'!$A$39,IF(AR5="TietoEVRY",'Tellere og summer'!$A$49,IF(AR5="Danielsen å i",'Tellere og summer'!$A$59,IF(AR5="Panorama Turkeys",'Tellere og summer'!$A$69,IF(AR5="Team Fuglset",'Tellere og summer'!$A$79,IF(AR5="Istad Strikers",'Tellere og summer'!$A$89,IF(AR5="Ytre Bowlinglag",'Tellere og summer'!$A$99,"NA")))))))))) -> Cato Holen og Mats Larsen | AU14: =SUM(AR14:AT14) -> 0 | AW14: =IF(AX5="Normo Slipestasjon",'Tellere og summer'!$A$9,IF(AX5="Glamox",'Tellere og summer'!$A$19,IF(AX5="Molde Kommune",'Tellere og summer'!$A$29,IF(AX5="Rørlegger 1",'Tellere og summer'!$A$39,IF(AX5="TietoEVRY",'Tellere og summer'!$A$49,IF(AX5="Danielsen å i",'Tellere og summer'!$A$59,IF(AX5="Panorama Turkeys",'Tellere og summer'!$A$69,IF(AX5="Team Fuglset",'Tellere og summer'!$A$79,IF(AX5="Istad Strikers",'Tellere og summer'!$A$89,IF(AX5="Ytre Bowlinglag",'Tellere og summer'!$A$99,"NA")))))))))) -> 0 | BA14: =SUM(AX14:AZ14) -> 0 | BC14: =IF(BD5="Normo Slipestasjon",'Tellere og summer'!$A$9,IF(BD5="Glamox",'Tellere og summer'!$A$19,IF(BD5="Molde Kommune",'Tellere og summer'!$A$29,IF(BD5="Rørlegger 1",'Tellere og summer'!$A$39,IF(BD5="TietoEVRY",'Tellere og summer'!$A$49,IF(BD5="Danielsen å i",'Tellere og summer'!$A$59,IF(BD5="Panorama Turkeys",'Tellere og summer'!$A$69,IF(BD5="Team Fuglset",'Tellere og summer'!$A$79,IF(BD5="Istad Strikers",'Tellere og summer'!$A$89,IF(BD5="Ytre Bowlinglag",'Tellere og summer'!$A$99,"NA")))))))))) -> 0 | BG14: =SUM(BD14:BF14) -> 0
A15: HCP | B15: =HCP!B2 -> 114 | C15: =HCP!B2 -> 114 | D15: =HCP!B2 -> 114 | E15: =SUM(B15:D15) -> 342 | G15: HCP | H15: 0 | I15: 0 | J15: 0 | K15: =SUM(H15:J15) -> 0 | M15: HCP | N15: =HCP!$B$6 -> 96 | O15: =HCP!$B$6 -> 96 | P15: =HCP!$B$6 -> 96 | Q15: =SUM(N15:P15) -> 288 | S15: HCP | T15: =HCP!$B$8 -> 93 | U15: =HCP!B8 -> 93 | V15: =HCP!B8 -> 93 | W15: =SUM(T15:V15) -> 279 | Y15: HCP | Z15: =HCP!$B$10 -> 96 | AA15: =HCP!B10 -> 96 | AB15: =HCP!B10 -> 96 | AC15: =SUM(Z15:AB15) -> 288 | AE15: HCP | AF15: =HCP!$B$12 -> 18 | AG15: =HCP!$B$12 -> 18 | AH15: =HCP!$B$12 -> 18 | AI15: =SUM(AF15:AH15) -> 54 | AK15: HCP | AL15: =HCP!$B$14 -> 60 | AM15: =HCP!$B$14 -> 60 | AN15: =HCP!$B$14 -> 60 | AO15: =SUM(AL15:AN15) -> 180 | AQ15: HCP | AR15: =HCP!$B$18 -> 120 | AS15: =HCP!$B$18 -> 120 | AT15: =HCP!$B$18 -> 120 | AU15: =SUM(AR15:AT15) -> 360 | AW15: HCP | AX15: =HCP!$B$20 -> 66 | AY15: =HCP!$B$20 -> 66 | AZ15: =HCP!$B$20 -> 66 | BA15: =SUM(AX15:AZ15) -> 198 | BC15: HCP | BD15: =HCP!$B$16 -> 54 | BE15: =HCP!$B$16 -> 54 | BF15: =HCP!$B$16 -> 54 | BG15: =SUM(BD15:BF15) -> 162
A16: Sum | B16: =SUM(B8:B15) -> 470 | C16: =SUM(C8:C15) -> 594 | D16: =SUM(D8:D15) -> 568 | E16: =SUM(B16:D16) -> 1632 | H16: =SUM(H8:H15) -> 571 | I16: =SUM(I8:I15) -> 617 | J16: =SUM(J8:J15) -> 589 | K16: =SUM(H16:J16) -> 1777 | N16: =SUM(N8:N15) -> 521 | O16: =SUM(O8:O15) -> 505 | P16: =SUM(P8:P15) -> 560 | Q16: =SUM(N16:P16) -> 1586 | T16: =SUM(T8:T15) -> 449 | U16: =SUM(U8:U15) -> 489 | V16: =SUM(V8:V15) -> 544 | W16: =SUM(T16:V16) -> 1482 | Z16: =SUM(Z8:Z15) -> 96 | AA16: =SUM(AA8:AA15) -> 96 | AB16: =SUM(AB8:AB15) -> 230 | AC16: =SUM(Z16:AB16) -> 422 | AF16: =SUM(AF8:AF15) -> 570 | AG16: =SUM(AG8:AG15) -> 550 | AH16: =SUM(AH8:AH15) -> 594 | AI16: =SUM(AF16:AH16) -> 1714 | AL16: =SUM(AL8:AL15) -> 413 | AM16: =SUM(AM8:AM15) -> 467 | AN16: =SUM(AN8:AN15) -> 430 | AO16: =SUM(AL16:AN16) -> 1310 | AR16: =SUM(AR8:AR15) -> 566 | AS16: =SUM(AS8:AS15) -> 488 | AT16: =SUM(AT8:AT15) -> 481 | AU16: =SUM(AR16:AT16) -> 1535 | AX16: =SUM(AX8:AX15) -> 516 | AY16: =SUM(AY8:AY15) -> 551 | AZ16: =SUM(AZ8:AZ15) -> 436 | BA16: =SUM(AX16:AZ16) -> 1503 | BD16: =SUM(BD8:BD15) -> 495 | BE16: =SUM(BE8:BE15) -> 443 | BF16: =SUM(BF8:BF15) -> 514 | BG16: =SUM(BD16:BF16) -> 1452
A17: Poeng | B17: =IF(E16-E15=0,"0",IF(B16>H16,1,IF(B16=H16,"0,5",0))) -> 0 | C17: =IF(E16-E15=0,"0",IF(C16>I16,1,IF(C16=I16,"0,5",0))) -> 0 | D17: =IF(E16-E15=0,"0",IF(D16>J16,1,IF(D16=J16,"0,5",0))) -> 0 | E17: =IF(E16-E15=0,"0",IF(E16>K16,1,IF(E16=K16,"0,5",0))) -> 0 | H17: =IF(K16-K15=0,"0",IF(H16>B16,1,IF(H16=B16,"0,5",0))) -> 1 | I17: =IF(K16-K15=0,"0",IF(I16>C16,1,IF(I16=C16,"0,5",0))) -> 1 | J17: =IF(K16-K15=0,"0",IF(J16>D16,1,IF(J16=D16,"0,5",0))) -> 1 | K17: =IF(K16-K15=0,"0",IF(K16>E16,1,IF(K16=E16,"0,5",0))) -> 1 | N17: =IF(Q16-Q15=0,"0",IF(N16>T16,1,IF(N16=T16,"0,5",0))) -> 1 | O17: =IF(Q16-Q15=0,"0",IF(O16>U16,1,IF(O16=U16,"0,5",0))) -> 1 | P17: =IF(Q16-Q15=0,"0",IF(P16>V16,1,IF(P16=V16,"0,5",0))) -> 1 | Q17: =IF(Q16-Q15=0,"0",IF(Q16>W16,1,IF(Q16=W16,"0,5",0))) -> 1 | T17: =IF(W16-W15=0,"0",IF(T16>N16,1,IF(T16=N16,"0,5",0))) -> 0 | U17: =IF(W16-W15=0,"0",IF(U16>O16,1,IF(U16=O16,"0,5",0))) -> 0 | V17: =IF(W16-W15=0,"0",IF(V16>P16,1,IF(V16=P16,"0,5",0))) -> 0 | W17: =IF(W16-W15=0,"0",IF(W16>Q16,1,IF(W16=Q16,"0,5",0))) -> 0 | Z17: =IF(AC16-AC15=0,"0",IF(Z16>AF16,1,IF(Z16=AF16,"0,5",0))) -> 0 | AA17: =IF(AC16-AC15=0,"0",IF(AA16>AG16,1,IF(AA16=AG16,"0,5",0))) -> 0 | AB17: =IF(AC16-AC15=0,"0",IF(AB16>AH16,1,IF(AB16=AH16,"0,5",0))) -> 0 | AC17: =IF(AC16-AC15=0,"0",IF(AC16>AI16,1,IF(AC16=AI16,"0,5",0))) -> 0 | AF17: =IF(AI16-AI15=0,"0",IF(AF16>Z16,1,IF(AF16=Z16,"0,5",0))) -> 1 | AG17: =IF(AI16-AI15=0,"0",IF(AG16>AA16,1,IF(AG16=AA16,"0,5",0))) -> 1 | AH17: =IF(AI16-AI15=0,"0",IF(AH16>AB16,1,IF(AH16=AB16,"0,5",0))) -> 1 | AI17: =IF(AI16-AI15=0,"0",IF(AI16>AC16,1,IF(AI16=AC16,"0,5",0))) -> 1 | AL17: =IF(AO16-AO15=0,"0",IF(AL16>AR16,1,IF(AL16=AR16,"0,5",0))) -> 0 | AM17: =IF(AO16-AO15=0,"0",IF(AM16>AS16,1,IF(AM16=AS16,"0,5",0))) -> 0 | AN17: =IF(AO16-AO15=0,"0",IF(AN16>AT16,1,IF(AN16=AT16,"0,5",0))) -> 0 | AO17: =IF(AO16-AO15=0,"0",IF(AO16>AU16,1,IF(AO16=AU16,"0,5",0))) -> 0 | AR17: =IF(AU16-AU15=0,"0",IF(AR16>AL16,1,IF(AR16=AL16,"0,5",0))) -> 1 | AS17: =IF(AU16-AU15=0,"0",IF(AS16>AM16,1,IF(AS16=AM16,"0,5",0))) -> 1 | AT17: =IF(AU16-AU15=0,"0",IF(AT16>AN16,1,IF(AT16=AN16,"0,5",0))) -> 1 | AU17: =IF(AU16-AU15=0,"0",IF(AU16>AO16,1,IF(AU16=AO16,"0,5",0))) -> 1 | AX17: =IF(BA16-BA15=0,"0",IF(AX16>BD16,1,IF(AX16=BD16,"0,5",0))) -> 1 | AY17: =IF(BA16-BA15=0,"0",IF(AY16>BE16,1,IF(AY16=BE16,"0,5",0))) -> 1 | AZ17: =IF(BA16-BA15=0,"0",IF(AZ16>BF16,1,IF(AZ16=BF16,"0,5",0))) -> 0 | BA17: =IF(BA16-BA15=0,"0",IF(BA16>BG16,1,IF(BA16=BG16,"0,5",0))) -> 1 | BD17: =IF(BG16-BG15=0,"0",IF(BD16>AX16,1,IF(BD16=AX16,"0,5",0))) -> 0 | BE17: =IF(BG16-BG15=0,"0",IF(BE16>AY16,1,IF(BE16=AY16,"0,5",0))) -> 0 | BF17: =IF(BG16-BG15=0,"0",IF(BF16>AZ16,1,IF(BF16=AZ16,"0,5",0))) -> 1 | BG17: =IF(BG16-BG15=0,"0",IF(BG16>BA16,1,IF(BG16=BA16,"0,5",0))) -> 0
D18: Poeng: | E18: =SUM(B17:E17) -> 0 | J18: Poeng: | K18: =SUM(H17:K17) -> 4 | P18: Poeng: | Q18: =SUM(N17:Q17) -> 4 | V18: Poeng: | W18: =SUM(T17:W17) -> 0 | AB18: Poeng: | AC18: =SUM(Z17:AC17) -> 0 | AH18: Poeng: | AI18: =SUM(AF17:AI17) -> 4 | AN18: Poeng: | AO18: =SUM(AL17:AO17) -> 0 | AT18: Poeng: | AU18: =SUM(AR17:AU17) -> 4 | AZ18: Poeng: | BA18: =SUM(AX17:BA17) -> 3 | BF18: Poeng: | BG18: =SUM(BD17:BG17) -> 1
D19: Status | E19: =IF(E16-E15=0,"IS",IF(E18>K18,"S",IF(E18<K18,"T",IF(E18=K18,"U","0")))) -> T | J19: Status | K19: =IF(K16-K15=0,"IS",IF(K18>E18,"S",IF(K18<E18,"T",IF(K18=E18,"U","0")))) -> S | P19: Status | Q19: =IF(Q16-Q15=0,"IS",IF(Q18>W18,"S",IF(Q18<W18,"T",IF(Q18=W18,"U","0")))) -> S | V19: Status | W19: =IF(W16-W15=0,"IS",IF(W18>Q18,"S",IF(W18<Q18,"T",IF(W18=Q18,"U","0")))) -> T | AB19: Status | AC19: =IF(AC16-AC15=0,"IS",IF(AC18>AI18,"S",IF(AC18<AI18,"T",IF(AC18=AI18,"U","0")))) -> T | AH19: Status | AI19: =IF(AI16-AI15=0,"IS",IF(AI18>AC18,"S",IF(AI18<AC18,"T",IF(AI18=AC18,"U","0")))) -> S | AN19: Status | AO19: =IF(AO16-AO15=0,"IS",IF(AO18>AU18,"S",IF(AO18<AU18,"T",IF(AO18=AU18,"U","0")))) -> T | AT19: Status | AU19: =IF(AU16-AU15=0,"IS",IF(AU18>AO18,"S",IF(AU18<AO18,"T",IF(AU18=AO18,"U","0")))) -> S | AZ19: Status | BA19: =IF(BA16-BA15=0,"IS",IF(BA18>BG18,"S",IF(BA18<BG18,"T",IF(BA18=BG18,"U","0")))) -> S | BF19: Status | BG19: =IF(BG16-BG15=0,"IS",IF(BG18>BA18,"S",IF(BG18<BA18,"T",IF(BG18=BA18,"U","0")))) -> T
A21: Runde 2
A22: Kamp 6 | M22: Kamp 7 | Y22: Kamp 8 | AK22: Kamp 9 | AW22: Kamp 10
A23: Hjemmelag: | B23: Danielsen å i | G23: Bortelag: | H23: Ytre Bowlinglag | M23: Hjemmelag: | N23: Glamox | S23: Bortelag: | T23: Molde Kommune | Y23: Hjemmelag: | Z23: Normo Slipestasjon | AE23: Bortelag: | AF23: TietoEVRY | AK23: Hjemmelag: | AL23: Rørlegger 1 | AQ23: Bortelag: | AR23: Istad Strikers | AW23: Hjemmelag: | AX23: Panorama turkeys | BC23: Bortelag: | BD23: Team Fuglset
A25: Navn på spiller | B25: Omgang 1 | C25: Omgang 2 | D25: Omgang 3 | E25: Sum | G25: Navn på spiller | H25: Omgang 1 | I25: Omgang 2 | J25: Omgang 3 | K25: Sum | M25: Navn på spiller | N25: Omgang 1 | O25: Omgang 2 | P25: Omgang 3 | Q25: Sum | S25: Navn på spiller | T25: Omgang 1 | U25: Omgang 2 | V25: Omgang 3 | W25: Sum | Y25: Navn på spiller | Z25: Omgang 1 | AA25: Omgang 2 | AB25: Omgang 3 | AC25: Sum | AE25: Navn på spiller | AF25: Omgang 1 | AG25: Omgang 2 | AH25: Omgang 3 | AI25: Sum | AK25: Navn på spiller | AL25: Omgang 1 | AM25: Omgang 2 | AN25: Omgang 3 | AO25: Sum | AQ25: Navn på spiller | AR25: Omgang 1 | AS25: Omgang 2 | AT25: Omgang 3 | AU25: Sum | AW25: Navn på spiller | AX25: Omgang 1 | AY25: Omgang 2 | AZ25: Omgang 3 | BA25: Sum | BC25: Navn på spiller | BD25: Omgang 1 | BE25: Omgang 2 | BF25: Omgang 3 | BG25: Sum
A26: =IF(B23="Normo Slipestasjon",'Tellere og summer'!$A$3,IF(B23="Glamox",'Tellere og summer'!$A$13,IF(B23="Molde Kommune",'Tellere og summer'!$A$23,IF(B23="Rørlegger 1",'Tellere og summer'!$A$33,IF(B23="TietoEVRY",'Tellere og summer'!$A$43,IF(B23="Danielsen å i",'Tellere og summer'!$A$53,IF(B23="Panorama Turkeys",'Tellere og summer'!$A$63,IF(B23="Team Fuglset",'Tellere og summer'!$A$73,IF(B23="Istad Strikers",'Tellere og summer'!$A$83,IF(B23="Ytre Bowlinglag",'Tellere og summer'!$A$93,"NA")))))))))) -> Kjell Thorsrudhagen | B26: 149 | D26: 155 | E26: =SUM(B26:D26) -> 304 | G26: =IF(H23="Normo Slipestasjon",'Tellere og summer'!$A$3,IF(H23="Glamox",'Tellere og summer'!$A$13,IF(H23="Molde Kommune",'Tellere og summer'!$A$23,IF(H23="Rørlegger 1",'Tellere og summer'!$A$33,IF(H23="TietoEVRY",'Tellere og summer'!$A$43,IF(H23="Danielsen å i",'Tellere og summer'!$A$53,IF(H23="Panorama Turkeys",'Tellere og summer'!$A$63,IF(H23="Team Fuglset",'Tellere og summer'!$A$73,IF(H23="Istad Strikers",'Tellere og summer'!$A$83,IF(H23="Ytre Bowlinglag",'Tellere og summer'!$A$93,"NA")))))))))) -> Amund Vaagen | H26: 179 | I26: 169 | J26: 192 | K26: =SUM(H26:J26) -> 540 | M26: =IF(N23="Normo Slipestasjon",'Tellere og summer'!$A$3,IF(N23="Glamox",'Tellere og summer'!$A$13,IF(N23="Molde Kommune",'Tellere og summer'!$A$23,IF(N23="Rørlegger 1",'Tellere og summer'!$A$33,IF(N23="TietoEVRY",'Tellere og summer'!$A$43,IF(N23="Danielsen å i",'Tellere og summer'!$A$53,IF(N23="Panorama Turkeys",'Tellere og summer'!$A$63,IF(N23="Team Fuglset",'Tellere og summer'!$A$73,IF(N23="Istad Strikers",'Tellere og summer'!$A$83,IF(N23="Ytre Bowlinglag",'Tellere og summer'!$A$93,"NA")))))))))) -> Paul Boyle | N26: 164 | O26: 151 | P26: 168 | Q26: =SUM(N26:P26) -> 483 | S26: =IF(T23="Normo Slipestasjon",'Tellere og summer'!$A$3,IF(T23="Glamox",'Tellere og summer'!$A$13,IF(T23="Molde Kommune",'Tellere og summer'!$A$23,IF(T23="Rørlegger 1",'Tellere og summer'!$A$33,IF(T23="TietoEVRY",'Tellere og summer'!$A$43,IF(T23="Danielsen å i",'Tellere og summer'!$A$53,IF(T23="Panorama Turkeys",'Tellere og summer'!$A$63,IF(T23="Team Fuglset",'Tellere og summer'!$A$73,IF(T23="Istad Strikers",'Tellere og summer'!$A$83,IF(T23="Ytre Bowlinglag",'Tellere og summer'!$A$93,"NA")))))))))) -> Gerd Norunn Nygård | V26: 109 | W26: =SUM(T26:V26) -> 109 | Y26: =IF(Z23="Normo Slipestasjon",'Tellere og summer'!$A$3,IF(Z23="Glamox",'Tellere og summer'!$A$13,IF(Z23="Molde Kommune",'Tellere og summer'!$A$23,IF(Z23="Rørlegger 1",'Tellere og summer'!$A$33,IF(Z23="TietoEVRY",'Tellere og summer'!$A$43,IF(Z23="Danielsen å i",'Tellere og summer'!$A$53,IF(Z23="Panorama Turkeys",'Tellere og summer'!$A$63,IF(Z23="Team Fuglset",'Tellere og summer'!$A$73,IF(Z23="Istad Strikers",'Tellere og summer'!$A$83,IF(Z23="Ytre Bowlinglag",'Tellere og summer'!$A$93,"NA")))))))))) -> Asbjørn Toft | Z26: 164 | AA26: 147 | AB26: 121 | AC26: =SUM(Z26:AB26) -> 432 | AE26: =IF(AF23="Normo Slipestasjon",'Tellere og summer'!$A$3,IF(AF23="Glamox",'Tellere og summer'!$A$13,IF(AF23="Molde Kommune",'Tellere og summer'!$A$23,IF(AF23="Rørlegger 1",'Tellere og summer'!$A$33,IF(AF23="TietoEVRY",'Tellere og summer'!$A$43,IF(AF23="Danielsen å i",'Tellere og summer'!$A$53,IF(AF23="Panorama Turkeys",'Tellere og summer'!$A$63,IF(AF23="Team Fuglset",'Tellere og summer'!$A$73,IF(AF23="Istad Strikers",'Tellere og summer'!$A$83,IF(AF23="Ytre Bowlinglag",'Tellere og summer'!$A$93,"NA")))))))))) -> Svein Erik Jenset | AI26: =SUM(AF26:AH26) -> 0 | AK26: =IF(AL23="Normo Slipestasjon",'Tellere og summer'!$A$3,IF(AL23="Glamox",'Tellere og summer'!$A$13,IF(AL23="Molde Kommune",'Tellere og summer'!$A$23,IF(AL23="Rørlegger 1",'Tellere og summer'!$A$33,IF(AL23="TietoEVRY",'Tellere og summer'!$A$43,IF(AL23="Danielsen å i",'Tellere og summer'!$A$53,IF(AL23="Panorama Turkeys",'Tellere og summer'!$A$63,IF(AL23="Team Fuglset",'Tellere og summer'!$A$73,IF(AL23="Istad Strikers",'Tellere og summer'!$A$83,IF(AL23="Ytre Bowlinglag",'Tellere og summer'!$A$93,"NA")))))))))) -> Arnfinn Lange | AL26: 104 | AM26: 129 | AN26: 139 | AO26: =SUM(AL26:AN26) -> 372 | AQ26: =IF(AR23="Normo Slipestasjon",'Tellere og summer'!$A$3,IF(AR23="Glamox",'Tellere og summer'!$A$13,IF(AR23="Molde Kommune",'Tellere og summer'!$A$23,IF(AR23="Rørlegger 1",'Tellere og summer'!$A$33,IF(AR23="TietoEVRY",'Tellere og summer'!$A$43,IF(AR23="Danielsen å i",'Tellere og summer'!$A$53,IF(AR23="Panorama Turkeys",'Tellere og summer'!$A$63,IF(AR23="Team Fuglset",'Tellere og summer'!$A$73,IF(AR23="Istad Strikers",'Tellere og summer'!$A$83,IF(AR23="Ytre Bowlinglag",'Tellere og summer'!$A$93,"NA")))))))))) -> Arne Ytterhaug | AR26: 129 | AS26: 131 | AT26: 223 | AU26: =SUM(AR26:AT26) -> 483 | AW26: =IF(AX23="Normo Slipestasjon",'Tellere og summer'!$A$3,IF(AX23="Glamox",'Tellere og summer'!$A$13,IF(AX23="Molde Kommune",'Tellere og summer'!$A$23,IF(AX23="Rørlegger 1",'Tellere og summer'!$A$33,IF(AX23="TietoEVRY",'Tellere og summer'!$A$43,IF(AX23="Danielsen å i",'Tellere og summer'!$A$53,IF(AX23="Panorama Turkeys",'Tellere og summer'!$A$63,IF(AX23="Team Fuglset",'Tellere og summer'!$A$73,IF(AX23="Istad Strikers",'Tellere og summer'!$A$83,IF(AX23="Ytre Bowlinglag",'Tellere og summer'!$A$93,"NA")))))))))) -> Martin Aarø | AX26: 181 | AY26: 190 | AZ26: 235 | BA26: =SUM(AX26:AZ26) -> 606 | BC26: =IF(BD23="Normo Slipestasjon",'Tellere og summer'!$A$3,IF(BD23="Glamox",'Tellere og summer'!$A$13,IF(BD23="Molde Kommune",'Tellere og summer'!$A$23,IF(BD23="Rørlegger 1",'Tellere og summer'!$A$33,IF(BD23="TietoEVRY",'Tellere og summer'!$A$43,IF(BD23="Danielsen å i",'Tellere og summer'!$A$53,IF(BD23="Panorama Turkeys",'Tellere og summer'!$A$63,IF(BD23="Team Fuglset",'Tellere og summer'!$A$73,IF(BD23="Istad Strikers",'Tellere og summer'!$A$83,IF(BD23="Ytre Bowlinglag",'Tellere og summer'!$A$93,"NA")))))))))) -> Sten-Morten Kjørsvik | BD26: 158 | BE26: 123 | BF26: 155 | BG26: =SUM(BD26:BF26) -> 436
